BEGIN:VCALENDAR
VERSION:2.0
PRODID:-//Motorcycle Safari - ECPv6.13.1//NONSGML v1.0//EN
CALSCALE:GREGORIAN
METHOD:PUBLISH
X-ORIGINAL-URL:https://motorcyclesafari.com
X-WR-CALDESC:Events for Motorcycle Safari
REFRESH-INTERVAL;VALUE=DURATION:PT1H
X-Robots-Tag:noindex
X-PUBLISHED-TTL:PT1H
BEGIN:VTIMEZONE
TZID:America/Phoenix
BEGIN:STANDARD
TZOFFSETFROM:-0700
TZOFFSETTO:-0700
TZNAME:MST
DTSTART:20180101T000000
END:STANDARD
END:VTIMEZONE
BEGIN:VEVENT
DTSTART;TZID=America/Phoenix:20190503T120000
DTEND;TZID=America/Phoenix:20190505T120000
DTSTAMP:20260424T211449
CREATED:20190119T015729Z
LAST-MODIFIED:20190315T175609Z
UID:4559-1556884800-1557057600@motorcyclesafari.com
SUMMARY:15th Annual Wild In The Weeds Motorcycle Rally
DESCRIPTION:High Country Chapter of ABATE of AZ  proudly presents the 15th Annual Wild In The Weeds Old Skool Biker Rally\nFeaturing UNCHAINED on Saturday! \n \n 
URL:https://motorcyclesafari.com/event/15th-annual-wild-in-the-weeds-motorcycle-rally/
LOCATION:Punkin Center Lodge\, Bar and Grill\, Old Highway 188\, Tonto Basin\, AZ\, United States
CATEGORIES:Fund Raiser,Open To Public
END:VEVENT
BEGIN:VEVENT
DTSTART;VALUE=DATE:20190503
DTEND;VALUE=DATE:20190506
DTSTAMP:20260424T211449
CREATED:20181113T204657Z
LAST-MODIFIED:20181113T204657Z
UID:4432-1556841600-1557100799@motorcyclesafari.com
SUMMARY:2019 Alien Encounters Grand Tour
DESCRIPTION:AZ Rat Pack proudly presents the 2019 Alien Encounters Grand Tour\nA new twist on our Alien Tours!  We will be riding mostly in California to visit a flying saucer junkyard\, receive a sound healing treatment in a building designed by aliens and off through Death Valley for a night’s stay at the Atomic Inn in Beatty! \nMeet Time: 7:30 AM \nStart Location: GO AZ Motorcycles Peoria \nEnd Location:  Atomic Inn\, Beatty\, NV
URL:https://motorcyclesafari.com/event/2019-alien-encounters-grand-tour/
LOCATION:Go AZ Motorcycles\, 15500 N Hayden Road\, Scottsdale\, AZ\, 85260\, United States
END:VEVENT
BEGIN:VEVENT
DTSTART;TZID=America/Phoenix:20190418T180000
DTEND;TZID=America/Phoenix:20190418T213000
DTSTAMP:20260424T211449
CREATED:20190119T010042Z
LAST-MODIFIED:20190119T010042Z
UID:4535-1555610400-1555623000@motorcyclesafari.com
SUMMARY:OBMC Payson - Bike Nights
DESCRIPTION:The Old Bastards MC in Payson\, AZ hosts a monthly Bike Night at the Native Grill in Payson on the 3rd Thursday of the month from 6 PM \n50/50 and Open to Everyone. It is a fun time so drop by and say hello. \n \n 
URL:https://motorcyclesafari.com/event/obmc-payson-bike-nights-2019-04-18/
LOCATION:Native Grill & Wings\, 210 AZ-260\, Payson\, AZ\, 85541\, United States
CATEGORIES:Open To Public
END:VEVENT
BEGIN:VEVENT
DTSTART;TZID=America/Phoenix:20190406T180000
DTEND;TZID=America/Phoenix:20190406T210000
DTSTAMP:20260424T211449
CREATED:20190119T005532Z
LAST-MODIFIED:20190119T005623Z
UID:4512-1554573600-1554584400@motorcyclesafari.com
SUMMARY:OBMC Payson - Open House
DESCRIPTION:The Old Bastards MC in Payson hosts an Open House on the First Saturday of every month from 6 pm. \nOPEN TO EVERYONE!
URL:https://motorcyclesafari.com/event/obmc-payson-open-house-2019-04-06/
LOCATION:OBMC Payson Club House\, 109 W. Phoenix Street\, Payson\, AZ\, 85541\, United States
CATEGORIES:Open To Public
END:VEVENT
BEGIN:VEVENT
DTSTART;TZID=America/Phoenix:20190321T180000
DTEND;TZID=America/Phoenix:20190321T213000
DTSTAMP:20260424T211449
CREATED:20190119T010042Z
LAST-MODIFIED:20190119T010042Z
UID:4534-1553191200-1553203800@motorcyclesafari.com
SUMMARY:OBMC Payson - Bike Nights
DESCRIPTION:The Old Bastards MC in Payson\, AZ hosts a monthly Bike Night at the Native Grill in Payson on the 3rd Thursday of the month from 6 PM \n50/50 and Open to Everyone. It is a fun time so drop by and say hello. \n \n 
URL:https://motorcyclesafari.com/event/obmc-payson-bike-nights-2019-03-21/
LOCATION:Native Grill & Wings\, 210 AZ-260\, Payson\, AZ\, 85541\, United States
CATEGORIES:Open To Public
END:VEVENT
BEGIN:VEVENT
DTSTART;TZID=America/Phoenix:20190303T100000
DTEND;TZID=America/Phoenix:20190303T150000
DTSTAMP:20260424T211449
CREATED:20190205T173118Z
LAST-MODIFIED:20190205T173118Z
UID:4594-1551607200-1551625200@motorcyclesafari.com
SUMMARY:Riding For The Long Haul
DESCRIPTION:AMSAF Riding for the Long Haul: On March 3\, 2019\, the fifth annual “Riding for the Long Haul” event will be held at Shrine Auditorium & Convention Center\, 552 North 40th Street\, Phoenix\, Arizona from 10am to 3pm. This year’s event will feature music; the “Safety is Sexy” Fashion Show; Motorcycle Drill teams from Local Police departments; a People’s Choice Motorcycle show; vendors of motorcycles and accessories\, clothing\, and jewelry; a ride-through food tent as well as motorcycle safety demonstrations; food; photos; raffles with a Grand Prize valued at $2500.00 and much more. Oh and admission is free.
URL:https://motorcyclesafari.com/event/riding-for-the-long-haul-3/
LOCATION:Shrine Auditorium & Convention Center\, 552 NORTH 40TH STREET\, Phoenix\, AZ\, 85042\, United States
CATEGORIES:Fund Raiser,Open To Public
END:VEVENT
BEGIN:VEVENT
DTSTART;TZID=America/Phoenix:20190302T180000
DTEND;TZID=America/Phoenix:20190302T210000
DTSTAMP:20260424T211449
CREATED:20190119T005532Z
LAST-MODIFIED:20190119T005623Z
UID:4511-1551549600-1551560400@motorcyclesafari.com
SUMMARY:OBMC Payson - Open House
DESCRIPTION:The Old Bastards MC in Payson hosts an Open House on the First Saturday of every month from 6 pm. \nOPEN TO EVERYONE!
URL:https://motorcyclesafari.com/event/obmc-payson-open-house-2019-03-02/
LOCATION:OBMC Payson Club House\, 109 W. Phoenix Street\, Payson\, AZ\, 85541\, United States
CATEGORIES:Open To Public
END:VEVENT
BEGIN:VEVENT
DTSTART;TZID=America/Phoenix:20190221T180000
DTEND;TZID=America/Phoenix:20190221T213000
DTSTAMP:20260424T211449
CREATED:20190119T010042Z
LAST-MODIFIED:20190119T010042Z
UID:4533-1550772000-1550784600@motorcyclesafari.com
SUMMARY:OBMC Payson - Bike Nights
DESCRIPTION:The Old Bastards MC in Payson\, AZ hosts a monthly Bike Night at the Native Grill in Payson on the 3rd Thursday of the month from 6 PM \n50/50 and Open to Everyone. It is a fun time so drop by and say hello. \n \n 
URL:https://motorcyclesafari.com/event/obmc-payson-bike-nights-2019-02-21/
LOCATION:Native Grill & Wings\, 210 AZ-260\, Payson\, AZ\, 85541\, United States
CATEGORIES:Open To Public
END:VEVENT
BEGIN:VEVENT
DTSTART;TZID=America/Phoenix:20190219T090000
DTEND;TZID=America/Phoenix:20190219T130000
DTSTAMP:20260424T211449
CREATED:20190119T014935Z
LAST-MODIFIED:20190119T014935Z
UID:4557-1550566800-1550581200@motorcyclesafari.com
SUMMARY:Motorcycle Day At The Dome
DESCRIPTION:This year’s Motorcycle Day at the Dome will be on Tuesday\, February 19th from 9 AM to 1 PM. \nThis year we will be set-up on the Senate Lawn with Motorcycle Only Parking directly adjacent. \nWe are fighting for your rights\, your safety and your freedom. \nJoin us and meet your elected representatives and let them know where you stand on pending legislation! \nMore information is available at MotorcycleDayAtTheDome.com
URL:https://motorcyclesafari.com/event/motorcycle-day-at-the-dome-2/
LOCATION:Arizona Capitol\, 1700 W. WASHINGTON\, Phoenix\, AZ\, 85007\, United States
CATEGORIES:Open To Public
END:VEVENT
BEGIN:VEVENT
DTSTART;TZID=America/Phoenix:20190216T120000
DTEND;TZID=America/Phoenix:20190216T170000
DTSTAMP:20260424T211449
CREATED:20190210T161531Z
LAST-MODIFIED:20190210T161531Z
UID:4601-1550318400-1550336400@motorcyclesafari.com
SUMMARY:26th Annual Beach Party
DESCRIPTION:Proudly Presented by the Modified Motorcycle Association of AZ (MMA).\nThis is one o fthe best biker events in AZ. Do NOT miss it! \n \n  \n 
URL:https://motorcyclesafari.com/event/26th-annual-beach-party/
LOCATION:Jake’s Corner\,  57564 AZ-188\, Payson\, AZ\, 85541\, United States
END:VEVENT
BEGIN:VEVENT
DTSTART;TZID=America/Phoenix:20190215T180000
DTEND;TZID=America/Phoenix:20190215T200000
DTSTAMP:20260424T211449
CREATED:20190206T163407Z
LAST-MODIFIED:20190206T163407Z
UID:4597-1550253600-1550260800@motorcyclesafari.com
SUMMARY:MMAA Helmet Law Discussion
DESCRIPTION:The Mountain Motorcycle Association of Arizona (MMAA) is holding a public information meeting in Show Low at the Show Low Cafe on Friday\, February 15th at 6 PM. \nSeating is limited so get there early.
URL:https://motorcyclesafari.com/event/mmaa-helmet-law-discussion/
LOCATION:Show Low Cafe\, 480 W Deuce of Clubs\, Show Low\, AZ\, 85901\, United States
CATEGORIES:Open To Public
END:VEVENT
BEGIN:VEVENT
DTSTART;TZID=America/Phoenix:20190203T150000
DTEND;TZID=America/Phoenix:20190203T203000
DTSTAMP:20260424T211449
CREATED:20190119T010843Z
LAST-MODIFIED:20190119T010843Z
UID:4546-1549206000-1549225800@motorcyclesafari.com
SUMMARY:Old Bastards Super Bowl Sunday Party
DESCRIPTION:The Old Bastards MC is hosting a Super Bowl Party on Feb 3 from 3 PM until the game is over. \nOpen to Everyone! \nCan you think of a more fun place to watch the Super Bowl? \n \n 
URL:https://motorcyclesafari.com/event/old-bastards-super-bowl-sunday-party/
LOCATION:OBMC Payson Club House\, 109 W. Phoenix Street\, Payson\, AZ\, 85541\, United States
CATEGORIES:Open To Public
END:VEVENT
BEGIN:VEVENT
DTSTART;TZID=America/Phoenix:20190202T180000
DTEND;TZID=America/Phoenix:20190202T210000
DTSTAMP:20260424T211449
CREATED:20190119T005532Z
LAST-MODIFIED:20190119T005622Z
UID:4510-1549130400-1549141200@motorcyclesafari.com
SUMMARY:OBMC Payson - Open House
DESCRIPTION:The Old Bastards MC in Payson hosts an Open House on the First Saturday of every month from 6 pm. \nOPEN TO EVERYONE!
URL:https://motorcyclesafari.com/event/obmc-payson-open-house-2019-02-02/
LOCATION:OBMC Payson Club House\, 109 W. Phoenix Street\, Payson\, AZ\, 85541\, United States
CATEGORIES:Open To Public
END:VEVENT
BEGIN:VEVENT
DTSTART;TZID=America/Phoenix:20190126T090000
DTEND;TZID=America/Phoenix:20190126T163000
DTSTAMP:20260424T211449
CREATED:20190121T195200Z
LAST-MODIFIED:20190121T195200Z
UID:4582-1548493200-1548520200@motorcyclesafari.com
SUMMARY:4th Annual Ride for the Salt River Wild Horses
DESCRIPTION:OPEN TO THE PUBLIC – EVERYONE IS WELCOME\nStarts at American Legion Post 58 Fountain Hills.\nThis is a Motorcycle based Ride to continue the support and to bring awareness for the Salt River Wild Horses and to raise funds to help keep them PROTECTED\, WILD & FREE \nTake an unescorted Ride on a scenic route where the wild horses call home thru the Lower Salt River on Bush Highway in the Tonto National Forest \n$10.00 suggested donation \nProceeds benefit the Salt River Wild Horse Management Group to continue protecting and keeping the Salt River Wild Horses Wild & Free\nhttp://saltriverwildhorsemanagementgroup.org/\n…\nMeet up at the American Legion Post 58\n16837 E Parkview Ave\, Fountain Hills\nSign in from 9:00 to 11:00 am \nThen RIDE along the Lower Salt River in the Tonto National Forest\nEnd Party at Superstition Harley-Davidson\n2910 W. Apache Trail\nApache Junction\, Az. 85120\n11am to 4:30 pm \nApache Junction Rangers will be on site for traffic control and parking assistance\nhttp://www.ajmountedrangers.org/ \nFlag Presentation by the Apache Junction HS NJROTC\nThe National Anthem by Michelle Colby (Moonshine VooDoo Band) \nLive Music Moonshine Voodoo Band\nBEER GARDEN\nFood\, Vendors\, Educational Booths\, Raffles \nSpecial Guests:\nSimone Netherlands President for the Salt River Wild Horse Management Group \nSponsored by Superstition Harley-Davidson\nhttp://superstitionhd.com/\nhttp://www.lawtigersarizona.com/\nhttps://carnationhomecleaninginc.com/ \nPrograms in support of: Fence Maintenance\, Salt River Rescues\, Wild Horse Education\, Scientific Research\, Environmental Clean Up\, Birth Control \nIf you can’t make the ride >>>> Join us at Superstition Harley-Davidson there is no charge to get in.\n2910 West Apache Trail\nApache Junction\, AZ 85120\nEnd Party from 10:00 to 4:30 pm
URL:https://motorcyclesafari.com/event/4th-annual-ride-for-the-salt-river-wild-horses/
LOCATION:American Legion Riders Post 58\, 16837 E Parkview Ave\, Fountain Hills\, AZ\, 85268\, United States
ORGANIZER;CN="Salt River Wild Horse Management Group":MAILTO:SaltRiverHerd@Respect4Horses.com
END:VEVENT
BEGIN:VEVENT
DTSTART;TZID=America/Phoenix:20190119T160000
DTEND;TZID=America/Phoenix:20190119T200000
DTSTAMP:20260424T211449
CREATED:20190119T012809Z
LAST-MODIFIED:20190119T012809Z
UID:4552-1547913600-1547928000@motorcyclesafari.com
SUMMARY:Roadhouse 95 Bar & Grill Benefit for Stitches
DESCRIPTION:Co-Sponsored by Gate Warrior Brotherhood \n \n 
URL:https://motorcyclesafari.com/event/roadhouse-95-bar-grill-benefit-for-stitches/
LOCATION:Roadhouse – 95\, 5100 S. Highway 95\, Ft. Mohave\, AZ\, 86426\, United States
CATEGORIES:Fund Raiser
END:VEVENT
BEGIN:VEVENT
DTSTART;TZID=America/Phoenix:20190117T180000
DTEND;TZID=America/Phoenix:20190117T213000
DTSTAMP:20260424T211449
CREATED:20190119T010042Z
LAST-MODIFIED:20190119T010042Z
UID:4531-1547748000-1547760600@motorcyclesafari.com
SUMMARY:OBMC Payson - Bike Nights
DESCRIPTION:The Old Bastards MC in Payson\, AZ hosts a monthly Bike Night at the Native Grill in Payson on the 3rd Thursday of the month from 6 PM \n50/50 and Open to Everyone. It is a fun time so drop by and say hello. \n \n 
URL:https://motorcyclesafari.com/event/obmc-payson-bike-nights/
LOCATION:Native Grill & Wings\, 210 AZ-260\, Payson\, AZ\, 85541\, United States
CATEGORIES:Open To Public
END:VEVENT
BEGIN:VEVENT
DTSTART;TZID=America/Phoenix:20190105T180000
DTEND;TZID=America/Phoenix:20190105T210000
DTSTAMP:20260424T211449
CREATED:20190119T005532Z
LAST-MODIFIED:20190119T005622Z
UID:4507-1546711200-1546722000@motorcyclesafari.com
SUMMARY:OBMC Payson - Open House
DESCRIPTION:The Old Bastards MC in Payson hosts an Open House on the First Saturday of every month from 6 pm. \nOPEN TO EVERYONE!
URL:https://motorcyclesafari.com/event/obmc-payson-open-house/
LOCATION:OBMC Payson Club House\, 109 W. Phoenix Street\, Payson\, AZ\, 85541\, United States
CATEGORIES:Open To Public
END:VEVENT
BEGIN:VEVENT
DTSTART;TZID=America/Phoenix:20190101T093000
DTEND;TZID=America/Phoenix:20190101T160000
DTSTAMP:20260424T211449
CREATED:20181019T180309Z
LAST-MODIFIED:20181210T033036Z
UID:4411-1546335000-1546358400@motorcyclesafari.com
SUMMARY:Frosty Balls and Chilly Boobs 2019
DESCRIPTION:2019 FBCB Run will be held on Tuesday January 1st.\n Proudly presented by MMA of AZ\, Verde Valley District! \nAll proceeds benefit Rainbow Acres: https://www.rainbowacres.com/ \nRegistration and Bike Staging starts at 9:30 am at American Legion Post 25 in Cottonwood. \nKSU at 10:30 am for a ride through the Verde Valley including a stop at Rainbow Acres in Camp Verde. \nEnd Party starts at 1:30 pm at American Legion Post 25 in Cottonwood with Live music by The Renegade Band. \nSave the date and get out your leathers! \nUpdate: Breakfast buffet by Post 25 ladies auxiliary…starting at 9:30am…Eggs\, hash browns\, biscuits and gravy\, bacon\, sausage and toast all for just $8. Fill up before the run\, Yum!\nRun shirts available at event: short sleeve $20 and long sleeve $25. This is going to be an awesome run. All proceeds from run go to Rainbow Acres…helping adults with cognitive disabilities. See you all Tuesday January 1st.
URL:https://motorcyclesafari.com/event/frosty-balls-and-chilly-boobs-2019/
LOCATION:American Legion Post 25\, 480 S Calvary Way\, Cottonwood\, AZ\, 86322\, United States
END:VEVENT
BEGIN:VEVENT
DTSTART;TZID=America/Phoenix:20181216T070000
DTEND;TZID=America/Phoenix:20181216T170000
DTSTAMP:20260424T211449
CREATED:20181121T002010Z
LAST-MODIFIED:20181121T002345Z
UID:4448-1544943600-1544979600@motorcyclesafari.com
SUMMARY:AZCMC 7th Annual Toy Run
DESCRIPTION:Coming up on December 16th is the 7th Annual ACMC Toy Run! \nThis is our marquee charity event of the year put on by the Arizona Confederation Of Motorcycle Clubs\, in partnership with Andrea’s Closet and Walmart\, to benefit the children at the Arizona Children’s Center hospital in Phoenix AZ. \n It starts at 7 am at the Walmart on Bell Rd. and 19th Ave where we will be collecting new unwrapped toys of all kinds until noon. \n At noon\, everyone will parade ride up to the Road Runner Saloon in New River to celebrate with a live band\, food\, and drinks. \nThis is a huge event every year with media coverage and all the public invited to be involved. Even Santa will be there to take pictures with kids and help out! The kids at the AZ Children’s Center hospital need all we can pull together\, so let’s make it the biggest year for them yet! \nSpread the word and share the flier below with all your fellow Brothers\, bikers\, family and friends! Let them all know that we need EVERYONE’S help! Looking forward to seeing everyone there on this very special day! Thank you!
URL:https://motorcyclesafari.com/event/azcmc-7th-annual-toy-run/
LOCATION:Road Runner Restaurant & Saloon\,  47801 N. Black Canyon Highway\, New River\, AZ\, 85087\, United States
END:VEVENT
BEGIN:VEVENT
DTSTART;TZID=America/Phoenix:20181215T120000
DTEND;TZID=America/Phoenix:20181215T170000
DTSTAMP:20260424T211449
CREATED:20181210T171940Z
LAST-MODIFIED:20181210T171940Z
UID:4491-1544875200-1544893200@motorcyclesafari.com
SUMMARY:Toys-For-Tots Holiday Toy Drive
DESCRIPTION: KPJM 99.7 FM and the Loose Cannons MC are proud to present their Holiday Toy Drive on Saturday\, Dec\, 15\, 2018 from Noon to 5 PM at the Beeline Bowl in Payson. \nBring a new unwrapped toy. \nFood\, Drinbks\, Games for All! \nEighth Grader Andrew Mikulak will be performing. \nUgly Sweater Contest – $5 entry fee. \n 
URL:https://motorcyclesafari.com/event/toys-for-tots-holiday-toy-drive/
LOCATION:Beeline Bowl\, 1109 N Beeline Highway\, Payson\, AZ\, 85541\, United States
END:VEVENT
BEGIN:VEVENT
DTSTART;TZID=America/Phoenix:20181209T090000
DTEND;TZID=America/Phoenix:20181209T170000
DTSTAMP:20260424T211449
CREATED:20181206T191911Z
LAST-MODIFIED:20181206T191911Z
UID:4455-1544346000-1544374800@motorcyclesafari.com
SUMMARY:37th Annual Toy Parade
DESCRIPTION:Sun Riders MC Tuscon Proudly presents the 27th Annual Toy Parade To Benefit Youth Haven Ranch \n50/50 \nLive Music with Drop D \nRaffle Door / Prizes \nVendors \nRegistration – Harley Davidson Tuscon 9:00 – 11:30  – $20 Rider / $5 Passenger PLUS New Unwrapped Toy \n  \n 
URL:https://motorcyclesafari.com/event/37th-annual-toy-parade/
LOCATION:Harley-Davidson Tuscon\, 7355 N. I-10 EB. Frontage Rd.\, Tucson\, AZ\, 85743\, United States
CATEGORIES:Chairity Event,Fund Raiser
END:VEVENT
BEGIN:VEVENT
DTSTART;TZID=America/Phoenix:20181208T080000
DTEND;TZID=America/Phoenix:20181208T170000
DTSTAMP:20260424T211449
CREATED:20180217T054453Z
LAST-MODIFIED:20181120T181624Z
UID:4079-1544256000-1544288400@motorcyclesafari.com
SUMMARY:16th Annual Barbie Hensler Memorial Toy Drive
DESCRIPTION:Annual party to support local kids and families in need. \nSilent Auction \n50/50 \nRaffles and door prizes \nMusic \nMore Info. Soon.
URL:https://motorcyclesafari.com/event/16th-annual-barbie-hensler-memorial-toy-drive/
LOCATION:Buffalo Bar & Grill\, 311 S Beeline Highway\, Payson\, AZ\, 85541\, United States
END:VEVENT
BEGIN:VEVENT
DTSTART;TZID=America/Phoenix:20181201T180000
DTEND;TZID=America/Phoenix:20181201T230000
DTSTAMP:20260424T211449
CREATED:20180217T054202Z
LAST-MODIFIED:20180217T054202Z
UID:4077-1543687200-1543705200@motorcyclesafari.com
SUMMARY:Old Bastards Open House
DESCRIPTION:Old Bastards Open House at the Clubhouse in the evening. \nDetails coming soon. \n 
URL:https://motorcyclesafari.com/event/old-bastards-open-house/
LOCATION:Old Bastards MC Payson\, 109 W. Phoenix St.\, Payson\, AZ\, 85541\, United States
END:VEVENT
BEGIN:VEVENT
DTSTART;TZID=America/Phoenix:20181201T120000
DTEND;TZID=America/Phoenix:20181201T233000
DTSTAMP:20260424T211449
CREATED:20180217T054040Z
LAST-MODIFIED:20181113T234825Z
UID:4075-1543665600-1543707000@motorcyclesafari.com
SUMMARY:Rim Country District MMA Christmas Party
DESCRIPTION:RCD-MMA Christmas Party.\nAdmission is one unwrapped toy. \nNoon to midnight (book a room). Free Band. Pot luck. White Elephant.. People Games. \n 
URL:https://motorcyclesafari.com/event/rim-country-district-mma-christmas-party/
LOCATION:Punkin Center Lodge\, Bar and Grill\, Old Highway 188\, Tonto Basin\, AZ\, United States
END:VEVENT
BEGIN:VEVENT
DTSTART;TZID=America/Phoenix:20181201T120000
DTEND;TZID=America/Phoenix:20181201T170000
DTSTAMP:20260424T211449
CREATED:20180930T230149Z
LAST-MODIFIED:20180930T230423Z
UID:4353-1543665600-1543683600@motorcyclesafari.com
SUMMARY:ABATE of AZ's 3rd Annual State Social
DESCRIPTION:Membership Appreciation Celebration\n \nSaturday\, Dec. 1\, 2018 Noon -5 PM \nIncludes a Chili Cook-Off ($5 to enter. All proceeds go to the winner – Minimum prize $50). \nFree to members and kids\, $10 to non-members. \n50/50 & Raffles \nFree Food and Fun. \n 
URL:https://motorcyclesafari.com/event/abate-of-azs-3rd-annual-state-social/
LOCATION:Arizona American Italian Club\, 7509 N 12th Street\, Phoenix\, AZ\, 85020\, United States
END:VEVENT
BEGIN:VEVENT
DTSTART;TZID=America/Phoenix:20181118T120000
DTEND;TZID=America/Phoenix:20181118T170000
DTSTAMP:20260424T211449
CREATED:20181113T205748Z
LAST-MODIFIED:20181113T205748Z
UID:4435-1542542400-1542560400@motorcyclesafari.com
SUMMARY:3rd Annual Toy Tun
DESCRIPTION:Hells Angels Yavapai County cordially invite you to the 3rd Annual Toy Run & Raw Customs Grand Opening\nSee flyer for details -> \n 
URL:https://motorcyclesafari.com/event/3rd-annual-toy-tun/
LOCATION:AZ
END:VEVENT
BEGIN:VEVENT
DTSTART;TZID=America/Phoenix:20181118T100000
DTEND;TZID=America/Phoenix:20181118T233000
DTSTAMP:20260424T211449
CREATED:20181113T204140Z
LAST-MODIFIED:20181113T204140Z
UID:4428-1542535200-1542583800@motorcyclesafari.com
SUMMARY:35th Annual Birds On Bikes
DESCRIPTION:Sponsored by the Modified Motorcycle Association of Arizona (MMA)\nMeet up in West Valley or East Valley with a Turkey on your bike at 10 am (see flyer for locations). \nDeliver turkey’s to St. Vincent de Paul’s deliveries by 11:30 AM. \n2120 SD. 3rd. Drive Phoenix\, AZ 85003 \nThere is a huge need this year. Donations have been way down so please do what you can to help. \n  \n  \n 
URL:https://motorcyclesafari.com/event/35th-annual-birds-on-bikes/
LOCATION:St. Vincent de Paul\, 420 W. Watkins Road\, Phoenix\, AZ\, 85003\, United States
END:VEVENT
BEGIN:VEVENT
DTSTART;TZID=America/Phoenix:20181117T100000
DTEND;TZID=America/Phoenix:20181117T140000
DTSTAMP:20260424T211449
CREATED:20180217T053850Z
LAST-MODIFIED:20180217T053850Z
UID:4072-1542448800-1542463200@motorcyclesafari.com
SUMMARY:Birds on Bikes 2018
DESCRIPTION:Rim Country District of MMA of AZ Birds on Bike Thanksgiving Dinner Distribution Run \nMore Info. Coming \n 
URL:https://motorcyclesafari.com/event/birds-on-bikes-2018/
LOCATION:Safeway Payson\, 401 E Hwy 260\, Payson\, AZ\, 85541\, United States
CATEGORIES:Chairity Event
END:VEVENT
BEGIN:VEVENT
DTSTART;VALUE=DATE:20181102
DTEND;VALUE=DATE:20181105
DTSTAMP:20260424T211449
CREATED:20180813T155950Z
LAST-MODIFIED:20181009T221616Z
UID:4322-1541116800-1541375999@motorcyclesafari.com
SUMMARY:RIOT ON THE RIVER
DESCRIPTION:NOVEMBER 2ND-4TH 2018\nACMC Hosts Annual Riot on the River in beautiful Winkelman\, AZ. \nAll ACMC Members should NOT use this weekend for ANY OTHER EVENTS!!!!! This is the ONLY EVENT the ACMC hosts to raise money for OUR CONFEDERATION!!!! BE  Respectful of this!!!!! Any questions please contact the ACMC Board of Directors. \nPrices are $20 per person for weekend\, $30 per couple for weekend \nSheriff’s Department from up around Winkelman have said that no glass bottles are allowed in the area\, only cans are to be permitted. He requested that we post this information somewhere on the website\, along with a reminder that beverages will be available up at the event for $1.00
URL:https://motorcyclesafari.com/event/riot-on-the-river/
LOCATION:Winkelman Flats\, Winkelman\, AZ\, 85192\, United States
CATEGORIES:Fund Raiser
END:VEVENT
BEGIN:VEVENT
DTSTART;TZID=America/Phoenix:20181027T160000
DTEND;TZID=America/Phoenix:20181027T210000
DTSTAMP:20260424T211449
CREATED:20180918T200809Z
LAST-MODIFIED:20180918T200809Z
UID:4339-1540656000-1540674000@motorcyclesafari.com
SUMMARY:Bags & Trunk or Treat
DESCRIPTION:OBMC Payson Proudly presents Bags & Trunk or Treat hosted by Native Grill and Wings\nLive Music by EZ Pickins \nLots of Candy for the Kids \n50/50 – Raffles \nTrophies for the Best Decorated \nBring Can Food Donation to the gate for entry. \nTo reserve a spot for your Decorated Ride (Car\, Truck or Motorcycle) call Coors 520-850-0116 \nSaturday\, Oct 27th – 4 pm – 9 pm \nThis is a great event\, always fun with great music and great food. The OBMC are famous for their awesome raffle prizes and the 50/50 alone is worth stopping by. \nWANT A TROPHY FOR YOUR CAR\, BIKE OR TRUCK? CALL COORS! \n 
URL:https://motorcyclesafari.com/event/bags-trunk-or-treat/
LOCATION:Native Grill & Wings\, 210 AZ-260\, Payson\, AZ\, 85541\, United States
CATEGORIES:Chairity Event,Fund Raiser
END:VEVENT
END:VCALENDAR