BEGIN:VCALENDAR
VERSION:2.0
PRODID:-//Motorcycle Safari - ECPv6.13.1//NONSGML v1.0//EN
CALSCALE:GREGORIAN
METHOD:PUBLISH
X-ORIGINAL-URL:https://motorcyclesafari.com
X-WR-CALDESC:Events for Motorcycle Safari
REFRESH-INTERVAL;VALUE=DURATION:PT1H
X-Robots-Tag:noindex
X-PUBLISHED-TTL:PT1H
BEGIN:VTIMEZONE
TZID:America/Phoenix
BEGIN:STANDARD
TZOFFSETFROM:-0700
TZOFFSETTO:-0700
TZNAME:MST
DTSTART:20170101T000000
END:STANDARD
END:VTIMEZONE
BEGIN:VEVENT
DTSTART;TZID=America/Phoenix:20180217T120000
DTEND;TZID=America/Phoenix:20180217T170000
DTSTAMP:20260425T091520
CREATED:20180204T190626Z
LAST-MODIFIED:20180204T192555Z
UID:4000-1518868800-1518886800@motorcyclesafari.com
SUMMARY:Modified Motorcycle Association of Arizona's Annual Freedom Beach Party
DESCRIPTION:MMA Freedom Beach Party at Jake’s corner\, 57564 N Az Highway 188\, Payson\, Arizona. \n Live music by Frozen Fire. \nFree meal ticket for the first 200 \n$15.00 per person. \nHula Contest\, Ugly Hawaiian Shirt contest. Tattoo Contest and biker people games. \nCome on out and help support our cause to promote Motorcycle safety and awareness. \nFor More Inforamtion contact Cindy 623-695-5659 cgates0617@yahoo.com \n 
URL:https://motorcyclesafari.com/event/modified-motorcycle-association-of-arizonas-annual-freedom-beach-party/
LOCATION:Jake’s Corner\,  57564 AZ-188\, Payson\, AZ\, 85541\, United States
ORGANIZER;CN="Modified Motorcycle Association of Arizona":MAILTO:activities@mma-az.org
END:VEVENT
BEGIN:VEVENT
DTSTART;TZID=America/Phoenix:20180217T090000
DTEND;TZID=America/Phoenix:20180217T170000
DTSTAMP:20260425T091520
CREATED:20180204T194349Z
LAST-MODIFIED:20180204T194349Z
UID:4003-1518858000-1518886800@motorcyclesafari.com
SUMMARY:Run for Fisher House
DESCRIPTION:ABATE of Southern Arizona proudly presents the Annual Run for Fisher House \nHelping Military Families \nRegistration from 9:00 to 11:00 \nPoker Run: Starts at CHUY’S MESQUITE BROILER – 7101 E 22nd St\, Tucson\, AZ 85710 \nPoker Run: Ends at AMERICAN LEGION POST 68 – 4724 S 12th Avenue\, Tuscon\, AZ \nLast bike in by 3:00 PM \nFOOD AND DRINKS\, RAFFLE PRIZES\, LIVE MUSIC\, VENDORS \n50/50 RAFFLE \n 
URL:https://motorcyclesafari.com/event/run-for-fisher-house/
LOCATION:American Legion Post 68\, 4724 S 12th Avenue\, Tuscon\, AZ\, 85714\, United States
END:VEVENT
BEGIN:VEVENT
DTSTART;TZID=America/Phoenix:20180210T120000
DTEND;TZID=America/Phoenix:20180210T170000
DTSTAMP:20260425T091520
CREATED:20180204T195229Z
LAST-MODIFIED:20180204T195229Z
UID:4008-1518264000-1518282000@motorcyclesafari.com
SUMMARY:Bikers N Babes. Valentine's Party
DESCRIPTION:Bikers N Babes Valentine’s Party \nPresented by MMA-Rim Country District \nFeb.10th – 12:00 @ Bandits in Strawberry. \nBring your Valentine and play the Not so newly wed game. \n1st\, 2nd\, 3rd place prizes. \n Always fun. Come joins us. Everyone welcome.
URL:https://motorcyclesafari.com/event/bikers-n-babes-valentines-party/
LOCATION:Bandit’s Restaurant\, 5079-81 Hwy 87\, Strawberry\, AZ\, 85544\, United States
END:VEVENT
BEGIN:VEVENT
DTSTART;TZID=America/Phoenix:20171231T190000
DTEND;TZID=America/Phoenix:20180101T003000
DTSTAMP:20260425T091520
CREATED:20171221T194114Z
LAST-MODIFIED:20171221T194142Z
UID:3971-1514746800-1514766600@motorcyclesafari.com
SUMMARY:OBMC Payson New Years Clubhouse Party
DESCRIPTION:The Old Bastards Motorcycle Club Payson Chapter Invite You to Their 2018 NEW YEAR’S EVE CLUBHOUSE PARTY\n$5 Donation Requested \n7 PM to 2018 \nCHAMPAGNE TOAST AT MIDNIGHT \nDrinks – Game – Bonfire – Music – Food \n109 W. Phoenix Street\, Payson\, AZ 85541 \n 
URL:https://motorcyclesafari.com/event/obmc-payson-new-years-clubhouse-party/
LOCATION:Old Bastards MC Payson\, 109 W. Phoenix St.\, Payson\, AZ\, 85541\, United States
CATEGORIES:Fund Raiser
END:VEVENT
BEGIN:VEVENT
DTSTART;TZID=America/Phoenix:20171208T180000
DTEND;TZID=America/Phoenix:20171208T180000
DTSTAMP:20260425T091520
CREATED:20170114T183025Z
LAST-MODIFIED:20170114T183323Z
UID:3330-1512756000-1512756000@motorcyclesafari.com
SUMMARY:Hooligans MC Casa Grande Open House
DESCRIPTION:Open House 2nd Friday of the month.\nCome out and enjoy a night of Good Food\, Friends and Cold Drinks. \n129 E Cedar Ave\, Casa Grande\, Arizona 85122 \n6 PM
URL:https://motorcyclesafari.com/event/hooligans-mc-casa-grande-open-house-2017-12-08/
LOCATION:Hooligans MC Casa Grande\, 129 E Cedar Ave.\, Casa Grande\, AZ\, 85122\, United States
ATTACH;FMTTYPE=image/jpeg:https://motorcyclesafari.com/wp-content/uploads/2017/01/Hooligans-MC-Casa-Grande.jpg
END:VEVENT
BEGIN:VEVENT
DTSTART;TZID=America/Phoenix:20171110T180000
DTEND;TZID=America/Phoenix:20171110T180000
DTSTAMP:20260425T091520
CREATED:20170114T183025Z
LAST-MODIFIED:20170114T183318Z
UID:3329-1510336800-1510336800@motorcyclesafari.com
SUMMARY:Hooligans MC Casa Grande Open House
DESCRIPTION:Open House 2nd Friday of the month.\nCome out and enjoy a night of Good Food\, Friends and Cold Drinks. \n129 E Cedar Ave\, Casa Grande\, Arizona 85122 \n6 PM
URL:https://motorcyclesafari.com/event/hooligans-mc-casa-grande-open-house-2017-11-10/
LOCATION:Hooligans MC Casa Grande\, 129 E Cedar Ave.\, Casa Grande\, AZ\, 85122\, United States
ATTACH;FMTTYPE=image/jpeg:https://motorcyclesafari.com/wp-content/uploads/2017/01/Hooligans-MC-Casa-Grande.jpg
END:VEVENT
BEGIN:VEVENT
DTSTART;TZID=America/Phoenix:20171028T160000
DTEND;TZID=America/Phoenix:20171028T220000
DTSTAMP:20260425T091520
CREATED:20171003T014931Z
LAST-MODIFIED:20171015T233723Z
UID:3940-1509206400-1509228000@motorcyclesafari.com
SUMMARY:OBMC Payson Bags & Trunk or Treat Bikes & Hot Rod Show
DESCRIPTION:Hosted by the Native Grill\, Payson\, AZ\n\nSaturday\, Oct 28th \nCome on Out and Trick or Treat out of some Halloween decorated Harleys and Hots Rods. Entry is just a can food donation for the Trick Or Treaters and if you would like to enter your Ride it’s 15 Dollars and bring your own candy. Will also be taking Jacket and Blanket donations as well\, Proceeds will go out to the Holiday meals we deliver to families on our Harleys in November and December. \nThank You and God Bless. \nTrophies to Winners – Set-up at 2 PM – MUST Pre-Register your Ride by 26 Oct. Call Thumper at 928-978-8159 \nRaffles – 50/50 – Live Music by Plum Krazy! \nRaising Money for Holiday Meals to help Families in Need!
URL:https://motorcyclesafari.com/event/obmc-payson-bags-trunk-or-treat-bikes-hot-rod-show/
LOCATION:Native Grill & Wings\, 210 AZ-260\, Payson\, AZ\, 85541\, United States
END:VEVENT
BEGIN:VEVENT
DTSTART;TZID=America/Phoenix:20171013T180000
DTEND;TZID=America/Phoenix:20171013T180000
DTSTAMP:20260425T091520
CREATED:20170114T183025Z
LAST-MODIFIED:20170114T183318Z
UID:3328-1507917600-1507917600@motorcyclesafari.com
SUMMARY:Hooligans MC Casa Grande Open House
DESCRIPTION:Open House 2nd Friday of the month.\nCome out and enjoy a night of Good Food\, Friends and Cold Drinks. \n129 E Cedar Ave\, Casa Grande\, Arizona 85122 \n6 PM
URL:https://motorcyclesafari.com/event/hooligans-mc-casa-grande-open-house-2017-10-13/
LOCATION:Hooligans MC Casa Grande\, 129 E Cedar Ave.\, Casa Grande\, AZ\, 85122\, United States
ATTACH;FMTTYPE=image/jpeg:https://motorcyclesafari.com/wp-content/uploads/2017/01/Hooligans-MC-Casa-Grande.jpg
END:VEVENT
BEGIN:VEVENT
DTSTART;TZID=America/Phoenix:20170930T073000
DTEND;TZID=America/Phoenix:20170930T180000
DTSTAMP:20260425T091520
CREATED:20170925T200246Z
LAST-MODIFIED:20171016T002857Z
UID:3927-1506756600-1506794400@motorcyclesafari.com
SUMMARY:15th ANNUAL “HARD ASS RUN “ ALL BIKES WELCOME!!
DESCRIPTION:ABATE OF ARIZONA – EAST VALLEY CHAPTER proudly presents the 2017\, 15th ANNUAL\, “HARD ASS RUN “\nALL BIKES WELCOME!!\nUnited We Ride\, Divided We Fall.\n\nThis is a mystery poker run of approximately 300 miles benefiting ABATE’’s ability to fight for your rights & safety. \nCome on out and spend your bonus 5th Saturday in September with us\, September 30th. \nRegister between 7:30-9 AM. \nKick Stands Up 9 AM \nLast Bike out 9:30 AM \nEvil Twin 58 N Country Club\, Mesa\, AZ 85201 \n$20 per person – $30 for 2UP \nFirst 75 receive a collectible T-Shirt AWARDED at the end stop (wherever that may be). \nPoker Hand included & Passenger gets own card \nReplacement poker cards may be purchased for $1 each at end stop only \nRaffle prizes & 50/50 drawing (must be present to win) \nFMI: Jim @ (602) 312-1927 \n 
URL:https://motorcyclesafari.com/event/15th-annual-hard-ass-run-all-bikes-welcome/
LOCATION:Evil Twin Custom Cycles\, 58 N Country Club\, Mesa\, AZ\, 85201\, United States
CATEGORIES:Fund Raiser
END:VEVENT
BEGIN:VEVENT
DTSTART;TZID=America/Phoenix:20170909T120000
DTEND;TZID=America/Phoenix:20170909T170000
DTSTAMP:20260425T091520
CREATED:20170808T215431Z
LAST-MODIFIED:20170808T215431Z
UID:3908-1504958400-1504976400@motorcyclesafari.com
SUMMARY:4th Annual Running With The Pups
DESCRIPTION:Come on out and Support our Pup’s and Kitties of Payson! Proceeds will be hand delivered to our Humane Society of Central Arizona in Payson.\n \nJoin us at the OBMC’s brand new club house\, 109 W. Phoenix Street in Payson\, AZ \nThere will be bike games with trophies\, Coyote’s BBQ\, Ga\,es\, Dunk Tank\, Vendors \n50/50\, Raffles \nCold Drinks \nTicket includes food! \nSaturday\, September 9th 12 Noon to ??? \n$20 / person – Only $30 / Couple \nGrand Prize will be a newly reconditioned Dirt Bike!\nCome on out for a great time\, check out the new club house\, and support the awesome work done by Humane Society of Central Arizona. \n 
URL:https://motorcyclesafari.com/event/4th-annual-running-with-the-pups/
LOCATION:OBMC Payson Club House\, 109 W. Phoenix Street\, Payson\, AZ\, 85541\, United States
CATEGORIES:Chairity Event
END:VEVENT
BEGIN:VEVENT
DTSTART;TZID=America/Phoenix:20170908T180000
DTEND;TZID=America/Phoenix:20170908T180000
DTSTAMP:20260425T091520
CREATED:20170114T183025Z
LAST-MODIFIED:20170114T183318Z
UID:3327-1504893600-1504893600@motorcyclesafari.com
SUMMARY:Hooligans MC Casa Grande Open House
DESCRIPTION:Open House 2nd Friday of the month.\nCome out and enjoy a night of Good Food\, Friends and Cold Drinks. \n129 E Cedar Ave\, Casa Grande\, Arizona 85122 \n6 PM
URL:https://motorcyclesafari.com/event/hooligans-mc-casa-grande-open-house-2017-09-08/
LOCATION:Hooligans MC Casa Grande\, 129 E Cedar Ave.\, Casa Grande\, AZ\, 85122\, United States
ATTACH;FMTTYPE=image/jpeg:https://motorcyclesafari.com/wp-content/uploads/2017/01/Hooligans-MC-Casa-Grande.jpg
END:VEVENT
BEGIN:VEVENT
DTSTART;VALUE=DATE:20170901
DTEND;VALUE=DATE:20170904
DTSTAMP:20260425T091520
CREATED:20170714T004536Z
LAST-MODIFIED:20170714T004635Z
UID:3889-1504224000-1504483199@motorcyclesafari.com
SUMMARY:7th Annual Camp N Jam
DESCRIPTION:Rim Country District of Modified Motorcycle Association of Arizona proudly present the 7th Annual Camp ‘n Jam Fundraiser to support motorcycle rights and safety awareness.\nLive Music Friday and Saturday by The MODS! \nSept 1-3\, 2017 at The Double “D” in Tonto Village off Highway 260. \nCamping\, Bike Games\, People Games\, 50/50\, Silent Auction\, $1\,000 Cash Raffle\, Vendors\, Wet T-Shirt Contest. \n$25/Person\, $40/Couple \nSupport Motorcycle Rights and have a heck of a great time. \n 
URL:https://motorcyclesafari.com/event/7th-annual-camp-n-jam/
LOCATION:Double D Restaurant & Bar at Tonto Village\, Johnson Blvd.\, Payson\, AZ\, 85541\, United States
END:VEVENT
BEGIN:VEVENT
DTSTART;TZID=America/Phoenix:20170826T070000
DTEND;TZID=America/Phoenix:20170826T170000
DTSTAMP:20260425T091520
CREATED:20170716T004142Z
LAST-MODIFIED:20170716T004142Z
UID:3893-1503730800-1503766800@motorcyclesafari.com
SUMMARY:11th Annual Run for Disabled Children of the White Mountains
DESCRIPTION:Click for larger flyer. \nTWINS MOTORCYCLE & MACHINING PRESENTS\nThe 11th Annual Run for Disabled Children of the White Mountains\nIn Honor of Faith Reidhead\nCome Join Us in our annual effort to assist the disabled  Children of our community. \nMotorcycle Ride and Lots of prizes to be given away! \nRegistration: 7:30 AM – (;00 AM at the Show Low Chamber of Commerce. (Located on the corner of Deuce of Clubs and Central Avenues. \nEntry Fee: $10 Individual Rider / $15 Rider with Passenger \nIncludes: Amazing ride in the pines\, Raffle Drawings at each stop\, GREAT PEOPLE\, GREAT FOOD\, and an amazing effort to help children. \nRide Stops: The Cabin – Heber\, Winner Circle – Holbrook\, The Ranch House – Snowflake\, The Black Bull – Show Low \nRaffle Tickets for prizes only $5 \n————————————————————————————- \nALSO AVAILABLE: TWO GUN RAFFLES $10 Each \nRED ticket  for a Piston Driven Adams Arms AR 223 rifle \nBlue Ticket for an American Tactical Model 1911 Hand Gun
URL:https://motorcyclesafari.com/event/11th-annual-run-for-disabled-children-of-the-white-mountains/
LOCATION:The Black Bull\, 4481 S White Mountain Rd #2\, Show Low\, AZ\, 85901\, United States
CATEGORIES:Chairity Event
END:VEVENT
BEGIN:VEVENT
DTSTART;TZID=America/Phoenix:20170811T180000
DTEND;TZID=America/Phoenix:20170811T180000
DTSTAMP:20260425T091520
CREATED:20170114T183025Z
LAST-MODIFIED:20170114T183318Z
UID:3326-1502474400-1502474400@motorcyclesafari.com
SUMMARY:Hooligans MC Casa Grande Open House
DESCRIPTION:Open House 2nd Friday of the month.\nCome out and enjoy a night of Good Food\, Friends and Cold Drinks. \n129 E Cedar Ave\, Casa Grande\, Arizona 85122 \n6 PM
URL:https://motorcyclesafari.com/event/hooligans-mc-casa-grande-open-house-2017-08-11/
LOCATION:Hooligans MC Casa Grande\, 129 E Cedar Ave.\, Casa Grande\, AZ\, 85122\, United States
ATTACH;FMTTYPE=image/jpeg:https://motorcyclesafari.com/wp-content/uploads/2017/01/Hooligans-MC-Casa-Grande.jpg
END:VEVENT
BEGIN:VEVENT
DTSTART;TZID=America/Phoenix:20170805T080000
DTEND;TZID=America/Phoenix:20170805T170000
DTSTAMP:20260425T091520
CREATED:20170716T005503Z
LAST-MODIFIED:20170716T005612Z
UID:3899-1501920000-1501952400@motorcyclesafari.com
SUMMARY:MMAA Poker Run for Navajo County Attorney's Family Advocacy Centers
DESCRIPTION:The Mountain Motorcycle Association of Arizona Presents their Annual Poker Run\nThis years Run benefits the Navajo County Attorney’s Family Advocacy Centers – Saving children and Helping Families\nAugust 5th\, 2017 \nSign in at The Cabin in Heber\, AZ from 8 AM – 9 AM \nBreakfast will be available from 8:00 AM – 10:00 AM \n50/50 Drawing \nTaco Bar + Pizza \n$5.00 / Plate @ Rumors
URL:https://motorcyclesafari.com/event/mmaa-poker-run-for-navajo-county-attorneys-family-advocacy-centers/
LOCATION:The Cabin Bar & Grill\, 2763 Highway 260\, Overgaard\, AZ\, United States
END:VEVENT
BEGIN:VEVENT
DTSTART;VALUE=DATE:20170721
DTEND;VALUE=DATE:20170724
DTSTAMP:20260425T091520
CREATED:20170605T205430Z
LAST-MODIFIED:20170605T205430Z
UID:3837-1500595200-1500854399@motorcyclesafari.com
SUMMARY:Biker Bash & Packages from Home Fundraiser
DESCRIPTION:This event is to raise awareness and enlist the public’s aid to benefit Packages From Home \nFun\, Food\, Vendors\, Outdoor Patio \nDJ In the Afternoons\, Live music Friday and Saturday evening by The STRINGO Band \nPoker Run\, 50/50 Raffle\, Silent Auction \nBike Games\, Tattoos \nFREE CAMPING ON SITE! \n  \n 
URL:https://motorcyclesafari.com/event/biker-bash-packages-from-home-fundraiser/
LOCATION:The Cabin Bar & Grill\, 2763 Highway 260\, Overgaard\, AZ\, United States
CATEGORIES:Fund Raiser
ATTACH;FMTTYPE=image/jpeg:https://motorcyclesafari.com/wp-content/uploads/2017/06/the-cabin-biker-bash.jpg
END:VEVENT
BEGIN:VEVENT
DTSTART;TZID=America/Phoenix:20170714T180000
DTEND;TZID=America/Phoenix:20170714T180000
DTSTAMP:20260425T091520
CREATED:20170114T183025Z
LAST-MODIFIED:20170114T183318Z
UID:3325-1500055200-1500055200@motorcyclesafari.com
SUMMARY:Hooligans MC Casa Grande Open House
DESCRIPTION:Open House 2nd Friday of the month.\nCome out and enjoy a night of Good Food\, Friends and Cold Drinks. \n129 E Cedar Ave\, Casa Grande\, Arizona 85122 \n6 PM
URL:https://motorcyclesafari.com/event/hooligans-mc-casa-grande-open-house-2017-07-14/
LOCATION:Hooligans MC Casa Grande\, 129 E Cedar Ave.\, Casa Grande\, AZ\, 85122\, United States
ATTACH;FMTTYPE=image/jpeg:https://motorcyclesafari.com/wp-content/uploads/2017/01/Hooligans-MC-Casa-Grande.jpg
END:VEVENT
BEGIN:VEVENT
DTSTART;TZID=America/Phoenix:20170617T110000
DTEND;TZID=America/Phoenix:20170617T170000
DTSTAMP:20260425T091520
CREATED:20170416T015828Z
LAST-MODIFIED:20170416T015932Z
UID:3700-1497697200-1497718800@motorcyclesafari.com
SUMMARY:Rim Country MMA Annual Bikini Bike Wash
DESCRIPTION:You know you never wash your bike. Let a bikini clad babe wash it for you while you enjoy an easy ride to the montains to cool off and have some of the best pizza and beer on the The Rim \nMusic by The Mods \nProceeds support Motorcycle Safety\, Awareness and Rights in Arizona \n 
URL:https://motorcyclesafari.com/event/rim-country-mma-annual-bikini-bike-wash/
LOCATION:Old County Inn\, 2502 State Route 87\, Pine\, AZ\, 85544\, United States
CATEGORIES:Fund Raiser
ATTACH;FMTTYPE=image/jpeg:https://motorcyclesafari.com/wp-content/uploads/2017/04/16729217_1424137814296930_7619321052812032531_n.jpg
END:VEVENT
BEGIN:VEVENT
DTSTART;TZID=America/Phoenix:20170610T100000
DTEND;TZID=America/Phoenix:20170610T220000
DTSTAMP:20260425T091520
CREATED:20170416T010136Z
LAST-MODIFIED:20170416T010438Z
UID:3687-1497088800-1497132000@motorcyclesafari.com
SUMMARY:2nd Annual Splat Against Cancer Poker Run & Bike Rally
DESCRIPTION:Sponsored by The Americans MC\n$15 Single/ $20 Couple – Includes Meal Ticket / Door Prize Ticket \n10 AM Sign-in at Windy Mesa in Page\, Arizona \nKickstands up at 12 Noon! \nRun to the Buckskin Tavern\, Fredonia\, AZ \nFood\, Door Prizes\, Bike Games\, Live Music \nSelf-Contained Travel Trailer parking available \nTent Sites Available \nBikes and Cars Welcome \nCome and Support a Good Cause \n  \n 
URL:https://motorcyclesafari.com/event/2nd-annual-splat-against-cancer-poker-run-bike-rally/
LOCATION:Bucksin Tavern\, 2321 N Main Rd.\, Fredonia\, AZ\, 86022\, United States
CATEGORIES:Chairity Event,Fund Raiser
ATTACH;FMTTYPE=image/jpeg:https://motorcyclesafari.com/wp-content/uploads/2017/04/17309784_619755634892023_3821577948746581974_n.jpg
END:VEVENT
BEGIN:VEVENT
DTSTART;TZID=America/Phoenix:20170609T180000
DTEND;TZID=America/Phoenix:20170609T180000
DTSTAMP:20260425T091520
CREATED:20170114T183025Z
LAST-MODIFIED:20170114T183318Z
UID:3324-1497031200-1497031200@motorcyclesafari.com
SUMMARY:Hooligans MC Casa Grande Open House
DESCRIPTION:Open House 2nd Friday of the month.\nCome out and enjoy a night of Good Food\, Friends and Cold Drinks. \n129 E Cedar Ave\, Casa Grande\, Arizona 85122 \n6 PM
URL:https://motorcyclesafari.com/event/hooligans-mc-casa-grande-open-house-2017-06-09/
LOCATION:Hooligans MC Casa Grande\, 129 E Cedar Ave.\, Casa Grande\, AZ\, 85122\, United States
ATTACH;FMTTYPE=image/jpeg:https://motorcyclesafari.com/wp-content/uploads/2017/01/Hooligans-MC-Casa-Grande.jpg
END:VEVENT
BEGIN:VEVENT
DTSTART;TZID=America/Phoenix:20170603T180000
DTEND;TZID=America/Phoenix:20170603T210000
DTSTAMP:20260425T091520
CREATED:20170322T040030Z
LAST-MODIFIED:20170322T040358Z
UID:3674-1496512800-1496523600@motorcyclesafari.com
SUMMARY:East Valley Chapter Spaghetti Feed
DESCRIPTION:East Valley Chapter Fundraiser\nAll U Can Eat Spaghetti\, Hand rolled Meatballs\, Salad\, Garlic Bread\, and Desserts\nKids are welcome\nDrinks available for cash purchase from the F.O.E. \n 
URL:https://motorcyclesafari.com/event/east-valley-chapter-spaghetti-feed/
LOCATION:Fraternal Order of Eagles #3468 Mesa Tri-City\, 1712 W. Broadway Rd. #108\, Mesa\, AZ\, 85202\, United States
CATEGORIES:Fund Raiser
ATTACH;FMTTYPE=image/jpeg:https://motorcyclesafari.com/wp-content/uploads/2017/03/17362526_10213007732773706_5571858336140932020_n.jpg
END:VEVENT
BEGIN:VEVENT
DTSTART;TZID=America/Phoenix:20170520T120000
DTEND;TZID=America/Phoenix:20170520T220000
DTSTAMP:20260425T091520
CREATED:20170305T035810Z
LAST-MODIFIED:20170305T035852Z
UID:3647-1495281600-1495317600@motorcyclesafari.com
SUMMARY:Old Bastards Las Vegas 29th Annual Pig Roast
DESCRIPTION:Live Band \n50/50 \nBike Games \nGrand Prize: Big Screen TV \nGun Raffle – $10 / ticket \n 
URL:https://motorcyclesafari.com/event/old-bastards-las-vegas-29th-annual-pig-roast/
LOCATION:Rustic Lounge\, 1817 N. Boulder Highway\, Henderson\, NV\, 89011\, United States
CATEGORIES:Fund Raiser
ATTACH;FMTTYPE=image/jpeg:https://motorcyclesafari.com/wp-content/uploads/2017/03/2017-pig-roast.jpg
END:VEVENT
BEGIN:VEVENT
DTSTART;TZID=America/Phoenix:20170520T090000
DTEND;TZID=America/Phoenix:20170520T160000
DTSTAMP:20260425T091520
CREATED:20170218T201035Z
LAST-MODIFIED:20170218T202546Z
UID:3450-1495270800-1495296000@motorcyclesafari.com
SUMMARY:7th Annual Carriage House Bike Run
DESCRIPTION:The Mountain Motorcycle Association of Arizona is proud to announce the 7th Annual Carriage House Bike Run to benefit the elderly residents at the assisted living facility. \nMay 20th\, 2017 \n  \nRegistration from 9 am to 10 am at Show Low Motorsports (Intersection of Highway 60 & 77) Show Low Arizona! \nComplimentary coffee and donuts. \nENTRY FEE: 1 Non-Persihable Food Item per person (to be donated to the Veterans in the White Moutains \n10 AM ride to the Carrige House Assisted Living Facility \n395 West Garden Lane\, Snowflake\, AZ \nVisit Residents \nBike Games by the Christian Motorcycle Association With Trophies! \nCOOK -OUT compliments of the Carriage House \n1:30 PM ride to Heber-Overgaard Cabin for Music & Dancing\, OR The American Legion for Socializing\, OR Dairy Queen for Ice Cream! \nContact Moses at 928-367-0359 for more information. \n  \n 
URL:https://motorcyclesafari.com/event/7th-annual-carriage-house-bike-run/
LOCATION:Carrriage House\, 395 West Garden Lane\, Snowflake\, AZ\, 85937\, United States
CATEGORIES:Chairity Event
ATTACH;FMTTYPE=image/jpeg:https://motorcyclesafari.com/wp-content/uploads/2017/02/IMG_20170218_0001.jpg
END:VEVENT
BEGIN:VEVENT
DTSTART;TZID=America/Phoenix:20170513T100000
DTEND;TZID=America/Phoenix:20170513T140000
DTSTAMP:20260425T091520
CREATED:20170416T011409Z
LAST-MODIFIED:20170416T011504Z
UID:3692-1494669600-1494684000@motorcyclesafari.com
SUMMARY:Party on the Patio
DESCRIPTION:Too Broke For Sturgis Kick Off Party\nLive Music by Sidewayz \nBlessing of the Bikes 10 AM\nABATE of AZ on the Grill! \n  \n 
URL:https://motorcyclesafari.com/event/party-on-the-patio/
LOCATION:Desert Wind Harley-Davidson\, 922 S. Country Club Dr.\, Mesa\, AZ\, 85210\, United States
ATTACH;FMTTYPE=image/jpeg:https://motorcyclesafari.com/wp-content/uploads/2017/04/17903607_10213290728208415_2366897720394480340_n.jpg
END:VEVENT
BEGIN:VEVENT
DTSTART;TZID=America/Phoenix:20170513T090000
DTEND;TZID=America/Phoenix:20170513T170000
DTSTAMP:20260425T091520
CREATED:20170416T033712Z
LAST-MODIFIED:20170416T033755Z
UID:3704-1494666000-1494694800@motorcyclesafari.com
SUMMARY:22nd Annual Jester Run
DESCRIPTION:MMA Verde Valley District presents the 22nd Annual Jester Memorial Run\nProceeds benefit Motorcycle Safety & Awareness and the chapter’s Down Biker Fund. \n22nd Annual Jester Memorial Run presented by MMA Verde Valley District. Registration and start at Auto Motion: 595 S. 6th Street from 9 am – 10 am. Ceremony starts at 10 am with KSU at 10:30 for Police Escorted Ride thru Cottonwood and Old Town to Kactus Kates. After Kates you are on your own to make it to Olde Sedona Bar and Grill\, PJs Pub\, Old Corral and then to The Chaparrel for a great party with food\, raffles\, 50/50 and music. Please join us to honor all lost brothers and sisters.
URL:https://motorcyclesafari.com/event/22nd-annual-jester-run/
LOCATION:Auto Motion\, 595 S 6th Street\, Cottonwood\, AZ\, 86326\, United States
CATEGORIES:Fund Raiser
ATTACH;FMTTYPE=image/jpeg:https://motorcyclesafari.com/wp-content/uploads/2017/04/17211890_1431209390243730_9046888107020668430_o.jpg
END:VEVENT
BEGIN:VEVENT
DTSTART;TZID=America/Phoenix:20170512T180000
DTEND;TZID=America/Phoenix:20170512T180000
DTSTAMP:20260425T091520
CREATED:20170114T183025Z
LAST-MODIFIED:20170114T183318Z
UID:3323-1494612000-1494612000@motorcyclesafari.com
SUMMARY:Hooligans MC Casa Grande Open House
DESCRIPTION:Open House 2nd Friday of the month.\nCome out and enjoy a night of Good Food\, Friends and Cold Drinks. \n129 E Cedar Ave\, Casa Grande\, Arizona 85122 \n6 PM
URL:https://motorcyclesafari.com/event/hooligans-mc-casa-grande-open-house-2017-05-12/
LOCATION:Hooligans MC Casa Grande\, 129 E Cedar Ave.\, Casa Grande\, AZ\, 85122\, United States
ATTACH;FMTTYPE=image/jpeg:https://motorcyclesafari.com/wp-content/uploads/2017/01/Hooligans-MC-Casa-Grande.jpg
END:VEVENT
BEGIN:VEVENT
DTSTART;TZID=America/Phoenix:20170512T080000
DTEND;TZID=America/Phoenix:20170512T170000
DTSTAMP:20260425T091520
CREATED:20170505T012706Z
LAST-MODIFIED:20170509T190533Z
UID:3781-1494576000-1494608400@motorcyclesafari.com
SUMMARY:Dick Tush Memorial Ride
DESCRIPTION:Ride to Honor Â a USAF Veteran\, Retired San Jose CalifoirniaÂ Motor Officer and White Mountain Biker! \nDick’s family will be attending from California. Let’s show them how we honor our veterans! \nDick was a co-founder of the Mountain Motorcycle Association of Arizona \nHe lived to ride. So let’s ride to honor his life. \nRide starts in Heber at the American Legion. Bikes will leave at 7:30 am and head to the Moose Lodge in Star Valley\, arriving approx. 8:30 am. \nBreakfast will be available at Mario’s BBQ Shack at the Spur Bar in Star Valley – Valley and Payson Riders feel free to join here. \nKSU back to Heber at 9:15 AM \nKSU for Memorial Ride at 10:30 to Show Low Moose Lodge \nPot Luck luncheon at Moose Lodge begins at 2 PM \n 
URL:https://motorcyclesafari.com/event/dick-tush-memorial-ride/
LOCATION:Show Low Moose Lodge\, 145 N White Mountain Rd.\, Show Low\, 85901
ATTACH;FMTTYPE=image/png:https://motorcyclesafari.com/wp-content/uploads/2017/05/Dick-Tush-Memorial-Ride.png
END:VEVENT
BEGIN:VEVENT
DTSTART;TZID=America/Phoenix:20170507T120000
DTEND;TZID=America/Phoenix:20170507T220000
DTSTAMP:20260425T091520
CREATED:20170305T032337Z
LAST-MODIFIED:20170416T003329Z
UID:3639-1494158400-1494194400@motorcyclesafari.com
SUMMARY:CANCELED â€“ 10 Year Memorial Celebration of the Life of Paul WALDO Stuart â€“ CANCELED
DESCRIPTION:THIS EVENT HAS BEEN CANCELED! Watch for this event next year.
URL:https://motorcyclesafari.com/event/10-year-memorial-celebration-of-the-life-of-paul-waldo-stuart/
LOCATION:RT’s Black Bull Restaurant & Sports Lounge\, 4481 S White Mountain Rd\, Show Low\, AZ\, 85901\, United States
CATEGORIES:Fund Raiser
ATTACH;FMTTYPE=image/jpeg:https://motorcyclesafari.com/wp-content/uploads/2017/03/WALDO-CANCELED.jpg
END:VEVENT
BEGIN:VEVENT
DTSTART;VALUE=DATE:20170505
DTEND;VALUE=DATE:20170508
DTSTAMP:20260425T091520
CREATED:20170218T203709Z
LAST-MODIFIED:20170218T203817Z
UID:3456-1493942400-1494201599@motorcyclesafari.com
SUMMARY:13th Annual Wild in the Weeds Old School Bike Rally
DESCRIPTION:13th Annual Old School Biker Rally May 5\,6\,7Â 2017\nPunkin Center Bar & Grill – Mile Post 262Â State Route 188 Tonto Basin\, Arizona\nFood Specials All Weekend – Breakfast Buffet Sat. & Sun. \nLive Music Friday & Saturday Nights -Â Photo Booth \nBike & People Games – $500 Raffle \nWet T-Shirt Contest \nRaffle Prizes – 50/50 – Silent Auction \nVendors \nFREE RV & Tent Spaces (no hookups) \nWeekend Admission is $15/ Single & $25 / Couple \n$10 Discount for ABATE Members. Memberships available on-site\nMembership also provides Discount for Too Broke For Sturgis in June – Become a member and save TWICE! \nCome on out and have a great weekend to start the summer riding season. \n 
URL:https://motorcyclesafari.com/event/13th-annual-wild-in-the-weeds-old-school-bike-rally/
LOCATION:Punkin Center Lodge\, Bar and Grill\, Old Highway 188\, Tonto Basin\, AZ\, United States
CATEGORIES:Fund Raiser
ATTACH;FMTTYPE=image/png:https://motorcyclesafari.com/wp-content/uploads/2017/02/wild-in-the-weeds-flyer-final-2-06-2017.png
END:VEVENT
BEGIN:VEVENT
DTSTART;TZID=America/Phoenix:20170423T080000
DTEND;TZID=America/Phoenix:20170423T170000
DTSTAMP:20260425T091520
CREATED:20170416T014311Z
LAST-MODIFIED:20170416T014514Z
UID:3696-1492934400-1492966800@motorcyclesafari.com
SUMMARY:Lucie's Sage & Sand Bar's 4th Annual Poker Run
DESCRIPTION:Sunday\, April 23rd\, 2017 \n$100 Best Hand / $50 Worst Hand \nStarting at Sage\, then to (1) Connolly’s\, (2) Roadrunner Saloon\, (3) Western Trails on Grand\, then (4) Back to Lucie’s Sage & Sand \n$20 for Singles $25 for 2nd Rider – CAGES WELCOME \nPromo Girls\, Live Music\, 50/50 Raffles\, Drink Specials \nBenefiting Cutrano AZ Troop Run\, Inc. \nRaising money for the educational needs of Arizona’s fallen military heroes.
URL:https://motorcyclesafari.com/event/lucies-sage-sand-bars-4th-annual-poker-run/
LOCATION:Lucie’s Sage & Sand Bar\, 13831 W Glendale Ave.\, Glendale\, AZ\, 85307\, United States
CATEGORIES:Chairity Event
ATTACH;FMTTYPE=image/jpeg:https://motorcyclesafari.com/wp-content/uploads/2017/04/17903365_10212748637700590_1160563588050318844_n.jpg
END:VEVENT
END:VCALENDAR