BEGIN:VCALENDAR
VERSION:2.0
PRODID:-//Motorcycle Safari - ECPv6.13.1//NONSGML v1.0//EN
CALSCALE:GREGORIAN
METHOD:PUBLISH
X-ORIGINAL-URL:https://motorcyclesafari.com
X-WR-CALDESC:Events for Motorcycle Safari
REFRESH-INTERVAL;VALUE=DURATION:PT1H
X-Robots-Tag:noindex
X-PUBLISHED-TTL:PT1H
BEGIN:VTIMEZONE
TZID:America/Phoenix
BEGIN:STANDARD
TZOFFSETFROM:-0700
TZOFFSETTO:-0700
TZNAME:MST
DTSTART:20170101T000000
END:STANDARD
END:VTIMEZONE
BEGIN:VEVENT
DTSTART;TZID=America/Phoenix:20180706T180000
DTEND;TZID=America/Phoenix:20180706T230000
DTSTAMP:20260425T055742
CREATED:20180217T014807Z
LAST-MODIFIED:20180217T014807Z
UID:4053-1530900000-1530918000@motorcyclesafari.com
SUMMARY:Old Bastards Motorcycle Club - Payson- Open House
DESCRIPTION:Old Bastards Motorcycle Club – Payson- Open House at the Clubhouse in the evening (6 pm ish). \nC’mon by and say HI! \n 
URL:https://motorcyclesafari.com/event/old-bastards-motorcycle-club-payson-open-house/
LOCATION:OBMC Payson Club House\, 109 W. Phoenix Street\, Payson\, AZ\, 85541\, United States
END:VEVENT
BEGIN:VEVENT
DTSTART;TZID=America/Phoenix:20180630T110000
DTEND;TZID=America/Phoenix:20180630T170000
DTSTAMP:20260425T055742
CREATED:20180217T014242Z
LAST-MODIFIED:20180217T014242Z
UID:4051-1530356400-1530378000@motorcyclesafari.com
SUMMARY:Bikini Bike Wash presented by Rim Country District Modified Motorcycle Association of AZ
DESCRIPTION:It’s a bikini bike wash with a live band and cold beer. What else do you need to know? \nOh\, it is in the nice cool weather of Strawberry\, AZ
URL:https://motorcyclesafari.com/event/bikini-bike-wash-presented-by-rim-country-district-modified-motorcycle-association-of-az/
LOCATION:Bandit’s Restaurant\, 5079-81 Hwy 87\, Strawberry\, AZ\, 85544\, United States
CATEGORIES:Fund Raiser
END:VEVENT
BEGIN:VEVENT
DTSTART;VALUE=DATE:20180622
DTEND;VALUE=DATE:20180625
DTSTAMP:20260425T055742
CREATED:20180512T152429Z
LAST-MODIFIED:20180512T152429Z
UID:4142-1529625600-1529884799@motorcyclesafari.com
SUMMARY:25th Annual GREAT ESCAPE RALLY
DESCRIPTION:Presented by DESERT ROAD RIDERS MC\nJune 22\, 23 & 24\, 2018 \nLIVE MUSIC\, BIKE GAMES\, RAFFLE\, 50/50\,\nFOOD AND DRINK\, CAMPING AND FUN. \n$25 SINGLE or $45 COUPLE; INCLUDES ACCESS TO CAMPING\,\nENTERTAINMENT\, EVENTS AND SATURDAYS DINNER. \nGATES OPEN @ 9 A.M. ON FRIDAY. RV’S WELCOME-NO HOOK-UP’S \nPROCEEDS BENEFIT OUR 2018 TOY RUN\nFROM WILLIAMS TAKE 4th St. ABOUT 8 MILES TO MM 177\nTHEN JUST FOLLOW THE SIGNS. \nFOR MORE INFO CONTACT DUKE AT 928-530-0641 OR\nCHECK OUT OUR WEBSITE AT WWW.DESERTROADRIDERSMC.COM
URL:https://motorcyclesafari.com/event/25th-annual-great-escape-rally/
LOCATION:Kaibab Nation Forest – Williams\, AZ\, FROM WILLIAMS TAKE 4th St. ABOUT 8 MILES TO MM 177\, Williams\, AZ\, United States
END:VEVENT
BEGIN:VEVENT
DTSTART;VALUE=DATE:20180607
DTEND;VALUE=DATE:20180611
DTSTAMP:20260425T055742
CREATED:20180204T224512Z
LAST-MODIFIED:20180204T224512Z
UID:4020-1528329600-1528675199@motorcyclesafari.com
SUMMARY:27th Annual Too Broke For Sturgis
DESCRIPTION:June 7-10\, 2018 \nThe biggest and oldest biker bash in Arizona. Join bikers from across the nation at the annual party to raise funds to protect your right to ride and make riding safer! \nWAY TOO MUCH INFORMATION FOR THIS PAGE SO GO VISIT THEIR WEB SITE AND START MAKING PLANS TO ATTEND! \nhttp://www.toobrokeforsturgis.com/ \nThe price of admission is $40 for the weekend per person. ABATE members get $5 off price of weekend pass. Saturday only passes are available for $25 each.
URL:https://motorcyclesafari.com/event/27th-annual-too-broke-for-sturgis/
LOCATION:Mormon Lake Lodge\, 1991 South Mormon Lake Road\, Mormon Lake\, AZ\, 86038\, United States
END:VEVENT
BEGIN:VEVENT
DTSTART;TZID=America/Phoenix:20180525T120000
DTEND;TZID=America/Phoenix:20180525T170000
DTSTAMP:20260425T055742
CREATED:20180516T192836Z
LAST-MODIFIED:20180520T195547Z
UID:4155-1527249600-1527267600@motorcyclesafari.com
SUMMARY:Jeff Kyle Motorcycle Escort - Payson AZ to Taylor AZ
DESCRIPTION:The following was scooped from https://tribunenewsnow.com/motorcycle-escort-participants-needed/. Go there for more information. \n \nThe special speaker for the annual Trapper Days Veterans Memorial Program on May 26 has been announced. This year Brad Click was able to arrange for former United States Marine Jeff Kyle to speak. The festivities will include a motorcycle escort for Kyle from Payson to Taylor on Friday\, May 25\, that anyone in the community with a motorcycle can participate in. \nAnyone interested in riding their motorcycle to help escort Kyle should contact John Packer at Keep and Bear Arms gun shop at (928) 243-7738 or email john.packer70@gmail.com.
URL:https://motorcyclesafari.com/event/motorcycle-escort-payson-az-to-taylor-az/
LOCATION:AZ
END:VEVENT
BEGIN:VEVENT
DTSTART;TZID=America/Phoenix:20180519T180000
DTEND;TZID=America/Phoenix:20180519T230000
DTSTAMP:20260425T055742
CREATED:20180519T012836Z
LAST-MODIFIED:20180519T012836Z
UID:4162-1526752800-1526770800@motorcyclesafari.com
SUMMARY:3rd Annual Sinners and Saints Benefit Bash
DESCRIPTION:Silent Saints MC and the Hooligans MC 422 Crew are teaming up in the fight against Diabetes\n\nHappening this Saturday night\, May 19th\, at 6 pm\, the Silent Saints MC and the Hooligans MC 422 Crew are teaming up in the fight against Diabetes and throwing the 3rd annual SINNERS & SAINTS Benefit Bash. The party will be at the Hooligans MC Deer Valley clubhouse located at 2663 W. Lone Cactus Dr. Phoenix AZ 85027. Entry will be $10 for singles and $15 for couples. There will be good food\, cold drinks\, a special guest DJ\, vendors\, and a SURPRISE NEW ATTRACTION! Proceeds will go to benefit the awareness of and fight against Diabetes. We hope to see our fellow ACMC clubs and friends come out and party with the Silent Saints MC and the Hooligans MC for a good cause.
URL:https://motorcyclesafari.com/event/3rd-annual-sinners-and-saints-benefit-bash/
LOCATION:Hooligans MC Deer Valley\, 2663 W. Lone Cactus Dr.\, Phoenix\, AZ\, 85027\, United States
CATEGORIES:Chairity Event,Fund Raiser
END:VEVENT
BEGIN:VEVENT
DTSTART;TZID=America/Phoenix:20180519T090000
DTEND;TZID=America/Phoenix:20180519T180000
DTSTAMP:20260425T055742
CREATED:20180516T193332Z
LAST-MODIFIED:20180517T165425Z
UID:4157-1526720400-1526752800@motorcyclesafari.com
SUMMARY:Give a Shift TBFS Fundraiser
DESCRIPTION:The Too Broke For Sturgis Rally Committee will be on hand cooking from 11 am to 2 pm.\nSupport ABATE of Arizona as they WORK HARD to protect your rights and FIGHT HARD to make motorcycling safer for everyone.
URL:https://motorcyclesafari.com/event/give-a-shift-tbfs-fundraiser/
LOCATION:Desert Wind Harley-Davidson\, 922 S. Country Club Dr.\, Mesa\, AZ\, 85210\, United States
END:VEVENT
BEGIN:VEVENT
DTSTART;TZID=America/Phoenix:20180519T090000
DTEND;TZID=America/Phoenix:20180519T170000
DTSTAMP:20260425T055742
CREATED:20180120T045931Z
LAST-MODIFIED:20180120T050143Z
UID:3989-1526720400-1526749200@motorcyclesafari.com
SUMMARY:8th Annual Carriage House Bike Run
DESCRIPTION:Registration if from 9:00 AM to 10:00 AM \nShow Low Motorsports -1000 Automall Pkwy\, Show Low\, AZ 85901 \nRide to The Carriage House in Snowflake \nFee: 1  non-perishable food item per person \nPoker Run & 50/50 Drawing \nBike Game s by CMA \nLunch by Carriage House \nParty at the Cabin in Overgaard afterwards (2763 Az-260 Overgaard\, Arizona 85933 – (928) 535-6117) \nCome spend a day or weekend in the White Mountains
URL:https://motorcyclesafari.com/event/8th-annual-carriage-house-bike-run/
LOCATION:Carriage House\, 395 W Garden Ln\, Snowflake\, AZ\, 85937\, United States
CATEGORIES:Chairity Event
ORGANIZER;CN="Christian Motorcyclists Association":MAILTO:kivenhcma@gmail.com
END:VEVENT
BEGIN:VEVENT
DTSTART;TZID=America/Phoenix:20180512T170000
DTEND;TZID=America/Phoenix:20180512T230000
DTSTAMP:20260425T055742
CREATED:20180427T165624Z
LAST-MODIFIED:20180427T165736Z
UID:4119-1526144400-1526166000@motorcyclesafari.com
SUMMARY:Downed Biker Fundraiser
DESCRIPTION:Presented by Payson Loose Cannons MC\nSponsored by KPJM-LP 99.7 FM and Belle’s Bar \nMay 12th 5PM \nRaffle: Ruger 22-LR and 50/50 \nLIVE MUSIC: For zen Fire 7 PM to 11 PM \nBelle’s Bar at the Beeline Bowl\, 1109 N. Beeline Highway\, Payson\, AZ 85541 \n 
URL:https://motorcyclesafari.com/event/down-biker-fund-fundraiser/
LOCATION:Belle’ Bar\, 1109 N Beeline Highway\, Payson\, AZ\, 85541\, United States
END:VEVENT
BEGIN:VEVENT
DTSTART;VALUE=DATE:20180511
DTEND;VALUE=DATE:20180513
DTSTAMP:20260425T055742
CREATED:20180217T013512Z
LAST-MODIFIED:20180217T015749Z
UID:4047-1525996800-1526169599@motorcyclesafari.com
SUMMARY:Choppertown Camparound at Tonto Village
DESCRIPTION:Basically\, Rider your chopper\, sleep in the dirt\, play bike games. \n(Ask Pinky or Long John for more info)
URL:https://motorcyclesafari.com/event/chopertown-camparound-at-tonto-village/
LOCATION:Double D Restaurant & Bar at Tonto Village\, Johnson Blvd.\, Payson\, AZ\, 85541\, United States
END:VEVENT
BEGIN:VEVENT
DTSTART;TZID=America/Phoenix:20180504T120000
DTEND;TZID=America/Phoenix:20180506T120000
DTSTAMP:20260425T055742
CREATED:20180204T185025Z
LAST-MODIFIED:20180204T185025Z
UID:3996-1525435200-1525608000@motorcyclesafari.com
SUMMARY:14th Annual Wild in the Weeds Biker Rally
DESCRIPTION:High Country Chapter of ABATE of Arizona is proud to present the 14th Annual Wild in the Weeds Old School Motorcycle Rally\n\nMay 4\, 5\, 6\, 2018 at Punkin Center Bar & Grill in Tonto Basin\, AZ on State Route 188. \nFood special all weekend. Breakfast Buffet Saturday and Sunday \nBike & People Games Saturday \n$500 Raffle \n$$$ Wet T-Shirt Contest $$$ \nRaffle Prizes – 50/50 – Silent Auction \nFree RV & Tent Spaces (no utilities) \nMore information is available at http://WildInTheWeeds.com \n$15/$25 Members – $25/$35 Non-Members \nMemberships available on site for $25 per person and include discount admittance to Too Broke for Strugis in June \n  \n 
URL:https://motorcyclesafari.com/event/14th-annual-wild-in-the-weeds-biker-rally/
LOCATION:Punkin Center Lodge\, Bar and Grill\, Old Highway 188\, Tonto Basin\, AZ\, United States
END:VEVENT
BEGIN:VEVENT
DTSTART;TZID=America/Phoenix:20180502T090000
DTEND;TZID=America/Phoenix:20180502T150000
DTSTAMP:20260425T055742
CREATED:20180313T002723Z
LAST-MODIFIED:20180430T161014Z
UID:4093-1525251600-1525273200@motorcyclesafari.com
SUMMARY:Motorcycle Day at the Dome 2018 will be May 2nd.
DESCRIPTION:Arizona Bikers Take Note!\nMOTORCYCLE DAY AT THE DOME LUNCHEON\n19:00AM – 3PM\nWEDNESDAY\, FEBRUARY 15TH\n1700 W. WASHINGTON\,\nPHOENIX AZ\n\nThe purpose of the Motorcycle Day at the Dome (MDATD) is to meet\, greet and converse with your District Legislators. You will have the opportunity to discuss various issues facing Motorcyclists today. You can also sit in the gallery as the Legislators are in session. \nRepresentatives from Motorcycle Rights. Organization Members\, Motorcycle Clubs (MCs)\, Independent Riders and Legislators will attend the Annual Motorcycle Day at the Dome \nThis event is sponsored by ABATE and MMA of Arizona\, the Arizona Confederation of Motorcycle Clubs (ACMC)\, VAMR(Billy Larson) and the MMAA. \nPlease mark your calendars.  “All Bikers Welcome”. \nA barricaded area is reserved for bike parking on 17th Ave between Washington and Jefferson\, the full length of the Capitol grounds itself.\nAny delivery vehicles will have to enter the area from the Washington side.\nWe have notified TV stations for media coverage.\nYour lobbyists cannot do this alone and we are asking for your help to make this another great year with our Legislature.\nWe are asking that each of you invite as many of your motorcyclist friends as you can to participate in this important event. \nWE ARE ASKING ALL MOTORCYCLISTS TO PLEASE CALL or EMAIL your 2 Representatives and 1 Senator and Set-up an appointment with them to meet in their office from 9am-3pm. Or ask them to join you on the House lawn to discuss some key points affecting motorcyclists in Arizona. If you’re not sure who your Legislative person is\, you can obtain their name and contact information by going to the following website: \nGO TO  www.votesmart.org\nENTER your ZIPCODE on the left\nSCROLL DOWN – to “State Legislative”\nCLICK on Their Name for an info page along with their picture and email address\nCLICK on “Complete Contact Information” under their picture\, for more info and phone\nGO BACK two pages and do the same for the other two. \nWe will have a sheet with the Legislative bills we are running for this year on site and at the Sign-In Table.\nFor further information on the event\, go to the www.abateofaz.org. \nThe Motorcycle Day at the Dome Committee (MDATD) \nSponsored by ABATE\, MMA\, AZCMC
URL:https://motorcyclesafari.com/event/motorcycle-day-at-the-dome-2018-will-be-may-2nd/
LOCATION:Arizona Capitol\, 1700 W. WASHINGTON\, Phoenix\, AZ\, 85007\, United States
END:VEVENT
BEGIN:VEVENT
DTSTART;TZID=America/Phoenix:20180428T120000
DTEND;TZID=America/Phoenix:20180428T160000
DTSTAMP:20260425T055742
CREATED:20180423T184323Z
LAST-MODIFIED:20180423T184323Z
UID:4116-1524916800-1524931200@motorcyclesafari.com
SUMMARY:Mark Hahn Fundraiser
DESCRIPTION:Presented by The Old Bastards MC and Native Grill & Wings in Payson\, AZ\nFundraiser to support the son and daughter of Mark Hahn who passed away on March 17th\, 2018 \n12 pm to 4 PM at the Native Grill in Payson\, AZ \nDrink & Food Specials \nRaffles \n50/50 \nLIVE BAND \nHelping a fallen friend’s family. \n 
URL:https://motorcyclesafari.com/event/mark-hahn-fundraiser/
LOCATION:Native Grill & Wings\, 210 AZ-260\, Payson\, AZ\, 85541\, United States
END:VEVENT
BEGIN:VEVENT
DTSTART;TZID=America/Phoenix:20180414T130000
DTEND;TZID=America/Phoenix:20180414T180000
DTSTAMP:20260425T055742
CREATED:20180217T015553Z
LAST-MODIFIED:20180217T015553Z
UID:4055-1523710800-1523728800@motorcyclesafari.com
SUMMARY:Gettin' Down in the Desert
DESCRIPTION:Come on Out and help support our Old Bastards Salt River Charter April 14th in Mesa\, AZ Thank you for Supporting your Local Old Bastards.
URL:https://motorcyclesafari.com/event/gettin-down-in-the-desert/
LOCATION:Kay’s Place\, 315 S Alma School Rd.\, Mesa\, AZ\, 85210\, United States
END:VEVENT
BEGIN:VEVENT
DTSTART;TZID=America/Phoenix:20180407T120000
DTEND;TZID=America/Phoenix:20180407T233000
DTSTAMP:20260425T055742
CREATED:20180204T225413Z
LAST-MODIFIED:20180204T232020Z
UID:4025-1523102400-1523143800@motorcyclesafari.com
SUMMARY:Backstage Biker Bash to benefit ABATE of Arizona
DESCRIPTION:Music Festival featuring Local and National Acts\, Vendors\, and Regional Food!!! \n 4/06/18 HEADLINER – MARK FARNER Formerly Of Grand Funk Railroad\, The Moonshine\, Voodoo Band\, 74th Street Band \n4/07/18 HEADLINER – QueensRyche\, Skarlett Fever\, UNCHAINED \n*BENEFITING ABATE OF ARIZONA (Phoenix Shadow Mountain Chapter) \n• NO REFUNDS – RAIN OR SHINE SHOW\, Children 12 and under FREE!!! \n• Let The Good Times Roll!!! \n Friday 4/06/18 – Doors at 4 pm \n Saturday 4/07/18 – Doors at 12 noon \nhttps://www.facebook.com/2broke4bikeweek/videos/534285326925812/?id=100009477524636
URL:https://motorcyclesafari.com/event/backstage-biker-bash-to-benefit-abate-of-arizona-2018-04-07/
LOCATION:Desert Wind Harley-Davidson\, 922 S. Country Club Dr.\, Mesa\, AZ\, 85210\, United States
END:VEVENT
BEGIN:VEVENT
DTSTART;TZID=America/Phoenix:20180406T160000
DTEND;TZID=America/Phoenix:20180406T233000
DTSTAMP:20260425T055742
CREATED:20180204T225413Z
LAST-MODIFIED:20180204T232020Z
UID:4022-1523030400-1523057400@motorcyclesafari.com
SUMMARY:Backstage Biker Bash to benefit ABATE of Arizona
DESCRIPTION:Music Festival featuring Local and National Acts\, Vendors\, and Regional Food!!! \n 4/06/18 HEADLINER – MARK FARNER Formerly Of Grand Funk Railroad\, The Moonshine\, Voodoo Band\, 74th Street Band \n4/07/18 HEADLINER – QueensRyche\, Skarlett Fever\, UNCHAINED \n*BENEFITING ABATE OF ARIZONA (Phoenix Shadow Mountain Chapter) \n• NO REFUNDS – RAIN OR SHINE SHOW\, Children 12 and under FREE!!! \n• Let The Good Times Roll!!! \n Friday 4/06/18 – Doors at 4 pm \n Saturday 4/07/18 – Doors at 12 noon \nhttps://www.facebook.com/2broke4bikeweek/videos/534285326925812/?id=100009477524636
URL:https://motorcyclesafari.com/event/backstage-biker-bash-to-benefit-abate-of-arizona/
LOCATION:Desert Wind Harley-Davidson\, 922 S. Country Club Dr.\, Mesa\, AZ\, 85210\, United States
END:VEVENT
BEGIN:VEVENT
DTSTART;TZID=America/Phoenix:20180317T180000
DTEND;TZID=America/Phoenix:20180317T220000
DTSTAMP:20260425T055742
CREATED:20180307T164859Z
LAST-MODIFIED:20180307T165001Z
UID:4088-1521309600-1521324000@motorcyclesafari.com
SUMMARY:Old Bastards St. Patrick's Day Party
DESCRIPTION:Payson OBMC Presents St. Patrick’s Day Party\n17 March\, 2018 \nNo Cover – $6 Corned Beef & Cabbage Plate \nGreen Beverages – Fire Pits – Music – Games \nGator’s Birthday!  \nAt the Club House \n 
URL:https://motorcyclesafari.com/event/old-bastards-st-patricks-day-party/
LOCATION:Old Bastards MC Payson\, 109 W. Phoenix St.\, Payson\, AZ\, 85541\, United States
END:VEVENT
BEGIN:VEVENT
DTSTART;TZID=America/Phoenix:20180304T090000
DTEND;TZID=America/Phoenix:20180304T150000
DTSTAMP:20260425T055742
CREATED:20180204T231458Z
LAST-MODIFIED:20180204T231458Z
UID:4032-1520154000-1520175600@motorcyclesafari.com
SUMMARY:RIDING FOR THE LONG HAUL
DESCRIPTION:On March 4th\, 2018 the 4th Annual “Riding for the Long Haul” event will be held at Shrine Auditorium & Convention Center\, 552 North 40th Street\, Phoenix\, Arizona. \nFrom 9 am to 3 pm\, motorcycle enthusiasts will have access to interactive education\, the latest in safety gear and many other vendors. \nEntertainment includes music by Moonshine Voodoo\, the “Safety is Sexy” Fashion Show\, Motorcycle Drill teams from Local Police departments\, a People’s Choice Motorcycle show\, a ride-through food tent as well as motorcycle safety demonstrations\, food\, photos\, trophies for the largest group and farthest distance\, and raffles with a Grand Prize valued at $2500.00. \nAMSAF {AZ Motorcycle Safety and Awareness Foundation} annual Riding For the Long Haul will be at El Zaribah Shriners Auditorium in Phoenix. \nSponsors include Law Tigers. \nwww.amsaf.org
URL:https://motorcyclesafari.com/event/riding-for-the-long-haul-2/
LOCATION:El Zaribah Shrine Auditorium\, 552 N. 40th St.\, Phoenix\, AZ\, 85008\, United States
END:VEVENT
BEGIN:VEVENT
DTSTART;TZID=America/Phoenix:20180303T090000
DTEND;TZID=America/Phoenix:20180303T160000
DTSTAMP:20260425T055742
CREATED:20180204T200405Z
LAST-MODIFIED:20180204T200546Z
UID:4011-1520067600-1520092800@motorcyclesafari.com
SUMMARY:Accident Scene Management Basic Class
DESCRIPTION:PROUDLY SPONSORED BY ABATE OF ARIZONA – PHOENIX/SHADOW MOUNTAIN CHAPTER \nMarch 3rd\, 2018 from 9 am to 4 pm. \nAmerican Italian Club\, 7509 N 12th Street\, Phoenix\, AZ \nOriginal Cost is $75.00 – Save $50 on this class ONLY using Discount Code “Phoenix” – Register at https://www.eiseverywhere.com/ehome/index.php?eventid=311202 \nMore information about classes can be found here: http://www.AccidentScene.org
URL:https://motorcyclesafari.com/event/accident-scene-management-basic-class/
LOCATION:Arizona American Italian Club\, 7509 N 12th Street\, Phoenix\, AZ\, 85020\, United States
END:VEVENT
BEGIN:VEVENT
DTSTART;TZID=America/Phoenix:20180224T110000
DTEND;TZID=America/Phoenix:20180224T140000
DTSTAMP:20260425T055742
CREATED:20180204T230745Z
LAST-MODIFIED:20180204T230745Z
UID:4029-1519470000-1519480800@motorcyclesafari.com
SUMMARY:Bikes & Beads Mardi Gras Party
DESCRIPTION:If you love Mardi Gras as much as we do and didn’t make it to New Orleans here is your chance. Come party with SHD® \nFree Jambalaya 11 am til gone. \nLive Music by Bluesman Mike & the Blues Review \nBeads
URL:https://motorcyclesafari.com/event/bikes-beads-mardi-gras-party/
LOCATION:Superstition Harley Davidson\, 2910 W. Apache Trail\, Apache Juntion\, AZ\, 85120\, United States
END:VEVENT
BEGIN:VEVENT
DTSTART;TZID=America/Phoenix:20180217T120000
DTEND;TZID=America/Phoenix:20180217T170000
DTSTAMP:20260425T055742
CREATED:20180204T190626Z
LAST-MODIFIED:20180204T192555Z
UID:4000-1518868800-1518886800@motorcyclesafari.com
SUMMARY:Modified Motorcycle Association of Arizona's Annual Freedom Beach Party
DESCRIPTION:MMA Freedom Beach Party at Jake’s corner\, 57564 N Az Highway 188\, Payson\, Arizona. \n Live music by Frozen Fire. \nFree meal ticket for the first 200 \n$15.00 per person. \nHula Contest\, Ugly Hawaiian Shirt contest. Tattoo Contest and biker people games. \nCome on out and help support our cause to promote Motorcycle safety and awareness. \nFor More Inforamtion contact Cindy 623-695-5659 cgates0617@yahoo.com \n 
URL:https://motorcyclesafari.com/event/modified-motorcycle-association-of-arizonas-annual-freedom-beach-party/
LOCATION:Jake’s Corner\,  57564 AZ-188\, Payson\, AZ\, 85541\, United States
ORGANIZER;CN="Modified Motorcycle Association of Arizona":MAILTO:activities@mma-az.org
END:VEVENT
BEGIN:VEVENT
DTSTART;TZID=America/Phoenix:20180217T090000
DTEND;TZID=America/Phoenix:20180217T170000
DTSTAMP:20260425T055742
CREATED:20180204T194349Z
LAST-MODIFIED:20180204T194349Z
UID:4003-1518858000-1518886800@motorcyclesafari.com
SUMMARY:Run for Fisher House
DESCRIPTION:ABATE of Southern Arizona proudly presents the Annual Run for Fisher House \nHelping Military Families \nRegistration from 9:00 to 11:00 \nPoker Run: Starts at CHUY’S MESQUITE BROILER – 7101 E 22nd St\, Tucson\, AZ 85710 \nPoker Run: Ends at AMERICAN LEGION POST 68 – 4724 S 12th Avenue\, Tuscon\, AZ \nLast bike in by 3:00 PM \nFOOD AND DRINKS\, RAFFLE PRIZES\, LIVE MUSIC\, VENDORS \n50/50 RAFFLE \n 
URL:https://motorcyclesafari.com/event/run-for-fisher-house/
LOCATION:American Legion Post 68\, 4724 S 12th Avenue\, Tuscon\, AZ\, 85714\, United States
END:VEVENT
BEGIN:VEVENT
DTSTART;TZID=America/Phoenix:20180210T120000
DTEND;TZID=America/Phoenix:20180210T170000
DTSTAMP:20260425T055742
CREATED:20180204T195229Z
LAST-MODIFIED:20180204T195229Z
UID:4008-1518264000-1518282000@motorcyclesafari.com
SUMMARY:Bikers N Babes. Valentine's Party
DESCRIPTION:Bikers N Babes Valentine’s Party \nPresented by MMA-Rim Country District \nFeb.10th – 12:00 @ Bandits in Strawberry. \nBring your Valentine and play the Not so newly wed game. \n1st\, 2nd\, 3rd place prizes. \n Always fun. Come joins us. Everyone welcome.
URL:https://motorcyclesafari.com/event/bikers-n-babes-valentines-party/
LOCATION:Bandit’s Restaurant\, 5079-81 Hwy 87\, Strawberry\, AZ\, 85544\, United States
END:VEVENT
BEGIN:VEVENT
DTSTART;TZID=America/Phoenix:20171231T190000
DTEND;TZID=America/Phoenix:20180101T003000
DTSTAMP:20260425T055742
CREATED:20171221T194114Z
LAST-MODIFIED:20171221T194142Z
UID:3971-1514746800-1514766600@motorcyclesafari.com
SUMMARY:OBMC Payson New Years Clubhouse Party
DESCRIPTION:The Old Bastards Motorcycle Club Payson Chapter Invite You to Their 2018 NEW YEAR’S EVE CLUBHOUSE PARTY\n$5 Donation Requested \n7 PM to 2018 \nCHAMPAGNE TOAST AT MIDNIGHT \nDrinks – Game – Bonfire – Music – Food \n109 W. Phoenix Street\, Payson\, AZ 85541 \n 
URL:https://motorcyclesafari.com/event/obmc-payson-new-years-clubhouse-party/
LOCATION:Old Bastards MC Payson\, 109 W. Phoenix St.\, Payson\, AZ\, 85541\, United States
CATEGORIES:Fund Raiser
END:VEVENT
BEGIN:VEVENT
DTSTART;TZID=America/Phoenix:20171208T180000
DTEND;TZID=America/Phoenix:20171208T180000
DTSTAMP:20260425T055742
CREATED:20170114T183025Z
LAST-MODIFIED:20170114T183323Z
UID:3330-1512756000-1512756000@motorcyclesafari.com
SUMMARY:Hooligans MC Casa Grande Open House
DESCRIPTION:Open House 2nd Friday of the month.\nCome out and enjoy a night of Good Food\, Friends and Cold Drinks. \n129 E Cedar Ave\, Casa Grande\, Arizona 85122 \n6 PM
URL:https://motorcyclesafari.com/event/hooligans-mc-casa-grande-open-house-2017-12-08/
LOCATION:Hooligans MC Casa Grande\, 129 E Cedar Ave.\, Casa Grande\, AZ\, 85122\, United States
ATTACH;FMTTYPE=image/jpeg:https://motorcyclesafari.com/wp-content/uploads/2017/01/Hooligans-MC-Casa-Grande.jpg
END:VEVENT
BEGIN:VEVENT
DTSTART;TZID=America/Phoenix:20171110T180000
DTEND;TZID=America/Phoenix:20171110T180000
DTSTAMP:20260425T055742
CREATED:20170114T183025Z
LAST-MODIFIED:20170114T183318Z
UID:3329-1510336800-1510336800@motorcyclesafari.com
SUMMARY:Hooligans MC Casa Grande Open House
DESCRIPTION:Open House 2nd Friday of the month.\nCome out and enjoy a night of Good Food\, Friends and Cold Drinks. \n129 E Cedar Ave\, Casa Grande\, Arizona 85122 \n6 PM
URL:https://motorcyclesafari.com/event/hooligans-mc-casa-grande-open-house-2017-11-10/
LOCATION:Hooligans MC Casa Grande\, 129 E Cedar Ave.\, Casa Grande\, AZ\, 85122\, United States
ATTACH;FMTTYPE=image/jpeg:https://motorcyclesafari.com/wp-content/uploads/2017/01/Hooligans-MC-Casa-Grande.jpg
END:VEVENT
BEGIN:VEVENT
DTSTART;TZID=America/Phoenix:20171028T160000
DTEND;TZID=America/Phoenix:20171028T220000
DTSTAMP:20260425T055742
CREATED:20171003T014931Z
LAST-MODIFIED:20171015T233723Z
UID:3940-1509206400-1509228000@motorcyclesafari.com
SUMMARY:OBMC Payson Bags & Trunk or Treat Bikes & Hot Rod Show
DESCRIPTION:Hosted by the Native Grill\, Payson\, AZ\n\nSaturday\, Oct 28th \nCome on Out and Trick or Treat out of some Halloween decorated Harleys and Hots Rods. Entry is just a can food donation for the Trick Or Treaters and if you would like to enter your Ride it’s 15 Dollars and bring your own candy. Will also be taking Jacket and Blanket donations as well\, Proceeds will go out to the Holiday meals we deliver to families on our Harleys in November and December. \nThank You and God Bless. \nTrophies to Winners – Set-up at 2 PM – MUST Pre-Register your Ride by 26 Oct. Call Thumper at 928-978-8159 \nRaffles – 50/50 – Live Music by Plum Krazy! \nRaising Money for Holiday Meals to help Families in Need!
URL:https://motorcyclesafari.com/event/obmc-payson-bags-trunk-or-treat-bikes-hot-rod-show/
LOCATION:Native Grill & Wings\, 210 AZ-260\, Payson\, AZ\, 85541\, United States
END:VEVENT
BEGIN:VEVENT
DTSTART;TZID=America/Phoenix:20171013T180000
DTEND;TZID=America/Phoenix:20171013T180000
DTSTAMP:20260425T055742
CREATED:20170114T183025Z
LAST-MODIFIED:20170114T183318Z
UID:3328-1507917600-1507917600@motorcyclesafari.com
SUMMARY:Hooligans MC Casa Grande Open House
DESCRIPTION:Open House 2nd Friday of the month.\nCome out and enjoy a night of Good Food\, Friends and Cold Drinks. \n129 E Cedar Ave\, Casa Grande\, Arizona 85122 \n6 PM
URL:https://motorcyclesafari.com/event/hooligans-mc-casa-grande-open-house-2017-10-13/
LOCATION:Hooligans MC Casa Grande\, 129 E Cedar Ave.\, Casa Grande\, AZ\, 85122\, United States
ATTACH;FMTTYPE=image/jpeg:https://motorcyclesafari.com/wp-content/uploads/2017/01/Hooligans-MC-Casa-Grande.jpg
END:VEVENT
BEGIN:VEVENT
DTSTART;TZID=America/Phoenix:20170930T073000
DTEND;TZID=America/Phoenix:20170930T180000
DTSTAMP:20260425T055742
CREATED:20170925T200246Z
LAST-MODIFIED:20171016T002857Z
UID:3927-1506756600-1506794400@motorcyclesafari.com
SUMMARY:15th ANNUAL “HARD ASS RUN “ ALL BIKES WELCOME!!
DESCRIPTION:ABATE OF ARIZONA – EAST VALLEY CHAPTER proudly presents the 2017\, 15th ANNUAL\, “HARD ASS RUN “\nALL BIKES WELCOME!!\nUnited We Ride\, Divided We Fall.\n\nThis is a mystery poker run of approximately 300 miles benefiting ABATE’’s ability to fight for your rights & safety. \nCome on out and spend your bonus 5th Saturday in September with us\, September 30th. \nRegister between 7:30-9 AM. \nKick Stands Up 9 AM \nLast Bike out 9:30 AM \nEvil Twin 58 N Country Club\, Mesa\, AZ 85201 \n$20 per person – $30 for 2UP \nFirst 75 receive a collectible T-Shirt AWARDED at the end stop (wherever that may be). \nPoker Hand included & Passenger gets own card \nReplacement poker cards may be purchased for $1 each at end stop only \nRaffle prizes & 50/50 drawing (must be present to win) \nFMI: Jim @ (602) 312-1927 \n 
URL:https://motorcyclesafari.com/event/15th-annual-hard-ass-run-all-bikes-welcome/
LOCATION:Evil Twin Custom Cycles\, 58 N Country Club\, Mesa\, AZ\, 85201\, United States
CATEGORIES:Fund Raiser
END:VEVENT
BEGIN:VEVENT
DTSTART;TZID=America/Phoenix:20170909T120000
DTEND;TZID=America/Phoenix:20170909T170000
DTSTAMP:20260425T055742
CREATED:20170808T215431Z
LAST-MODIFIED:20170808T215431Z
UID:3908-1504958400-1504976400@motorcyclesafari.com
SUMMARY:4th Annual Running With The Pups
DESCRIPTION:Come on out and Support our Pup’s and Kitties of Payson! Proceeds will be hand delivered to our Humane Society of Central Arizona in Payson.\n \nJoin us at the OBMC’s brand new club house\, 109 W. Phoenix Street in Payson\, AZ \nThere will be bike games with trophies\, Coyote’s BBQ\, Ga\,es\, Dunk Tank\, Vendors \n50/50\, Raffles \nCold Drinks \nTicket includes food! \nSaturday\, September 9th 12 Noon to ??? \n$20 / person – Only $30 / Couple \nGrand Prize will be a newly reconditioned Dirt Bike!\nCome on out for a great time\, check out the new club house\, and support the awesome work done by Humane Society of Central Arizona. \n 
URL:https://motorcyclesafari.com/event/4th-annual-running-with-the-pups/
LOCATION:OBMC Payson Club House\, 109 W. Phoenix Street\, Payson\, AZ\, 85541\, United States
CATEGORIES:Chairity Event
END:VEVENT
END:VCALENDAR