BEGIN:VCALENDAR
VERSION:2.0
PRODID:-//Motorcycle Safari - ECPv6.13.1//NONSGML v1.0//EN
CALSCALE:GREGORIAN
METHOD:PUBLISH
X-ORIGINAL-URL:https://motorcyclesafari.com
X-WR-CALDESC:Events for Motorcycle Safari
REFRESH-INTERVAL;VALUE=DURATION:PT1H
X-Robots-Tag:noindex
X-PUBLISHED-TTL:PT1H
BEGIN:VTIMEZONE
TZID:America/Phoenix
BEGIN:STANDARD
TZOFFSETFROM:-0700
TZOFFSETTO:-0700
TZNAME:MST
DTSTART:20190101T000000
END:STANDARD
END:VTIMEZONE
BEGIN:VEVENT
DTSTART;TZID=America/Phoenix:20190921T093000
DTEND;TZID=America/Phoenix:20190921T173000
DTSTAMP:20260424T204154
CREATED:20190920T233633Z
LAST-MODIFIED:20190921T015436Z
UID:4681-1569058200-1569087000@motorcyclesafari.com
SUMMARY:1st Annual Clinton Pennington Memorial Ride
DESCRIPTION:Superstition Chapter of ABATE of AZ Proudly Presents\n\nThe 1st Annual Clinton Pennington Memorial Ride. This chapter exists because the chapter founders were tired of losing friends and loved ones on Arizona’s streets and highways. Come and help them remember Clinton. \nSee flyer for details. \n1st Stop\,  Ranco Bar 7 Restaurant\, Wickenburg. \n2nd stop (across the street)\, Mecca Sports Bar & Grill\, Wickenburg.
URL:https://motorcyclesafari.com/event/1st-annual-clinton-pennington-memorial-ride/
LOCATION:Rancho Bar 7 Restaurant\, 111 E Wickenburg Way\, Wickenburg\, AZ\, 85390\, United States
CATEGORIES:Fund Raiser,Open To Public
END:VEVENT
BEGIN:VEVENT
DTSTART;TZID=America/Phoenix:20190920T180000
DTEND;TZID=America/Phoenix:20190920T210000
DTSTAMP:20260424T204154
CREATED:20190920T232603Z
LAST-MODIFIED:20190920T232603Z
UID:4668-1569002400-1569013200@motorcyclesafari.com
SUMMARY:OBMC Payson Friday Bike Night
DESCRIPTION:Every Friday evening from 6 PM. \nDinner for $6. Drinks\, Music\, Great folks.
URL:https://motorcyclesafari.com/event/obmc-payson-friday-bike-night/
LOCATION:OBMC Payson Club House\, 109 W. Phoenix Street\, Payson\, AZ\, 85541\, United States
CATEGORIES:Open To Public
END:VEVENT
BEGIN:VEVENT
DTSTART;TZID=America/Phoenix:20190815T180000
DTEND;TZID=America/Phoenix:20190815T213000
DTSTAMP:20260424T204154
CREATED:20190119T010042Z
LAST-MODIFIED:20190119T010042Z
UID:4539-1565892000-1565904600@motorcyclesafari.com
SUMMARY:OBMC Payson - Bike Nights
DESCRIPTION:The Old Bastards MC in Payson\, AZ hosts a monthly Bike Night at the Native Grill in Payson on the 3rd Thursday of the month from 6 PM \n50/50 and Open to Everyone. It is a fun time so drop by and say hello. \n \n 
URL:https://motorcyclesafari.com/event/obmc-payson-bike-nights-2019-08-15/
LOCATION:Native Grill & Wings\, 210 AZ-260\, Payson\, AZ\, 85541\, United States
CATEGORIES:Open To Public
END:VEVENT
BEGIN:VEVENT
DTSTART;TZID=America/Phoenix:20190803T180000
DTEND;TZID=America/Phoenix:20190803T210000
DTSTAMP:20260424T204154
CREATED:20190119T005532Z
LAST-MODIFIED:20190119T005623Z
UID:4516-1564855200-1564866000@motorcyclesafari.com
SUMMARY:OBMC Payson - Open House
DESCRIPTION:The Old Bastards MC in Payson hosts an Open House on the First Saturday of every month from 6 pm. \nOPEN TO EVERYONE!
URL:https://motorcyclesafari.com/event/obmc-payson-open-house-2019-08-03/
LOCATION:OBMC Payson Club House\, 109 W. Phoenix Street\, Payson\, AZ\, 85541\, United States
CATEGORIES:Open To Public
END:VEVENT
BEGIN:VEVENT
DTSTART;TZID=America/Phoenix:20190718T180000
DTEND;TZID=America/Phoenix:20190718T213000
DTSTAMP:20260424T204154
CREATED:20190119T010042Z
LAST-MODIFIED:20190907T183424Z
UID:4538-1563472800-1563485400@motorcyclesafari.com
SUMMARY:OBMC Payson - Bike Nights
DESCRIPTION:The Old Bastards MC in Payson\, AZ hosts a monthly Bike Night at the Native Grill in Payson on the 3rd Thursday of the month from 6 PM \n50/50 and Open to Everyone. It is a fun time so drop by and say hello. \n \n 
URL:https://motorcyclesafari.com/event/obmc-payson-bike-nights-2019-07-18/
LOCATION:Native Grill & Wings\, 210 AZ-260\, Payson\, AZ\, 85541\, United States
CATEGORIES:Open To Public
END:VEVENT
BEGIN:VEVENT
DTSTART;TZID=America/Phoenix:20190713T120000
DTEND;TZID=America/Phoenix:20190713T160000
DTSTAMP:20260424T204154
CREATED:20190508T022818Z
LAST-MODIFIED:20190712T212419Z
UID:4627-1563019200-1563033600@motorcyclesafari.com
SUMMARY:6th Annual Runnin With the Pups
DESCRIPTION:The Payson chapter of the Old Bastards Motorcycle Club is please to present the 6th Annual fundraiser for the Central Arizona Humane Society! \nRaffles – Games – Gun Raffle – 50/50 – Vendors \nLive music by FROZEN FIRE \nLast year’s party was awesome. They had GREAT vendors\, lots of great food and just a really good time all around. PLUS\, they raised a TON of money for the Central Arizona Humane Society and I think a couple of dogs even got adopted! \nThis will be a great time so don’t miss out! \nFOOD INCLUDED IN ADMISSION \n 
URL:https://motorcyclesafari.com/event/6th-annual-runnin-with-the-pups/
LOCATION:OBMC Payson Club House\, 109 W. Phoenix Street\, Payson\, AZ\, 85541\, United States
CATEGORIES:Fund Raiser,Open To Public
END:VEVENT
BEGIN:VEVENT
DTSTART;TZID=America/Phoenix:20190706T180000
DTEND;TZID=America/Phoenix:20190706T230000
DTSTAMP:20260424T204154
CREATED:20190517T210816Z
LAST-MODIFIED:20190517T211136Z
UID:4633-1562436000-1562454000@motorcyclesafari.com
SUMMARY:CHRISTMAS IN JULY FOR VETERANS
DESCRIPTION:Freedom Biker Outreach\, Hooligans MC\, Desert Thunder MC\, ALMA MC\, and the Leathernecks MC together present Christmas In July Benefit to help homeless veterans. Let’s help them through the summer with new\, unused\, donations of toiletries\, socks\, shirts\, underwear\, water\, and anything else that would help them. \nThe above clubs will have large donation boxes set up at their clubhouse to collect early donations from now until the event\, which will be held at the Hooligans MC Deer Valley clubhouse on July 6 at 6:00 pm. \nPlease spread the word and help us help our country’s veterans. Thank you for your support. \nEntry fee at the gate to the event on July 6th is your new\, unused\, donation to the veterans.
URL:https://motorcyclesafari.com/event/christmas-in-july-for-veterans/
LOCATION:Hooligans MC\, 2663 W Lone Cactus Dr\,\, Phoenix\, AZ\, 85027\, United States
CATEGORIES:Chairity Event,Open To Public
END:VEVENT
BEGIN:VEVENT
DTSTART;TZID=America/Phoenix:20190706T180000
DTEND;TZID=America/Phoenix:20190706T210000
DTSTAMP:20260424T204154
CREATED:20190119T005532Z
LAST-MODIFIED:20190119T005623Z
UID:4515-1562436000-1562446800@motorcyclesafari.com
SUMMARY:OBMC Payson - Open House
DESCRIPTION:The Old Bastards MC in Payson hosts an Open House on the First Saturday of every month from 6 pm. \nOPEN TO EVERYONE!
URL:https://motorcyclesafari.com/event/obmc-payson-open-house-2019-07-06/
LOCATION:OBMC Payson Club House\, 109 W. Phoenix Street\, Payson\, AZ\, 85541\, United States
CATEGORIES:Open To Public
END:VEVENT
BEGIN:VEVENT
DTSTART;TZID=America/Phoenix:20190621T160000
DTEND;TZID=America/Phoenix:20190622T200000
DTSTAMP:20260424T204154
CREATED:20190119T223124Z
LAST-MODIFIED:20190119T223124Z
UID:4577-1561132800-1561233600@motorcyclesafari.com
SUMMARY:10th Annual White Mountain Bike Rally
DESCRIPTION:Rain or Shine \n$3\,000 Poker Run Saturday! \n$3\,000 Bike Show Saturday!
URL:https://motorcyclesafari.com/event/10th-annual-white-mountain-bike-rally/
LOCATION:Hon-Dah Resort Casino\, 777 Highway 260\, Pinetop\, AZ\, 85925\, United States
CATEGORIES:Open To Public
END:VEVENT
BEGIN:VEVENT
DTSTART;VALUE=DATE:20190621
DTEND;VALUE=DATE:20190624
DTSTAMP:20260424T204154
CREATED:20190614T215431Z
LAST-MODIFIED:20190614T215431Z
UID:4643-1561075200-1561334399@motorcyclesafari.com
SUMMARY:26th Annual Great Escape Rally
DESCRIPTION:The Desert Road Riders proudly present the 26th Annual Great Escape Rally\nJune 21\, 22 and 23 at the Stagecoach 66 Motel in Seligman AZ – Exit 123 off I-40 \nLive Music\, Games\, 50/50\, Raffle Prizes \nFood Drink & Fun \n$25/$45 – Includes entertainment\, events and Saturday’s dinner. \nBenefits Desert Road Riders MC Toy Run \n 
URL:https://motorcyclesafari.com/event/26th-annual-great-escape-rally/
LOCATION:Stagecoach 66 Motel\, 21455 Interstate 40 Business Loop Exit 123\, Seligman\, AZ\, 86337\, United States
CATEGORIES:Chairity Event,Fund Raiser,Open To Public
END:VEVENT
BEGIN:VEVENT
DTSTART;TZID=America/Phoenix:20190620T180000
DTEND;TZID=America/Phoenix:20190620T213000
DTSTAMP:20260424T204154
CREATED:20190119T010042Z
LAST-MODIFIED:20190119T010042Z
UID:4537-1561053600-1561066200@motorcyclesafari.com
SUMMARY:OBMC Payson - Bike Nights
DESCRIPTION:The Old Bastards MC in Payson\, AZ hosts a monthly Bike Night at the Native Grill in Payson on the 3rd Thursday of the month from 6 PM \n50/50 and Open to Everyone. It is a fun time so drop by and say hello. \n \n 
URL:https://motorcyclesafari.com/event/obmc-payson-bike-nights-2019-06-20/
LOCATION:Native Grill & Wings\, 210 AZ-260\, Payson\, AZ\, 85541\, United States
CATEGORIES:Open To Public
END:VEVENT
BEGIN:VEVENT
DTSTART;TZID=America/Phoenix:20190601T180000
DTEND;TZID=America/Phoenix:20190601T210000
DTSTAMP:20260424T204154
CREATED:20190119T005532Z
LAST-MODIFIED:20190119T005623Z
UID:4514-1559412000-1559422800@motorcyclesafari.com
SUMMARY:OBMC Payson - Open House
DESCRIPTION:The Old Bastards MC in Payson hosts an Open House on the First Saturday of every month from 6 pm. \nOPEN TO EVERYONE!
URL:https://motorcyclesafari.com/event/obmc-payson-open-house-2019-06-01/
LOCATION:OBMC Payson Club House\, 109 W. Phoenix Street\, Payson\, AZ\, 85541\, United States
CATEGORIES:Open To Public
END:VEVENT
BEGIN:VEVENT
DTSTART;TZID=America/Phoenix:20190516T180000
DTEND;TZID=America/Phoenix:20190516T213000
DTSTAMP:20260424T204154
CREATED:20190119T010042Z
LAST-MODIFIED:20190119T010042Z
UID:4536-1558029600-1558042200@motorcyclesafari.com
SUMMARY:OBMC Payson - Bike Nights
DESCRIPTION:The Old Bastards MC in Payson\, AZ hosts a monthly Bike Night at the Native Grill in Payson on the 3rd Thursday of the month from 6 PM \n50/50 and Open to Everyone. It is a fun time so drop by and say hello. \n \n 
URL:https://motorcyclesafari.com/event/obmc-payson-bike-nights-2019-05-16/
LOCATION:Native Grill & Wings\, 210 AZ-260\, Payson\, AZ\, 85541\, United States
CATEGORIES:Open To Public
END:VEVENT
BEGIN:VEVENT
DTSTART;TZID=America/Phoenix:20190504T180000
DTEND;TZID=America/Phoenix:20190504T210000
DTSTAMP:20260424T204154
CREATED:20190119T005532Z
LAST-MODIFIED:20190119T005623Z
UID:4513-1556992800-1557003600@motorcyclesafari.com
SUMMARY:OBMC Payson - Open House
DESCRIPTION:The Old Bastards MC in Payson hosts an Open House on the First Saturday of every month from 6 pm. \nOPEN TO EVERYONE!
URL:https://motorcyclesafari.com/event/obmc-payson-open-house-2019-05-04/
LOCATION:OBMC Payson Club House\, 109 W. Phoenix Street\, Payson\, AZ\, 85541\, United States
CATEGORIES:Open To Public
END:VEVENT
BEGIN:VEVENT
DTSTART;TZID=America/Phoenix:20190503T120000
DTEND;TZID=America/Phoenix:20190505T120000
DTSTAMP:20260424T204154
CREATED:20190119T015729Z
LAST-MODIFIED:20190315T175609Z
UID:4559-1556884800-1557057600@motorcyclesafari.com
SUMMARY:15th Annual Wild In The Weeds Motorcycle Rally
DESCRIPTION:High Country Chapter of ABATE of AZ  proudly presents the 15th Annual Wild In The Weeds Old Skool Biker Rally\nFeaturing UNCHAINED on Saturday! \n \n 
URL:https://motorcyclesafari.com/event/15th-annual-wild-in-the-weeds-motorcycle-rally/
LOCATION:Punkin Center Lodge\, Bar and Grill\, Old Highway 188\, Tonto Basin\, AZ\, United States
CATEGORIES:Fund Raiser,Open To Public
END:VEVENT
BEGIN:VEVENT
DTSTART;TZID=America/Phoenix:20190418T180000
DTEND;TZID=America/Phoenix:20190418T213000
DTSTAMP:20260424T204154
CREATED:20190119T010042Z
LAST-MODIFIED:20190119T010042Z
UID:4535-1555610400-1555623000@motorcyclesafari.com
SUMMARY:OBMC Payson - Bike Nights
DESCRIPTION:The Old Bastards MC in Payson\, AZ hosts a monthly Bike Night at the Native Grill in Payson on the 3rd Thursday of the month from 6 PM \n50/50 and Open to Everyone. It is a fun time so drop by and say hello. \n \n 
URL:https://motorcyclesafari.com/event/obmc-payson-bike-nights-2019-04-18/
LOCATION:Native Grill & Wings\, 210 AZ-260\, Payson\, AZ\, 85541\, United States
CATEGORIES:Open To Public
END:VEVENT
BEGIN:VEVENT
DTSTART;TZID=America/Phoenix:20190406T180000
DTEND;TZID=America/Phoenix:20190406T210000
DTSTAMP:20260424T204154
CREATED:20190119T005532Z
LAST-MODIFIED:20190119T005623Z
UID:4512-1554573600-1554584400@motorcyclesafari.com
SUMMARY:OBMC Payson - Open House
DESCRIPTION:The Old Bastards MC in Payson hosts an Open House on the First Saturday of every month from 6 pm. \nOPEN TO EVERYONE!
URL:https://motorcyclesafari.com/event/obmc-payson-open-house-2019-04-06/
LOCATION:OBMC Payson Club House\, 109 W. Phoenix Street\, Payson\, AZ\, 85541\, United States
CATEGORIES:Open To Public
END:VEVENT
BEGIN:VEVENT
DTSTART;TZID=America/Phoenix:20190321T180000
DTEND;TZID=America/Phoenix:20190321T213000
DTSTAMP:20260424T204154
CREATED:20190119T010042Z
LAST-MODIFIED:20190119T010042Z
UID:4534-1553191200-1553203800@motorcyclesafari.com
SUMMARY:OBMC Payson - Bike Nights
DESCRIPTION:The Old Bastards MC in Payson\, AZ hosts a monthly Bike Night at the Native Grill in Payson on the 3rd Thursday of the month from 6 PM \n50/50 and Open to Everyone. It is a fun time so drop by and say hello. \n \n 
URL:https://motorcyclesafari.com/event/obmc-payson-bike-nights-2019-03-21/
LOCATION:Native Grill & Wings\, 210 AZ-260\, Payson\, AZ\, 85541\, United States
CATEGORIES:Open To Public
END:VEVENT
BEGIN:VEVENT
DTSTART;TZID=America/Phoenix:20190303T100000
DTEND;TZID=America/Phoenix:20190303T150000
DTSTAMP:20260424T204154
CREATED:20190205T173118Z
LAST-MODIFIED:20190205T173118Z
UID:4594-1551607200-1551625200@motorcyclesafari.com
SUMMARY:Riding For The Long Haul
DESCRIPTION:AMSAF Riding for the Long Haul: On March 3\, 2019\, the fifth annual “Riding for the Long Haul” event will be held at Shrine Auditorium & Convention Center\, 552 North 40th Street\, Phoenix\, Arizona from 10am to 3pm. This year’s event will feature music; the “Safety is Sexy” Fashion Show; Motorcycle Drill teams from Local Police departments; a People’s Choice Motorcycle show; vendors of motorcycles and accessories\, clothing\, and jewelry; a ride-through food tent as well as motorcycle safety demonstrations; food; photos; raffles with a Grand Prize valued at $2500.00 and much more. Oh and admission is free.
URL:https://motorcyclesafari.com/event/riding-for-the-long-haul-3/
LOCATION:Shrine Auditorium & Convention Center\, 552 NORTH 40TH STREET\, Phoenix\, AZ\, 85042\, United States
CATEGORIES:Fund Raiser,Open To Public
END:VEVENT
BEGIN:VEVENT
DTSTART;TZID=America/Phoenix:20190302T180000
DTEND;TZID=America/Phoenix:20190302T210000
DTSTAMP:20260424T204154
CREATED:20190119T005532Z
LAST-MODIFIED:20190119T005623Z
UID:4511-1551549600-1551560400@motorcyclesafari.com
SUMMARY:OBMC Payson - Open House
DESCRIPTION:The Old Bastards MC in Payson hosts an Open House on the First Saturday of every month from 6 pm. \nOPEN TO EVERYONE!
URL:https://motorcyclesafari.com/event/obmc-payson-open-house-2019-03-02/
LOCATION:OBMC Payson Club House\, 109 W. Phoenix Street\, Payson\, AZ\, 85541\, United States
CATEGORIES:Open To Public
END:VEVENT
BEGIN:VEVENT
DTSTART;TZID=America/Phoenix:20190221T180000
DTEND;TZID=America/Phoenix:20190221T213000
DTSTAMP:20260424T204154
CREATED:20190119T010042Z
LAST-MODIFIED:20190119T010042Z
UID:4533-1550772000-1550784600@motorcyclesafari.com
SUMMARY:OBMC Payson - Bike Nights
DESCRIPTION:The Old Bastards MC in Payson\, AZ hosts a monthly Bike Night at the Native Grill in Payson on the 3rd Thursday of the month from 6 PM \n50/50 and Open to Everyone. It is a fun time so drop by and say hello. \n \n 
URL:https://motorcyclesafari.com/event/obmc-payson-bike-nights-2019-02-21/
LOCATION:Native Grill & Wings\, 210 AZ-260\, Payson\, AZ\, 85541\, United States
CATEGORIES:Open To Public
END:VEVENT
BEGIN:VEVENT
DTSTART;TZID=America/Phoenix:20190219T090000
DTEND;TZID=America/Phoenix:20190219T130000
DTSTAMP:20260424T204154
CREATED:20190119T014935Z
LAST-MODIFIED:20190119T014935Z
UID:4557-1550566800-1550581200@motorcyclesafari.com
SUMMARY:Motorcycle Day At The Dome
DESCRIPTION:This year’s Motorcycle Day at the Dome will be on Tuesday\, February 19th from 9 AM to 1 PM. \nThis year we will be set-up on the Senate Lawn with Motorcycle Only Parking directly adjacent. \nWe are fighting for your rights\, your safety and your freedom. \nJoin us and meet your elected representatives and let them know where you stand on pending legislation! \nMore information is available at MotorcycleDayAtTheDome.com
URL:https://motorcyclesafari.com/event/motorcycle-day-at-the-dome-2/
LOCATION:Arizona Capitol\, 1700 W. WASHINGTON\, Phoenix\, AZ\, 85007\, United States
CATEGORIES:Open To Public
END:VEVENT
BEGIN:VEVENT
DTSTART;TZID=America/Phoenix:20190215T180000
DTEND;TZID=America/Phoenix:20190215T200000
DTSTAMP:20260424T204154
CREATED:20190206T163407Z
LAST-MODIFIED:20190206T163407Z
UID:4597-1550253600-1550260800@motorcyclesafari.com
SUMMARY:MMAA Helmet Law Discussion
DESCRIPTION:The Mountain Motorcycle Association of Arizona (MMAA) is holding a public information meeting in Show Low at the Show Low Cafe on Friday\, February 15th at 6 PM. \nSeating is limited so get there early.
URL:https://motorcyclesafari.com/event/mmaa-helmet-law-discussion/
LOCATION:Show Low Cafe\, 480 W Deuce of Clubs\, Show Low\, AZ\, 85901\, United States
CATEGORIES:Open To Public
END:VEVENT
BEGIN:VEVENT
DTSTART;TZID=America/Phoenix:20190203T150000
DTEND;TZID=America/Phoenix:20190203T203000
DTSTAMP:20260424T204154
CREATED:20190119T010843Z
LAST-MODIFIED:20190119T010843Z
UID:4546-1549206000-1549225800@motorcyclesafari.com
SUMMARY:Old Bastards Super Bowl Sunday Party
DESCRIPTION:The Old Bastards MC is hosting a Super Bowl Party on Feb 3 from 3 PM until the game is over. \nOpen to Everyone! \nCan you think of a more fun place to watch the Super Bowl? \n \n 
URL:https://motorcyclesafari.com/event/old-bastards-super-bowl-sunday-party/
LOCATION:OBMC Payson Club House\, 109 W. Phoenix Street\, Payson\, AZ\, 85541\, United States
CATEGORIES:Open To Public
END:VEVENT
BEGIN:VEVENT
DTSTART;TZID=America/Phoenix:20190202T180000
DTEND;TZID=America/Phoenix:20190202T210000
DTSTAMP:20260424T204154
CREATED:20190119T005532Z
LAST-MODIFIED:20190119T005622Z
UID:4510-1549130400-1549141200@motorcyclesafari.com
SUMMARY:OBMC Payson - Open House
DESCRIPTION:The Old Bastards MC in Payson hosts an Open House on the First Saturday of every month from 6 pm. \nOPEN TO EVERYONE!
URL:https://motorcyclesafari.com/event/obmc-payson-open-house-2019-02-02/
LOCATION:OBMC Payson Club House\, 109 W. Phoenix Street\, Payson\, AZ\, 85541\, United States
CATEGORIES:Open To Public
END:VEVENT
BEGIN:VEVENT
DTSTART;TZID=America/Phoenix:20190117T180000
DTEND;TZID=America/Phoenix:20190117T213000
DTSTAMP:20260424T204154
CREATED:20190119T010042Z
LAST-MODIFIED:20190119T010042Z
UID:4531-1547748000-1547760600@motorcyclesafari.com
SUMMARY:OBMC Payson - Bike Nights
DESCRIPTION:The Old Bastards MC in Payson\, AZ hosts a monthly Bike Night at the Native Grill in Payson on the 3rd Thursday of the month from 6 PM \n50/50 and Open to Everyone. It is a fun time so drop by and say hello. \n \n 
URL:https://motorcyclesafari.com/event/obmc-payson-bike-nights/
LOCATION:Native Grill & Wings\, 210 AZ-260\, Payson\, AZ\, 85541\, United States
CATEGORIES:Open To Public
END:VEVENT
BEGIN:VEVENT
DTSTART;TZID=America/Phoenix:20190105T180000
DTEND;TZID=America/Phoenix:20190105T210000
DTSTAMP:20260424T204154
CREATED:20190119T005532Z
LAST-MODIFIED:20190119T005622Z
UID:4507-1546711200-1546722000@motorcyclesafari.com
SUMMARY:OBMC Payson - Open House
DESCRIPTION:The Old Bastards MC in Payson hosts an Open House on the First Saturday of every month from 6 pm. \nOPEN TO EVERYONE!
URL:https://motorcyclesafari.com/event/obmc-payson-open-house/
LOCATION:OBMC Payson Club House\, 109 W. Phoenix Street\, Payson\, AZ\, 85541\, United States
CATEGORIES:Open To Public
END:VEVENT
END:VCALENDAR