BEGIN:VCALENDAR
VERSION:2.0
PRODID:-//Motorcycle Safari - ECPv6.13.1//NONSGML v1.0//EN
CALSCALE:GREGORIAN
METHOD:PUBLISH
X-WR-CALNAME:Motorcycle Safari
X-ORIGINAL-URL:https://motorcyclesafari.com
X-WR-CALDESC:Events for Motorcycle Safari
REFRESH-INTERVAL;VALUE=DURATION:PT1H
X-Robots-Tag:noindex
X-PUBLISHED-TTL:PT1H
BEGIN:VTIMEZONE
TZID:America/Phoenix
BEGIN:STANDARD
TZOFFSETFROM:-0700
TZOFFSETTO:-0700
TZNAME:MST
DTSTART:20190101T000000
END:STANDARD
END:VTIMEZONE
BEGIN:VEVENT
DTSTART;TZID=America/Phoenix:20200219T100000
DTEND;TZID=America/Phoenix:20200219T130000
DTSTAMP:20260424T153853
CREATED:20191220T201334Z
LAST-MODIFIED:20191220T201334Z
UID:4794-1582106400-1582117200@motorcyclesafari.com
SUMMARY:MOTORCYCLE DAY AT THE DOME
DESCRIPTION:NO MATTER WHAT YOU RIDE!\nMOTORCYCLE DAY AT THE DOME\nFebruary 19\, 2020\n10 AM – 1 PM\nHave your voice heard by our elected officials and make a difference for ALL motorcyclists in Arizona!
URL:https://motorcyclesafari.com/event/motorcycle-day-at-the-dome-3/
LOCATION:Arizona Capitol\, 1700 W. WASHINGTON\, Phoenix\, AZ\, 85007\, United States
CATEGORIES:Open To Public
END:VEVENT
BEGIN:VEVENT
DTSTART;VALUE=DATE:20200215
DTEND;VALUE=DATE:20200218
DTSTAMP:20260424T153853
CREATED:20200116T212007Z
LAST-MODIFIED:20200116T212007Z
UID:4801-1581724800-1581983999@motorcyclesafari.com
SUMMARY:ARIZONA’S BUILDERS SHOWCASE – 2020
DESCRIPTION:All of Arizona’s Premiere Motorcycle Builders Showcasing their Latest Custom Creations. \nTons of vendors and giveaways. \nCome & meet Arizona’s premiere builders! \nVendors – Live Music – Events – Everyday.
URL:https://motorcyclesafari.com/event/arizonas-builders-showcase-2020/
LOCATION:The Hideway Grill\, 6746 E. Cave Creek Rd\, Cave Creek\, AZ\, 85331\, United States
CATEGORIES:Open To Public
END:VEVENT
BEGIN:VEVENT
DTSTART;VALUE=DATE:20200214
DTEND;VALUE=DATE:20200217
DTSTAMP:20260424T153853
CREATED:20200116T213130Z
LAST-MODIFIED:20200116T213219Z
UID:4805-1581638400-1581897599@motorcyclesafari.com
SUMMARY:Lake Havasu Rockabilly Reunion
DESCRIPTION:Come be a part of The LARGEST ROCKABILLY MUSIC FESTIVAL AND CAR / MOTORCYCLE SHOW in the State of Arizona \nWe invite you to come enjoy the Largest 1950’s themed carshow\, Music Festival Rockabilly event in the state of Arizona. \nTHE BIG 12th Annual Lake Havasu Rockabilly Reunion held February 14-15-16\, 2020 is hosted right on the banks of Lake Havasu. The venue gives a perfect setting of the lake and the California and Arizona mountains surrounding the venue. \nBeing sanctioned by THE ROCKABILLY HALL OF FAME\, we are proud to say the event can entertain four generations of one family at the same time. \nThe event offers you the following: \n– 3 Days of a fun Filled Family Event \n– Car / Motorcycle Show with over 800 plus vehicles on display \n– 150 plus Vendors to shop till you drop from \n– The Largest Vintage Pin Up Pageant West of the Mississippi. \n– Food Court that offers so many different menu selections. \n– 20 Bands during the 3 days \n– Celebrity Appearances \n– Enjoy The Freestyle Motocross Stunt Show \n– Kids of all ages Fun zone \n– Raflles \n– After Parties \n– and much much more
URL:https://motorcyclesafari.com/event/lake-havasu-rockabilly-reunion/
LOCATION:Lake Havasu State Park\, 699 London Bridge Rd\, Lake Havasu City\, AZ\, 86403\, United States
CATEGORIES:Motorcycle Show,Open To Public
END:VEVENT
BEGIN:VEVENT
DTSTART;TZID=America/Phoenix:20200207T180000
DTEND;TZID=America/Phoenix:20200207T220000
DTSTAMP:20260424T153853
CREATED:20191220T192501Z
LAST-MODIFIED:20191220T192501Z
UID:4771-1581098400-1581112800@motorcyclesafari.com
SUMMARY:Motorcycles on Main Bike Night in Downtown Mesa
DESCRIPTION:Motorcycles on Main Bike Night in Downtown Mesa from 6-10 pm\nLive music\, Beer Garden\, vendors\, & more. Park & show your bike. \nEateries open. \nEvery first Friday between September & June. \nFun for the whole family\, Motorcycles on Main – Bike Night in Downtown Mesa is a park and ride event. Streets are closed to car traffic\, there is Sturgis style parking\, live music\, food\, beer garden\, and lots more! \nIf you need an address for directions\, use 1 N. Macdonald Mesa 85201. \nPlease do not park along the Light Rail guide rails in the center of the street. There is plenty of parking along the sidewalks! \nVendors call Courtney 480-890-2613
URL:https://motorcyclesafari.com/event/motorcycles-on-main-bike-night-in-downtown-mesa-2020-02-07/
LOCATION:Motorcycles On Main\, 1 N. MacDonald\, Mesa\, AZ\, 85201\, United States
CATEGORIES:Open To Public
END:VEVENT
BEGIN:VEVENT
DTSTART;TZID=America/Phoenix:20200125T100000
DTEND;TZID=America/Phoenix:20200125T190000
DTSTAMP:20260424T153853
CREATED:20191220T200927Z
LAST-MODIFIED:20191220T200927Z
UID:4790-1579946400-1579978800@motorcyclesafari.com
SUMMARY:Monster Energy Supercross
DESCRIPTION:Monster Energy AMA Supercross\, a FIM World Championship\, is the most competitive and highest-profile off-road motorcycle racing championship in the world featuring innovative track designs and attracting impressive crowds set inside recognizable and prestigious stadiums. \nEvent Day Timeline:\n\nBox Office: 10AM\nFan Fest: 12-6PM\nOpening Ceremonies: 6:30PM\nRacing Starts: 7PM
URL:https://motorcyclesafari.com/event/monster-energy-supercross/
LOCATION:State Farm Stadium\, 1 Cardinals Drive\, Glendale\, AZ\, 85305\, United States
CATEGORIES:Open To Public
END:VEVENT
BEGIN:VEVENT
DTSTART;TZID=America/Phoenix:20200112T080000
DTEND;TZID=America/Phoenix:20200112T170000
DTSTAMP:20260424T153853
CREATED:20191220T194036Z
LAST-MODIFIED:20191220T194036Z
UID:4776-1578816000-1578848400@motorcyclesafari.com
SUMMARY:2020 Classic Motorcycle Show & Swap Meet
DESCRIPTION:Motorcycle Mechanics Institute – 2844 W. Deer Valley Rd\, Phoenix\, AZ 85027. \nSetup: 6 am \nShow/Swap Hours: 8 am – 1 pm. \nFirst space $10\, Additional Spaces $5/each. \nPresented by the Phoenix Road Runner Chapter of the Antique Motorcycle Club of America. \nSponsors include Law Tigers AZ.
URL:https://motorcyclesafari.com/event/2020-classic-motorcycle-show-swap-meet/
LOCATION:Motorcycle Mechanics Institute\, 2844 W. Deer Valley Rd.\, Phoenix\, AZ\, 85027\, United States
CATEGORIES:Open To Public
END:VEVENT
BEGIN:VEVENT
DTSTART;TZID=America/Phoenix:20200103T180000
DTEND;TZID=America/Phoenix:20200103T220000
DTSTAMP:20260424T153853
CREATED:20191220T192501Z
LAST-MODIFIED:20191220T192501Z
UID:4768-1578074400-1578088800@motorcyclesafari.com
SUMMARY:Motorcycles on Main Bike Night in Downtown Mesa
DESCRIPTION:Motorcycles on Main Bike Night in Downtown Mesa from 6-10 pm\nLive music\, Beer Garden\, vendors\, & more. Park & show your bike. \nEateries open. \nEvery first Friday between September & June. \nFun for the whole family\, Motorcycles on Main – Bike Night in Downtown Mesa is a park and ride event. Streets are closed to car traffic\, there is Sturgis style parking\, live music\, food\, beer garden\, and lots more! \nIf you need an address for directions\, use 1 N. Macdonald Mesa 85201. \nPlease do not park along the Light Rail guide rails in the center of the street. There is plenty of parking along the sidewalks! \nVendors call Courtney 480-890-2613
URL:https://motorcyclesafari.com/event/motorcycles-on-main-bike-night-in-downtown-mesa/
LOCATION:Motorcycles On Main\, 1 N. MacDonald\, Mesa\, AZ\, 85201\, United States
CATEGORIES:Open To Public
END:VEVENT
BEGIN:VEVENT
DTSTART;TZID=America/Phoenix:20200101T083000
DTEND;TZID=America/Phoenix:20200101T160000
DTSTAMP:20260424T153853
CREATED:20191219T175541Z
LAST-MODIFIED:20191220T191844Z
UID:4763-1577867400-1577894400@motorcyclesafari.com
SUMMARY:25th Annual Frosty Balls & Chilly Boobs Dice Run
DESCRIPTION:Open to the public. Hosted by MMA – Verde Valley \nPlease join us for the 25th Annual Frosty Balls & Chilly Boobs. Jan. 1 2020. \nDice Run Benefiting Oak Creek School Dist. \nSign up at American Legion Post 25 9 am. \nBreakfast will be available at American Legion Post 25 8:30 am \nKSU 10:30 am. \nEvent Tee shirts – 50/50 – High $100/ Low $50 – Raffles \n5 stops through our beautiful Verde Valley. \n$20/per rider\, $10 passenger. \nCome join the fun. Cages rides are welcome.
URL:https://motorcyclesafari.com/event/frosty-balls-chilly-boobs/
LOCATION:American Legion Post 25\, 480 S Calvary Way\, Cottonwood\, AZ\, 86322\, United States
CATEGORIES:Fund Raiser,Open To Public
END:VEVENT
BEGIN:VEVENT
DTSTART;TZID=America/Phoenix:20191214T110000
DTEND;TZID=America/Phoenix:20191214T160000
DTSTAMP:20260424T153853
CREATED:20191018T225156Z
LAST-MODIFIED:20191018T225156Z
UID:4721-1576321200-1576339200@motorcyclesafari.com
SUMMARY:17th Annual Barbie Hensler Memorial Toy Run
DESCRIPTION:High Country Chapter of ABATE of Arizona Proudly Presents\nSaturday\, December 14th from 11 AM to 4 PM \nUNWRAPPED DONATIONS OF NEW TOYS AND CLOTHES NEEDED \nCollecting gifts for toddler to teenager. \nSilent Auction\, 50/50 Drawing\, Raffle Prizes\, Music\, Dancing\, Cold Beer\, Hot Food \nThe Buffalo Bar & Grill\, Route 87 in Payson\, AZ \nSee flyer for more details.
URL:https://motorcyclesafari.com/event/17th-annual-barbie-hensler-memorial-toy-run/
LOCATION:Buffalo Bar & Grill\, 311 S Beeline Highway\, Payson\, AZ\, 85541\, United States
CATEGORIES:Chairity Event,Open To Public
END:VEVENT
BEGIN:VEVENT
DTSTART;TZID=America/Phoenix:20191129T180000
DTEND;TZID=America/Phoenix:20191129T210000
DTSTAMP:20260424T153853
CREATED:20190920T232603Z
LAST-MODIFIED:20190920T232603Z
UID:4680-1575050400-1575061200@motorcyclesafari.com
SUMMARY:OBMC Payson Friday Bike Night
DESCRIPTION:Every Friday evening from 6 PM. \nDinner for $6. Drinks\, Music\, Great folks.
URL:https://motorcyclesafari.com/event/obmc-payson-friday-bike-night-2019-11-29/
LOCATION:OBMC Payson Club House\, 109 W. Phoenix Street\, Payson\, AZ\, 85541\, United States
CATEGORIES:Open To Public
END:VEVENT
BEGIN:VEVENT
DTSTART;TZID=America/Phoenix:20191123T120000
DTEND;TZID=America/Phoenix:20191123T140000
DTSTAMP:20260424T153853
CREATED:20191016T164054Z
LAST-MODIFIED:20191016T164054Z
UID:4715-1574510400-1574517600@motorcyclesafari.com
SUMMARY:ABATE of Arizona State-Wide Membership Meeting
DESCRIPTION:ATTENTION ARIZONA RIDERS – ABATE STATE MEETING\nIf you are not a member\, but interested\, you are welcome to attend.\nALL Members should make an effort to attend this event. We will be electing new State Officers for all positions.\nCome and Support Your Organization. Make yourself heard. VOTE!
URL:https://motorcyclesafari.com/event/abate-of-arizona-state-wide-membership-meeting/
LOCATION:Arizona American Italian Club\, 7509 N 12th Street\, Phoenix\, AZ\, 85020\, United States
CATEGORIES:Open To Public
END:VEVENT
BEGIN:VEVENT
DTSTART;TZID=America/Phoenix:20191122T180000
DTEND;TZID=America/Phoenix:20191122T210000
DTSTAMP:20260424T153853
CREATED:20190920T232603Z
LAST-MODIFIED:20190920T232603Z
UID:4679-1574445600-1574456400@motorcyclesafari.com
SUMMARY:OBMC Payson Friday Bike Night
DESCRIPTION:Every Friday evening from 6 PM. \nDinner for $6. Drinks\, Music\, Great folks.
URL:https://motorcyclesafari.com/event/obmc-payson-friday-bike-night-2019-11-22/
LOCATION:OBMC Payson Club House\, 109 W. Phoenix Street\, Payson\, AZ\, 85541\, United States
CATEGORIES:Open To Public
END:VEVENT
BEGIN:VEVENT
DTSTART;TZID=America/Phoenix:20191115T180000
DTEND;TZID=America/Phoenix:20191115T210000
DTSTAMP:20260424T153853
CREATED:20190920T232603Z
LAST-MODIFIED:20190920T232603Z
UID:4678-1573840800-1573851600@motorcyclesafari.com
SUMMARY:OBMC Payson Friday Bike Night
DESCRIPTION:Every Friday evening from 6 PM. \nDinner for $6. Drinks\, Music\, Great folks.
URL:https://motorcyclesafari.com/event/obmc-payson-friday-bike-night-2019-11-15/
LOCATION:OBMC Payson Club House\, 109 W. Phoenix Street\, Payson\, AZ\, 85541\, United States
CATEGORIES:Open To Public
END:VEVENT
BEGIN:VEVENT
DTSTART;TZID=America/Phoenix:20191108T180000
DTEND;TZID=America/Phoenix:20191108T210000
DTSTAMP:20260424T153853
CREATED:20190920T232603Z
LAST-MODIFIED:20190920T232603Z
UID:4677-1573236000-1573246800@motorcyclesafari.com
SUMMARY:OBMC Payson Friday Bike Night
DESCRIPTION:Every Friday evening from 6 PM. \nDinner for $6. Drinks\, Music\, Great folks.
URL:https://motorcyclesafari.com/event/obmc-payson-friday-bike-night-2019-11-08/
LOCATION:OBMC Payson Club House\, 109 W. Phoenix Street\, Payson\, AZ\, 85541\, United States
CATEGORIES:Open To Public
END:VEVENT
BEGIN:VEVENT
DTSTART;VALUE=DATE:20191108
DTEND;VALUE=DATE:20191111
DTSTAMP:20260424T153853
CREATED:20190921T001511Z
LAST-MODIFIED:20191016T164717Z
UID:4704-1573171200-1573430399@motorcyclesafari.com
SUMMARY:Arizona Confederation of Motorcycle Clubs' Riot on the River
DESCRIPTION:RIOT ON THE RIVER\n\nNOV 8-10 2019\nACMC Hosts Annual Riot on the River in beautiful Winkelman\, AZ. \nAll ACMC Members should NOT use this weekend for ANY OTHER EVENTS!!!!! This is the ONLY EVENT the ACMC hosts to raise money for OUR CONFEDERATION!!!! BE  Respectful of this!!!!! Any questions please contact the ACMC Board of Directors. \nPrices are $20 per person \, $30 per couple \nSheriff’s Department from up around Winkelman have said that no glass bottles  \nare allowed in the area\, only cans are to be permitted. He requested that we post this information somewhere on the website\, along with a reminder that beverages will be available up at the event for $1.00
URL:https://motorcyclesafari.com/event/arizona-confederation-of-motorcycle-clubs-riot-on-the-river/
LOCATION:Winkelman Flats\, Winkelman\, AZ\, 85192\, United States
CATEGORIES:Fund Raiser,Open To Public
END:VEVENT
BEGIN:VEVENT
DTSTART;TZID=America/Phoenix:20191101T180000
DTEND;TZID=America/Phoenix:20191101T210000
DTSTAMP:20260424T153853
CREATED:20190920T232603Z
LAST-MODIFIED:20190920T232603Z
UID:4676-1572631200-1572642000@motorcyclesafari.com
SUMMARY:OBMC Payson Friday Bike Night
DESCRIPTION:Every Friday evening from 6 PM. \nDinner for $6. Drinks\, Music\, Great folks.
URL:https://motorcyclesafari.com/event/obmc-payson-friday-bike-night-2019-11-01/
LOCATION:OBMC Payson Club House\, 109 W. Phoenix Street\, Payson\, AZ\, 85541\, United States
CATEGORIES:Open To Public
END:VEVENT
BEGIN:VEVENT
DTSTART;TZID=America/Phoenix:20191026T170000
DTEND;TZID=America/Phoenix:20191026T220000
DTSTAMP:20260424T153853
CREATED:20191021T191035Z
LAST-MODIFIED:20191021T191035Z
UID:4731-1572109200-1572127200@motorcyclesafari.com
SUMMARY:Haloween Party
DESCRIPTION:Proudly Presented by ABATE of Arizona Mohave Chapter and VFW Post 2555 – Golden Valley\, AZ \nKids welcome until 8 PM! \nCostume Contest – PHOTO BOOTH – Food – Music – Raffle \nGames for Kids and Adults! \n 
URL:https://motorcyclesafari.com/event/haloween-party/
LOCATION:VFW Post 2555\, 6068 Supai Dr.\, Golden Valley\, AZ\, 86413\, United States
CATEGORIES:Fund Raiser,Open To Public
END:VEVENT
BEGIN:VEVENT
DTSTART;TZID=America/Phoenix:20191026T170000
DTEND;TZID=America/Phoenix:20191026T210000
DTSTAMP:20260424T153853
CREATED:20191019T033111Z
LAST-MODIFIED:20191019T033344Z
UID:4724-1572109200-1572123600@motorcyclesafari.com
SUMMARY:5th Annual BAGS & TRUNK OR TREAT
DESCRIPTION:Hosted by Old Bastards MC Payson and Native Grill & Wings\n5 pm till 9 pm on October 26\, 2019. \nDecorating contest for bikes and hot rods. Trophies for the best Bike or Hot Rod. ( set up starts @ 2pm ) \nLive Band (Plum Krazy) – 50/50 and Raffles. \nAnnual benefit to help families in need by providing holiday meals and toys. \nBrings the kids for a safe alternative to trick or treating for a canned food donation. \nFor contest entry info contact: Coors\, 520-850-0116. Hope to see you there.
URL:https://motorcyclesafari.com/event/5th-annual-bags-trunk-or-treat/
LOCATION:Native Grill & Wings\, 210 AZ-260\, Payson\, AZ\, 85541\, United States
CATEGORIES:Chairity Event,Open To Public
END:VEVENT
BEGIN:VEVENT
DTSTART;TZID=America/Phoenix:20191026T170000
DTEND;TZID=America/Phoenix:20191026T210000
DTSTAMP:20260424T153853
CREATED:20191005T201215Z
LAST-MODIFIED:20191005T201215Z
UID:4708-1572109200-1572123600@motorcyclesafari.com
SUMMARY:OBMC. BAGS & TRUNK OR TREAT 2019
DESCRIPTION:Presented by Old Bastards MC Payson \nOpen to the Public! \nOld bastards presents 5th annual Bag & Trunk or Treat.\n\nHosted by Payson Native Grill and Wings.\n\n\nEvents starts @ 5pm till 9pm on October 26\, 2019.\nDecorating contest for bikes and hot rods.\nTrophies for the best Bike or Hot Rod. ( set up starts @ 2pm )\nLive Band ( Plum Krazy) 50/50 and Raffles.\nAnnual benefit to help families in need by providing holiday meals and toys.\nBrings the kids for a safe alternative to trick or treating for a canned food donation.\n\n\nFor contest entry info contact: Coors\, 520-850-0116.\n\nHope to see you there.
URL:https://motorcyclesafari.com/event/obmc-bags-trunk-or-treat-2019/
LOCATION:Native Grill & Wings\, 210 AZ-260\, Payson\, AZ\, 85541\, United States
CATEGORIES:Chairity Event,Open To Public
END:VEVENT
BEGIN:VEVENT
DTSTART;TZID=America/Phoenix:20191026T070000
DTEND;TZID=America/Phoenix:20191026T180000
DTSTAMP:20260424T153853
CREATED:20191005T202118Z
LAST-MODIFIED:20191005T202118Z
UID:4711-1572073200-1572112800@motorcyclesafari.com
SUMMARY:Hard Ass Run - 2019
DESCRIPTION:Proudly Presented by ABATE of AZ East Valley Chapter \n400+ miles – 9 hours \nSign-in: 7 AM to 9 AM at Desert Wind Harley-Davidson\, Mesa. \nPoker Run: Best Hand – $150\, Worst Hand – $50. \nThis is NOT a Race. \nIf you Live to Ride\, this is YOUR run! \n  \n 
URL:https://motorcyclesafari.com/event/hard-ass-run-2019/
LOCATION:Desert Wind Harley-Davidson\, 922 S. Country Club Dr.\, Mesa\, AZ\, 85210\, United States
CATEGORIES:Fund Raiser,Open To Public
END:VEVENT
BEGIN:VEVENT
DTSTART;TZID=America/Phoenix:20191025T180000
DTEND;TZID=America/Phoenix:20191025T210000
DTSTAMP:20260424T153853
CREATED:20190920T232603Z
LAST-MODIFIED:20190920T232603Z
UID:4675-1572026400-1572037200@motorcyclesafari.com
SUMMARY:OBMC Payson Friday Bike Night
DESCRIPTION:Every Friday evening from 6 PM. \nDinner for $6. Drinks\, Music\, Great folks.
URL:https://motorcyclesafari.com/event/obmc-payson-friday-bike-night-2019-10-25/
LOCATION:OBMC Payson Club House\, 109 W. Phoenix Street\, Payson\, AZ\, 85541\, United States
CATEGORIES:Open To Public
END:VEVENT
BEGIN:VEVENT
DTSTART;TZID=America/Phoenix:20191019T113000
DTEND;TZID=America/Phoenix:20191019T170000
DTSTAMP:20260424T153853
CREATED:20190907T184304Z
LAST-MODIFIED:20190907T184720Z
UID:4663-1571484600-1571504400@motorcyclesafari.com
SUMMARY:14th Annual Chili Cook-Off
DESCRIPTION:High Country Chapter of ABATE of AZ Proudly Presents\n14th Annual Chili Cook-Off \nProceeds are used to support Barbie’s Toy Run in December! \n$5 for All You Can Eat Chili (after judging — You get to Judge TOO!) \n$5 to enter you Chili. \nWinner gets $200 Cash PLUS a Cool Trophy! \nLIVE Entertainment by HANS OLSON \nIn 1996\, Hans Olson was inducted in the Arizona Blues Hall of Fame. \n— San Francisco Chronicle\nHans Olson is a veteran performing musician with over fifty years in the music business. He began his career as a lead singer in a rock-and-roll band in Southern California in 1967. By 1970\, he had developed a unique and powerful solo act. He plays an amplified acoustic guitar and harmonica and is known as one of the best “harp-in-a-rack” players in the world. \nOlson’s singing is very powerful\, and he is comfortable singing many styles of music\, from mellow folk ballads to growling boogie blues. His songwriting is one of his most notable assets. He has recorded over one hundred of his songs on his seventeen record releases. \nOlson has been a full-time performing musician since 1972. He has toured all over the world\, but most of the time he travels the highways in Arizona\, where he has an amazing reputation of being a solo act that can rock a nightclub all night long. He plays music in a wide variety of styles influenced by artists such as Muddy Waters\, Johnny Cash\, Woody Guthrie\, Bruce Springsteen\, Eric Burdon\, Van Morrison\, Bonnie Raitt\, Bob Dylan\, the Rolling Stones\, John Lee Hooker\, John Hammond\, and Tom Waits.
URL:https://motorcyclesafari.com/event/14th-annual-chili-cook-off/
LOCATION:Midtown Yard\, 3870 E\, AZ-260\, Star Valley\, 85541\, United States
CATEGORIES:Fund Raiser,Open To Public
END:VEVENT
BEGIN:VEVENT
DTSTART;TZID=America/Phoenix:20191018T180000
DTEND;TZID=America/Phoenix:20191018T210000
DTSTAMP:20260424T153853
CREATED:20190920T232603Z
LAST-MODIFIED:20190920T232603Z
UID:4674-1571421600-1571432400@motorcyclesafari.com
SUMMARY:OBMC Payson Friday Bike Night
DESCRIPTION:Every Friday evening from 6 PM. \nDinner for $6. Drinks\, Music\, Great folks.
URL:https://motorcyclesafari.com/event/obmc-payson-friday-bike-night-2019-10-18/
LOCATION:OBMC Payson Club House\, 109 W. Phoenix Street\, Payson\, AZ\, 85541\, United States
CATEGORIES:Open To Public
END:VEVENT
BEGIN:VEVENT
DTSTART;VALUE=DATE:20191018
DTEND;VALUE=DATE:20191020
DTSTAMP:20260424T153853
CREATED:20190921T000211Z
LAST-MODIFIED:20190921T000211Z
UID:4698-1571356800-1571529599@motorcyclesafari.com
SUMMARY:3rd Annual Skills Competition
DESCRIPTION:See flyer for details.
URL:https://motorcyclesafari.com/event/3rd-annual-skills-competition/
LOCATION:Desert Wind Harley-Davidson\, 922 S. Country Club Dr.\, Mesa\, AZ\, 85210\, United States
CATEGORIES:Open To Public
END:VEVENT
BEGIN:VEVENT
DTSTART;TZID=America/Phoenix:20191012T173000
DTEND;TZID=America/Phoenix:20191012T233000
DTSTAMP:20260424T153853
CREATED:20190921T000916Z
LAST-MODIFIED:20190921T001236Z
UID:4701-1570901400-1570923000@motorcyclesafari.com
SUMMARY:Moon Miler
DESCRIPTION:Phoenix Chapter of ABATE of AZ Proudly Presents\nMoon Miler Fundraiser Run (Formerly Moon Mullins) \nRegistration 5:30 PM. KSU at 6pm. I-17 to Sunset Point and then to Ain’t Nicks Tavern (6840 N 27th Ave\, Phoenix\, AZ 85017) \nSee flyer for details.
URL:https://motorcyclesafari.com/event/moon-miler/
LOCATION:Arizona American Italian Club\, 7509 N 12th Street\, Phoenix\, AZ\, 85020\, United States
CATEGORIES:Fund Raiser,Open To Public
END:VEVENT
BEGIN:VEVENT
DTSTART;TZID=America/Phoenix:20191012T090000
DTEND;TZID=America/Phoenix:20191012T170000
DTSTAMP:20260424T153853
CREATED:20190920T235702Z
LAST-MODIFIED:20190920T235702Z
UID:4694-1570870800-1570899600@motorcyclesafari.com
SUMMARY:MMAA Annual Toy Run
DESCRIPTION:Mountain Motorcycle Association of Arizona (MMAA) will conduct its 2019 Toy Drive and Fundraiser\nSaturday\, October 12\, 2019. \nSign-in from 9 am – 10 am \nSee flyer for details. \n 
URL:https://motorcyclesafari.com/event/mmaa-annual-toy-run/
LOCATION:Aces Ale House\, 1457 E Deuce of Clubs\, Show Low\, AZ\, 85901\, United States
CATEGORIES:Chairity Event,Open To Public
END:VEVENT
BEGIN:VEVENT
DTSTART;TZID=America/Phoenix:20191011T180000
DTEND;TZID=America/Phoenix:20191011T210000
DTSTAMP:20260424T153853
CREATED:20190920T232603Z
LAST-MODIFIED:20190920T232603Z
UID:4673-1570816800-1570827600@motorcyclesafari.com
SUMMARY:OBMC Payson Friday Bike Night
DESCRIPTION:Every Friday evening from 6 PM. \nDinner for $6. Drinks\, Music\, Great folks.
URL:https://motorcyclesafari.com/event/obmc-payson-friday-bike-night-2019-10-11/
LOCATION:OBMC Payson Club House\, 109 W. Phoenix Street\, Payson\, AZ\, 85541\, United States
CATEGORIES:Open To Public
END:VEVENT
BEGIN:VEVENT
DTSTART;TZID=America/Phoenix:20191004T180000
DTEND;TZID=America/Phoenix:20191004T210000
DTSTAMP:20260424T153853
CREATED:20190920T232603Z
LAST-MODIFIED:20190920T232603Z
UID:4672-1570212000-1570222800@motorcyclesafari.com
SUMMARY:OBMC Payson Friday Bike Night
DESCRIPTION:Every Friday evening from 6 PM. \nDinner for $6. Drinks\, Music\, Great folks.
URL:https://motorcyclesafari.com/event/obmc-payson-friday-bike-night-2019-10-04/
LOCATION:OBMC Payson Club House\, 109 W. Phoenix Street\, Payson\, AZ\, 85541\, United States
CATEGORIES:Open To Public
END:VEVENT
BEGIN:VEVENT
DTSTART;VALUE=DATE:20191004
DTEND;VALUE=DATE:20191007
DTSTAMP:20260424T153853
CREATED:20190921T002051Z
LAST-MODIFIED:20190921T002051Z
UID:4706-1570147200-1570406399@motorcyclesafari.com
SUMMARY:AZ Rat Pack Route 66 Tour
DESCRIPTION:Join us for a ride that has been a long standing tradition of our club.  Our annual Route 66 Tour will start in Scottsdale then lend you an opportunity to live “Take It Easy” by the Eagles and “Stand on the corner of Winslow\, Arizona”.  We will then head west on as much of the Mother Road as possible and end the night in historic Williams.  The next morning\, we will roll through Ash Fork and head into Seligman for breakfast\, the town that inspired the original Disney movie\, “Cars”.  After breakfast we will continue on Route 66 and make stops in Hackberry\, Kingman and historic Oatman where Clark Gable and Carol Lombard spent their wedding night.  We will then head for Laughlin\, NV and the Colorado Belle for a stop for the night.  On Sunday morning\, we’ll get up early and head to a more modern Route 66 attraction\, Topock66 for breakfast.  From here\,  you’re on your own to head back home via the route of your choosing. \nThe difficulty level of this ride is EASY.  This ride will have a relaxed pace with frequent rest stops and roads not providing much of a challenge.  Be prepared for possibly cold\, almost freezing temperatures early in the day.  This will be a great ride for beginner/intermediate riders as well as cruisers and people riding two-up. This is a great first overnight trip for the novice touring rider!  Roughly 491 miles total from GO AZ Motorcycles Scottsdale to Topock66. \nGo HERE for detailed information.
URL:https://motorcyclesafari.com/event/az-rat-pack-route-66-tour/
LOCATION:Go AZ Motorcycles\, 15500 N Hayden Road\, Scottsdale\, AZ\, 85260\, United States
CATEGORIES:Open To Public
END:VEVENT
BEGIN:VEVENT
DTSTART;TZID=America/Phoenix:20190927T180000
DTEND;TZID=America/Phoenix:20190927T210000
DTSTAMP:20260424T153853
CREATED:20190920T232603Z
LAST-MODIFIED:20190920T234845Z
UID:4671-1569607200-1569618000@motorcyclesafari.com
SUMMARY:OBMC Payson Friday Bike Night
DESCRIPTION:No Bike Night Tonight due to Celebration of Life for Pops! \nPops Celebration of Life \n \n  \n  \n 
URL:https://motorcyclesafari.com/event/obmc-payson-friday-bike-night-2019-09-27/
LOCATION:OBMC Payson Club House\, 109 W. Phoenix Street\, Payson\, AZ\, 85541\, United States
CATEGORIES:Open To Public
END:VEVENT
END:VCALENDAR