BEGIN:VCALENDAR
VERSION:2.0
PRODID:-//Motorcycle Safari - ECPv6.13.1//NONSGML v1.0//EN
CALSCALE:GREGORIAN
METHOD:PUBLISH
X-WR-CALNAME:Motorcycle Safari
X-ORIGINAL-URL:https://motorcyclesafari.com
X-WR-CALDESC:Events for Motorcycle Safari
REFRESH-INTERVAL;VALUE=DURATION:PT1H
X-Robots-Tag:noindex
X-PUBLISHED-TTL:PT1H
BEGIN:VTIMEZONE
TZID:America/Phoenix
BEGIN:STANDARD
TZOFFSETFROM:-0700
TZOFFSETTO:-0700
TZNAME:MST
DTSTART:20200101T000000
END:STANDARD
END:VTIMEZONE
BEGIN:VEVENT
DTSTART;TZID=America/Phoenix:20200516T090000
DTEND;TZID=America/Phoenix:20200516T170000
DTSTAMP:20260424T143306
CREATED:20200416T235750Z
LAST-MODIFIED:20200507T224451Z
UID:4888-1589619600-1589648400@motorcyclesafari.com
SUMMARY:Carriage House Bike Run
DESCRIPTION:POSTPONED – CHECK BACK LATER FOR NEW DATE\nThis benefit run supports the assisted living community in Snowflake.\nEntry fee is one non-perishable food item per person which goes to the Veterans in the White Mountains \nCMA will have Bike Games with Trophies. \nMMAA will have a poker run and 50/50. \nTrophies and cook-out compliments of the Carriage House. \nAt 1:30 pm there will be a ride to the American Legion in Heber-Overgaard to continue the party! \nAt 3:00 PM Head over to The Cabin. \nAt 4:00 pm ride to The Black Horse Brewery in Linden\, AZ \nDo Good\, Feel Good!
URL:https://motorcyclesafari.com/event/carriage-house-bike-run/
LOCATION:Show Low Motorsports\, 1000 North Automall Pkwy\, Show Low\, AZ\, 85901\, United States
CATEGORIES:Chairity Event,Mountain Motorcycle Association of Arizona
END:VEVENT
END:VCALENDAR