BEGIN:VCALENDAR
VERSION:2.0
PRODID:-//Motorcycle Safari - ECPv6.13.1//NONSGML v1.0//EN
CALSCALE:GREGORIAN
METHOD:PUBLISH
X-WR-CALNAME:Motorcycle Safari
X-ORIGINAL-URL:https://motorcyclesafari.com
X-WR-CALDESC:Events for Motorcycle Safari
REFRESH-INTERVAL;VALUE=DURATION:PT1H
X-Robots-Tag:noindex
X-PUBLISHED-TTL:PT1H
BEGIN:VTIMEZONE
TZID:America/Phoenix
BEGIN:STANDARD
TZOFFSETFROM:-0700
TZOFFSETTO:-0700
TZNAME:MST
DTSTART:20200101T000000
END:STANDARD
END:VTIMEZONE
BEGIN:VEVENT
DTSTART;VALUE=DATE:20200424
DTEND;VALUE=DATE:20200427
DTSTAMP:20260424T153642
CREATED:20200222T011921Z
LAST-MODIFIED:20200222T011921Z
UID:4850-1587686400-1587945599@motorcyclesafari.com
SUMMARY:Alien Abduction Grand Tour
DESCRIPTION:Proudly Conducted by the AZ Rat Pack \nDidn’t storm Area 51 this year? Here’s your opportunity to (not recommended)! We’ll have our first night’s stay in scenic Page\, AZ with a stop the next day for lunch in Rachel\, NV near the infamous Area 51. The second night’s stay will be in the mountainous outskirts of Las Vegas at a ski resort on Mt. Charleston. \nWe normally run a 50/50 raffle on this ride. Tickets will be available for sale throughout Day 1. Ticket sellers will be introduced at the morning’s riders meeting and can be purchased from them throughout the day. the drawing will be held after dinner on Day 1 at the Rainbow Room. \nThe difficulty level of this ride is INTERMEDIATE. This ride will have a moderate but entertaining sport touring pace with roads providing some challenge. Be prepared for cold temperatures in the mornings\, especially in elevation\, warm to hot temperatures later in the day and long days in the saddle. This will be a great ride for beginner/intermediate touring riders as well as cruisers and people riding two-up. Roughly 863 miles total from the start point at GO AZ Motorcycles Peoria to the end at The Retreat On Charleston Peak. This does not include your mileage home. Scheduled gas stops are approximately 150 miles apart generally. \n***Please arrive with a full tank of fuel! First gas stop is 85 miles away!*** \nRide Chair: Victor Castaneda Jr \nStart Time: 7:30 AM \nStart Location: GO AZ Motorcycles Peoria \nEnd Location: The Retreat On Charleston Peak\, Las Vegas\, NV
URL:https://motorcyclesafari.com/event/alien-abduction-grand-tour/
LOCATION:Go AZ Motorcycles\, 15500 N Hayden Road\, Scottsdale\, AZ\, 85260\, United States
CATEGORIES:AZ Rat Pack,Just A Ride
END:VEVENT
BEGIN:VEVENT
DTSTART;TZID=America/Phoenix:20200321T090000
DTEND;TZID=America/Phoenix:20200321T170000
DTSTAMP:20260424T153642
CREATED:20200212T193948Z
LAST-MODIFIED:20200212T193948Z
UID:4839-1584781200-1584810000@motorcyclesafari.com
SUMMARY:Ride With The Wind
DESCRIPTION:Superstition Chapter of ABATE of Arizona is having their first chapter run on March 21st. \nCome out and support our chapter. \nOnly $10 Donation (suggested) \n50/50 – Door Prizes! \nJust a fun day of riding. You do NOT need to be a member of ABATE to participate!
URL:https://motorcyclesafari.com/event/ride-with-the-wind/
LOCATION:Superstition Harley Davidson\, 2910 W. Apache Trail\, Apache Juntion\, AZ\, 85120\, United States
CATEGORIES:Fund Raiser,Just A Ride,Open To Public
END:VEVENT
BEGIN:VEVENT
DTSTART;TZID=America/Phoenix:20200216T110000
DTEND;TZID=America/Phoenix:20200216T160000
DTSTAMP:20260424T153642
CREATED:20200214T174802Z
LAST-MODIFIED:20200214T174802Z
UID:4846-1581850800-1581868800@motorcyclesafari.com
SUMMARY:CAVECREEK HELLS ANGELS BUCKIN’ BBQ
DESCRIPTION:Everyone Loves BBQ!
URL:https://motorcyclesafari.com/event/cavecreek-hells-angels-buckin-bbq/
LOCATION:Outlaws\, 6705 E Cave Creek Rd.\, Cave Creek\, AZ\, 85331\, United States
CATEGORIES:Just A Ride
END:VEVENT
END:VCALENDAR