BEGIN:VCALENDAR
VERSION:2.0
PRODID:-//Motorcycle Safari - ECPv6.13.1//NONSGML v1.0//EN
CALSCALE:GREGORIAN
METHOD:PUBLISH
X-ORIGINAL-URL:https://motorcyclesafari.com
X-WR-CALDESC:Events for Motorcycle Safari
REFRESH-INTERVAL;VALUE=DURATION:PT1H
X-Robots-Tag:noindex
X-PUBLISHED-TTL:PT1H
BEGIN:VTIMEZONE
TZID:America/Phoenix
BEGIN:STANDARD
TZOFFSETFROM:-0700
TZOFFSETTO:-0700
TZNAME:MST
DTSTART:20150101T000000
END:STANDARD
END:VTIMEZONE
BEGIN:VEVENT
DTSTART;VALUE=DATE:20151018
DTEND;VALUE=DATE:20151019
DTSTAMP:20260425T042303
CREATED:20151010T001812Z
LAST-MODIFIED:20151010T001812Z
UID:993-1445126400-1445212799@motorcyclesafari.com
SUMMARY:Petaluma Elks Lodge 901 PURPLE PIG RUN
DESCRIPTION:This run has been annual but was skipped last year.Â All are welcome for the Run\, BBQ and Car Show.\n\n\n\nWhile the flyer states this benefits Eks children’s charities I have been told Petaluma Elks will host a Military Family Appreciation Picnic as a thanks to our Active Military and Veterans! \n\n\n\n\n\n\n\n\n\nPoker Run sign ups begins 0830 and KSU is approx 0930 hrs. Cars may be included in a 2nd group.\n\nThe route is 70 miles\, 2 hrs\, begins and ends at The Elks Lodge\, 2105 So McDowell in Petaluma. Stops anticipated at Spanckys\, in Occidental and at Washoe House. \n\n\n\n$ 25 RIDER (BBQ\, T-SHIRT) $ 15 PASSENGER (BBQ)\n$ 25 PASSENGER (BBQ\, T-SHIRT) $ 10 CAR SHOW ENTRY FEE\n$ 15 TRI-TIP (BBQ ONLY) $ 5 TASTING FEE $ 15 T-SHIRT
URL:https://motorcyclesafari.com/event/petaluma-elks-lodge-901-purple-pig-run/
LOCATION:PETALUMA ELKS LODGE\, 2105 SOUTH McDOWELL BLVD.\, Petaluma\, CA\, 94954\, United States
CATEGORIES:Chairity Event,Fund Raiser
ATTACH;FMTTYPE=image/png:https://motorcyclesafari.com/wp-content/uploads/2015/10/Screenshot-2015-10-09-17.07.01.png
ORGANIZER;CN="Petaluma Elks Lodge 901":MAILTO:info@elks901.org
END:VEVENT
BEGIN:VEVENT
DTSTART;TZID=America/Phoenix:20151017T120000
DTEND;TZID=America/Phoenix:20151017T170000
DTSTAMP:20260425T042303
CREATED:20150719T193637Z
LAST-MODIFIED:20150824T011222Z
UID:665-1445083200-1445101200@motorcyclesafari.com
SUMMARY:10th Annual Chili Cook-Off sponsored by ABATE of AZ High Country Chapter
DESCRIPTION:Entries in by Noon – $5 Entry Fee / $5 all you can eat chili \nPrize for Best Chili – Entry $$ + $100.00 \n50/50 Drawing – 2 X $50.00 VISA Card Raffle – Silent Auction \nLiveÂ Music \nAfter the tasting eat lots of great chili! \nJudging starts at 12:30 – Winners announced at 4:30 \n 
URL:https://motorcyclesafari.com/event/10th-annual-chili-cook-off-sponsored-by-abate-of-az-high-country-chapter/
LOCATION:Spur Bar\, 3964 Hwy 260\, Star Valley\, AZ\, 85541\, United States
CATEGORIES:Fund Raiser
ATTACH;FMTTYPE=image/png:https://motorcyclesafari.com/wp-content/uploads/2015/07/flyer-final.png
END:VEVENT
BEGIN:VEVENT
DTSTART;VALUE=DATE:20151017
DTEND;VALUE=DATE:20151020
DTSTAMP:20260425T042303
CREATED:20150719T201732Z
LAST-MODIFIED:20150719T201732Z
UID:674-1445040000-1445299199@motorcyclesafari.com
SUMMARY:ACMC Hosts 8th Annual Riot on the River
DESCRIPTION:Adults Only – No one under 18 admitted \nAll types of Vendors \nBike Games \n50/50 Drawing \nRaffle Tickets \nDJ Music Friday / Live Music Saturday \nSoft Drinks and Beer $1.00 (YES $1) \nFood an Mixed Drinks Available \n$30.00 per couple for the weekend \n$20.00 per person for the weekend \n$1.00 for Saturday pass \nCome with your Camper\, RV or Tent. Take advantage of the nice park facilities\, and the Gila River at the edge of the park know as Winkleman Flats. \nDirections: From Mesa\, AZ\, Take the 60 (Superstition Freeway) to Superior and head East on highway 177. Go until it ends at highway 77. Go straight across highway 77 and down into the Winkleman Flats City Park. The whole trip is 80 miles from Mesa. \n 
URL:https://motorcyclesafari.com/event/acmc-hosts-8th-annual-riot-on-the-river/
LOCATION:Winkelman Flats\, Winkelman\, AZ\, 85192\, United States
CATEGORIES:Fund Raiser
ATTACH;FMTTYPE=image/png:https://motorcyclesafari.com/wp-content/uploads/2015/07/www.azcmc_.com-RORFLYER14PDF.pdf.png
END:VEVENT
BEGIN:VEVENT
DTSTART;TZID=America/Phoenix:20150926T160000
DTEND;TZID=America/Phoenix:20150926T160000
DTSTAMP:20260425T042303
CREATED:20150913T152520Z
LAST-MODIFIED:20160912T014440Z
UID:843-1443283200-1443283200@motorcyclesafari.com
SUMMARY:Moon Mullins Run
DESCRIPTION:Join A.B.A.T.E. of Arizonaâ€™s Phoenix/Shadow Mountainâ€™s annual night ride in the desert.\nRegistration starts at 4 pm The Maverick Saloon 9505 N. 19th Ave. Phoenix\, Kick stand up 6 pm.\nSingle rider $10 / Rider and Passenger $15\nWe will end the ride at A.B.A.T.Eâ€™s state office located at the Arizona American Italian Club 7509 N. 12th Street Phoenix\nIf you are not going to ride but want to meet up with us for drinks and fun\, meet us at the end. You can come earlier but the pack should arrive between 8 and 9 pm.
URL:https://motorcyclesafari.com/event/moon-mullins-run/
LOCATION:Maverick Saloon\, 9605 N 19th Ave\,\, Phoenix\, AZ\, 85021\, United States
CATEGORIES:Fund Raiser
ATTACH;FMTTYPE=image/jpeg:https://motorcyclesafari.com/wp-content/uploads/2015/09/IMG_3728-1-1.jpg
END:VEVENT
BEGIN:VEVENT
DTSTART;VALUE=DATE:20150920
DTEND;VALUE=DATE:20150921
DTSTAMP:20260425T042303
CREATED:20150921T014834Z
LAST-MODIFIED:20150921T014834Z
UID:949-1442707200-1442793599@motorcyclesafari.com
SUMMARY:Hells Angels Cave Creek 3rd Annual Bikers & Bulls
DESCRIPTION:Â Arizona Confederation of Clubs\, Inc. says …\n\nGreat event with lots of fun and camaraderie. Hope to see you there. One of the bigger events in Arizona.\n\nCurrently I have no information other than the flyer. If anyone has some \, please leave a comment and I’ll update the calendar.
URL:https://motorcyclesafari.com/event/hells-angels-cave-creek-3rd-annual-bikers-bulls/
LOCATION:Road Runner Restaurant & Saloon\,  47801 N. Black Canyon Highway\, New River\, AZ\, 85087\, United States
CATEGORIES:Fund Raiser
ATTACH;FMTTYPE=image/jpeg:https://motorcyclesafari.com/wp-content/uploads/2015/09/12037976_815544885233371_7705830582288567631_n.jpg
END:VEVENT
BEGIN:VEVENT
DTSTART;VALUE=DATE:20150904
DTEND;VALUE=DATE:20150907
DTSTAMP:20260425T042303
CREATED:20150527T214210Z
LAST-MODIFIED:20150809T202336Z
UID:521-1441324800-1441583999@motorcyclesafari.com
SUMMARY:MMA of AZ Rim Country District 5th Annual Camp N Jam
DESCRIPTION:Camping\, Live music Fri & Sat. Band X\, Bon Fire on Sat.
URL:https://motorcyclesafari.com/event/mma-of-az-rim-country-district-annual-camp-n-jam/
LOCATION:Double D Restaurant & Bar at Tonto Village\, Johnson Blvd.\, Payson\, AZ\, 85541\, United States
CATEGORIES:Fund Raiser
ATTACH;FMTTYPE=image/png:https://motorcyclesafari.com/wp-content/uploads/2015/05/MMA-Camp-n-Jam-2015-web.png
END:VEVENT
BEGIN:VEVENT
DTSTART;VALUE=DATE:20150724
DTEND;VALUE=DATE:20150727
DTSTAMP:20260425T042303
CREATED:20150720T001433Z
LAST-MODIFIED:20150720T001433Z
UID:678-1437696000-1437955199@motorcyclesafari.com
SUMMARY:Not Forgotten Rally - Bradford Upon Avon RUFC
DESCRIPTION:Come and Join us at best chilled out Rally of the year. Great music\, Drink\, Food\, Trade Stalls\, Showers\, Toliets. \nContact For Tickets \nSteve Dix \nMC Patch Clubs By Prior Appointment \n 
URL:https://motorcyclesafari.com/event/not-forgotten-rally-bradford-upon-avon-rufc/
LOCATION:Bradford On Avon Rugby Football Club\, Bradford On Avon RFC Ashley Lane\, Bradford-on-Avon\, Wiltshire \, BA15 2HR\, United Kingdom
CATEGORIES:Chairity Event,Fund Raiser
ATTACH;FMTTYPE=image/jpeg:https://motorcyclesafari.com/wp-content/uploads/2015/07/NFR-2015.jpg
ORGANIZER;CN="All Arms Veterans Motorcycle Club":MAILTO:secretary@aavmcc.co.uk
END:VEVENT
BEGIN:VEVENT
DTSTART;TZID=America/Phoenix:20150627T100000
DTEND;TZID=America/Phoenix:20150627T160000
DTSTAMP:20260425T042303
CREATED:20150510T233414Z
LAST-MODIFIED:20150510T233414Z
UID:425-1435399200-1435420800@motorcyclesafari.com
SUMMARY:MMA of AZ RCD Bikini Bike Wash
DESCRIPTION:The Modified Motorcycle Association of Arizona\, Rim Country District’s annual Bikini Bike Wash \n10:00 am until ??? \n  \nWet T-Shirt Contest \nRaflle \nBike Show \n50/50 Drawing \nMusic by BAND-X \n 
URL:https://motorcyclesafari.com/event/mma-of-az-rcd-bikini-bike-wash/
LOCATION:The Flying Grizzly Pub & Grub\, 5079 AZ-87\, Strawberry\, AZ\, 85544\, United States
CATEGORIES:Fund Raiser
ATTACH;FMTTYPE=image/jpeg:https://motorcyclesafari.com/wp-content/uploads/2015/05/mma-az-logo.jpg
END:VEVENT
BEGIN:VEVENT
DTSTART;TZID=America/Phoenix:20150627T100000
DTEND;TZID=America/Phoenix:20150627T150000
DTSTAMP:20260425T042303
CREATED:20150617T225132Z
LAST-MODIFIED:20150617T225132Z
UID:559-1435399200-1435417200@motorcyclesafari.com
SUMMARY:6th Annual Ride for Rescue Cats
DESCRIPTION:We are so pleased to be holding our 6th Annual Ride for Rescue Cats to be held on June 27th in memory of â€œLittle Jackâ€. \nIf you collect $50.00 in pledges from family and friends you can ride free \nFolks can register from 9 a.m. to 9:45 a.m. on ride day or can pre-register by contacting Big Al/Fran at 613-256-3726 or emailing fluffyb@xplornet.com if you need more info. \nWe welcome all riders\, bikes\, clubs to join us on our scenic rural roads for a fun day of safe riding and meeting new folks. \nTommy Levi of Levi Home Hardware in Almonte is once again supporting this ride by allowing us to set up in his parking lot. All proceeds from this ride will be donated to Country Cat Sanctuary a non profit\, registered charity. If you are not able to take part in the ride you can always drop off a donation on ride day\, adopt one of the felines\, sponsor one\, donate food or hold a fund raising event yourself such as a garage sale and donate the proceeds. \nThe ride will take you through some of the most scenic\, spectacular\, curved rural roads in the valley. The ride ends with a light lunch\, prizes and two hand carved awards for the two top pledge collectors. \n 
URL:https://motorcyclesafari.com/event/6th-annual-ride-for-rescue-cats/
LOCATION:Levi Home Hardware Building Centre\, 476 Ottawa Street\, R.R. #4\, Amonte\, ON\, K0A 1A0\, Canada
CATEGORIES:Chairity Event,Fund Raiser
ATTACH;FMTTYPE=image/jpeg:https://motorcyclesafari.com/wp-content/uploads/2015/06/ride-for-rescue-cats.jpg
ORGANIZER;CN="Country Cat Sanctuary":MAILTO: fluffyb@xplornet.com
END:VEVENT
BEGIN:VEVENT
DTSTART;VALUE=DATE:20150611
DTEND;VALUE=DATE:20150615
DTSTAMP:20260425T042303
CREATED:20150430T033458Z
LAST-MODIFIED:20150430T033458Z
UID:272-1433980800-1434326399@motorcyclesafari.com
SUMMARY:24th Annual Too Broke For Sturgis
DESCRIPTION:ADMISSION:\n$35 per person for weekend pass\n$25 per person Saturday pass\n\nABATE members get $5 off per person for weekend passes\n*** An additional $20 for ALL RVâ€™s\, tow behinds & trailers\, except motorcycle trailers\n\nBYOB No Cash Bar in the Arena\nPackage Liquor available at the Lodge Bar & Store\n\nAVAILABLE ONSITE MORMON LAKE LODGE\nCabins â€¢ General Store â€¢ RV Spaces w/hookups\nBeverages & Ice â€¢ Gas â€¢ Restaurant â€¢ Coin Operated Showers\nLive Music Fri & Sat Nites â€¢ Bike Show\nEvent Camping Thurs\, Fri\, Sat Nites â€¢ Event Pins to the first 1500\nPoker Run Poker Walk â€¢ MS. Too Broke â€¢ Wet T-Shirt Contest\nTattoo Contest â€¢ Bike Games â€¢ People Games\n\nMention ABATE for 10% discount on cabin and RV Hook-ups\n\nFor more info Mormon Lake Lodge (928) 354-2227\nEvent & Vendor Info. (520) 371-1735\n\nNo 4 Wheelers in Tent Area ~ No Attitudes ~ No Refunds ~ No Open Carry of Weapons
URL:https://motorcyclesafari.com/event/24th-annual-too-broke-for-sturgis/
LOCATION:Mormon Lake Lodge\, 1991 South Mormon Lake Road\, Mormon Lake\, AZ\, 86038\, United States
CATEGORIES:Fund Raiser
ATTACH;FMTTYPE=image/png:https://motorcyclesafari.com/wp-content/uploads/2015/04/abateofaz.org-toobroke-pics-Abate-TBFS-AD-2015.pdf.png
ORGANIZER;CN="A.B.A.T.E. of AZ":MAILTO:events@abateofaz.org
END:VEVENT
BEGIN:VEVENT
DTSTART;TZID=America/Phoenix:20150606T180000
DTEND;TZID=America/Phoenix:20150606T210000
DTSTAMP:20260425T042303
CREATED:20150506T003940Z
LAST-MODIFIED:20150506T004400Z
UID:379-1433613600-1433624400@motorcyclesafari.com
SUMMARY:ABATE of AZ East Valley Chapter Spaghetti Feed
DESCRIPTION:All you can eat! \nSpaghetti\, Meatballs\, Garlic Bread\, Salad\, Desert \n50/50 Drawing\, Games\, DJ Music\, Door Prizes\, Prizes for Kids Activities \n1 Block east of Dobson road. \nCome on out and have a great time with family and friends! \n  \n 
URL:https://motorcyclesafari.com/event/abate-of-az-east-valley-chapter-spaghetti-feed/
LOCATION:Fraternal Order of Eagles #3468 Mesa Tri-City\, 1712 W. Broadway Rd. #108\, Mesa\, AZ\, 85202\, United States
CATEGORIES:Fund Raiser
END:VEVENT
BEGIN:VEVENT
DTSTART;VALUE=DATE:20150522
DTEND;VALUE=DATE:20150526
DTSTAMP:20260425T042303
CREATED:20150518T181714Z
LAST-MODIFIED:20150522T223757Z
UID:459-1432252800-1432598399@motorcyclesafari.com
SUMMARY:AZ VNV/LV MC Memorial Day Weekend
DESCRIPTION:Tonto Village 15 Miles east of Payson on Highway 260 – Watch for sign and turn north. \nSOMETHING FOR EVERYONE \n\nCamping\nVendors\nRaffle & 50/50\nBike Games\nShooting Match\nLive Band\nBrotherhood & Good Times\nMUSIC BY PLUM KRAZY\n\nMonday morning ride to Green Valley Park in Payson for Memorial Day Ceremonies (KSU 9 am). If you are not a club member\,Â join in the BACK of the procession BEHIND club members.. \nContact Shaggy 928-978-9924 \nQuality In in Payson (for those who don’t camp) \n$109.99 Single / $119.99 Double \n 
URL:https://motorcyclesafari.com/event/az-vnvlv-mc-memorial-day-weekend/
LOCATION:Double D Restaurant & Bar at Tonto Village\, Johnson Blvd.\, Payson\, AZ\, 85541\, United States
CATEGORIES:Fund Raiser
ATTACH;FMTTYPE=image/jpeg:https://motorcyclesafari.com/wp-content/uploads/2015/05/11334106_358221284371783_8115370132278755400_o.jpg
END:VEVENT
BEGIN:VEVENT
DTSTART;VALUE=DATE:20150501
DTEND;VALUE=DATE:20150504
DTSTAMP:20260425T042303
CREATED:20150428T205550Z
LAST-MODIFIED:20150509T004859Z
UID:249-1430438400-1430697599@motorcyclesafari.com
SUMMARY:Wild In The Weeds
DESCRIPTION:ABATE of Arizona’s High Country Chapter Presents… \nThe 11th Annual Wild in the Weeds Old School Biker Rally\nMay 1\, 2 3 at the Punkin Center Bar & Grill in Tonto Basin Arizona \n13 miles east of State Route 87 on State Route 188 at Mile Post 262\nGPS 33.872946\, -111.314277 \nRV and Tent Spaces Available\nMotel Next Door (mention ABATE of r Discount)\n877-479-2229 for Reservations at Motel \nFood specials all weekend\nBreakfast Buffet Saturday and Sunday \nBike and People Games\nBead Run\nWet T-Shirt Contest\nSilent Auction \nLive Entertainment Friday and Saturday Nights\nBand-X – Friday\nPlum Crazy – Saturday \n$15 Single / $25 Couple
URL:https://motorcyclesafari.com/event/wild-in-the-weeds/
LOCATION:Punkin Center Lodge\, Bar and Grill\, Old Highway 188\, Tonto Basin\, AZ\, United States
CATEGORIES:Fund Raiser
END:VEVENT
END:VCALENDAR