BEGIN:VCALENDAR
VERSION:2.0
PRODID:-//Motorcycle Safari - ECPv6.13.1//NONSGML v1.0//EN
CALSCALE:GREGORIAN
METHOD:PUBLISH
X-ORIGINAL-URL:https://motorcyclesafari.com
X-WR-CALDESC:Events for Motorcycle Safari
REFRESH-INTERVAL;VALUE=DURATION:PT1H
X-Robots-Tag:noindex
X-PUBLISHED-TTL:PT1H
BEGIN:VTIMEZONE
TZID:America/Phoenix
BEGIN:STANDARD
TZOFFSETFROM:-0700
TZOFFSETTO:-0700
TZNAME:MST
DTSTART:20150101T000000
END:STANDARD
END:VTIMEZONE
BEGIN:VEVENT
DTSTART;TZID=America/Phoenix:20161022T090000
DTEND;TZID=America/Phoenix:20161022T170000
DTSTAMP:20260424T174458
CREATED:20160928T233848Z
LAST-MODIFIED:20160928T233848Z
UID:2923-1477126800-1477155600@motorcyclesafari.com
SUMMARY:6th Annual Ride to Benefit the AZ Fisher House
DESCRIPTION:Pre-register today @ MAD4VETS.orgÂ for AZ Fisher House Ride on October 22nd!\nGonna be an awesome ride and Finance of America Mortgage has graciously donated dinner to the first 150 people at the event (includes Riders pre-registered). \n 
URL:https://motorcyclesafari.com/event/6th-annual-ride-to-benefit-the-az-fisher-house/
LOCATION:American Legion Post 107\, 20001 N. Cave Creek Rd\, Phoenix\, AZ\, 85024\, United States
CATEGORIES:Chairity Event
ATTACH;FMTTYPE=image/jpeg:https://motorcyclesafari.com/wp-content/uploads/2016/09/14434880_687752394715252_3218639861615858042_o.jpg
END:VEVENT
BEGIN:VEVENT
DTSTART;TZID=America/Phoenix:20161008T130000
DTEND;TZID=America/Phoenix:20161008T180000
DTSTAMP:20260424T174458
CREATED:20160618T232258Z
LAST-MODIFIED:20160618T232258Z
UID:2866-1475931600-1475949600@motorcyclesafari.com
SUMMARY:Biker's Mall 1 Year Anniversary Celebration
DESCRIPTION:Customer Appreciation Party \n4 Corner Store Blessing bthe Christian Motorcycle Association at Noon! \nAlice Cooper signed guitar auction at 3 PM \n100% of proceeds go to Arizona Bike Week Charities \nWhat the Hell Bar & Grill Smoker on Location \nMusic by 74th Street Band \nFood – Raffles & Vendors
URL:https://motorcyclesafari.com/event/bikers-mall-1-year-anniversary-celebration/
LOCATION:Biker’s Mall\, 525 S Gilbert Rd.\, Mesa\, AZ\,  85204\, United States
CATEGORIES:Chairity Event
ATTACH;FMTTYPE=image/jpeg:https://motorcyclesafari.com/wp-content/uploads/2016/06/IMG_20160618_0002.jpg
END:VEVENT
BEGIN:VEVENT
DTSTART;TZID=America/Phoenix:20160924T190000
DTEND;TZID=America/Phoenix:20160924T230000
DTSTAMP:20260424T174458
CREATED:20160516T200608Z
LAST-MODIFIED:20160516T200608Z
UID:2429-1474743600-1474758000@motorcyclesafari.com
SUMMARY:2016 Bike & Car Show Tuscon
DESCRIPTION:Presented by Hells Angels Tuscon \nPartial Proceeds benefit Teens in Need \nAlso Celebrating Chuckle’s Most Excellent Birthday \n 
URL:https://motorcyclesafari.com/event/2016-bike-car-show-tuscon/
LOCATION:Hotrods Old Vail\, 10500 E. Vail Rd.\, Tucson\, AZ\, 85747\, United States
CATEGORIES:Chairity Event,Fund Raiser
ATTACH;FMTTYPE=image/jpeg:https://motorcyclesafari.com/wp-content/uploads/2016/05/1936078_570401046454439_5594140973928382596_n.jpg
ORGANIZER;CN="HAMC Tucson":MAILTO:onepercenter@hotmail.com
END:VEVENT
BEGIN:VEVENT
DTSTART;VALUE=DATE:20160902
DTEND;VALUE=DATE:20160905
DTSTAMP:20260424T174458
CREATED:20160713T195320Z
LAST-MODIFIED:20160713T195320Z
UID:2876-1472774400-1473033599@motorcyclesafari.com
SUMMARY:6th Annual Camp-N-Jam 2016
DESCRIPTION:Labor Day Weekend Sept. 2-4\, 2016 \nDouble D in Tonto Village off highway 260 \n“The Mods” band will play Friday and Saturday evening. \nCamping\, Games\, 50/50\, Silent Auction\, Raffles\, Vendors Welcome \nOnly $25 per person or $40 / Couple for the entire weekend. \n 
URL:https://motorcyclesafari.com/event/6th-annual-camp-n-jam-2016/
LOCATION:Double D Restaurant & Bar at Tonto Village\, Johnson Blvd.\, Payson\, AZ\, 85541\, United States
CATEGORIES:Chairity Event,Fund Raiser
ATTACH;FMTTYPE=image/jpeg:https://motorcyclesafari.com/wp-content/uploads/2016/07/Camp-N-Jam-2016.jpg
END:VEVENT
BEGIN:VEVENT
DTSTART;TZID=America/Phoenix:20160827T100000
DTEND;TZID=America/Phoenix:20160827T170000
DTSTAMP:20260424T174458
CREATED:20160715T180255Z
LAST-MODIFIED:20160715T180255Z
UID:2878-1472292000-1472317200@motorcyclesafari.com
SUMMARY:7th ANNUAL RIDE FOR RESCUE CATS
DESCRIPTION:We are so pleased to be holding our\n7th ANNUAL RIDE FOR RESCUE CATS\nin memory of “Little Jack”\n\n\nWhen? August 27th\, 2016 at 10:00 am (rain or shine)\nWhere? In Almonte at Levi Home Hardware\n\n  \n\n$20.00 PER RIDER – $10.00 PER PASSENGER\n\n\n* If you collect $50.00 in pledges from family and friends you can ride free *\nFolks can register from 9 a.m. to 9:45 a.m. on ride day or can pre-register by\ncontacting Big Al/Fran at 613-256-3726 or emailing fluffyb@xplornet.com\nif you need more info. \nWe welcome all riders\, bikes\, clubs to join us on our scenic rural roads for a\nfun day of safe riding and meeting new folks.
URL:https://motorcyclesafari.com/event/7th-annual-ride-for-rescue-cats/
LOCATION:Levi Home Hardware Building Centre\, 476 Ottawa Street\, R.R. #4\, Amonte\, ON\, K0A 1A0\, Canada
CATEGORIES:Chairity Event
ATTACH;FMTTYPE=image/png:https://motorcyclesafari.com/wp-content/uploads/2016/07/ride-for-rescue-cats.png
ORGANIZER;CN="Country Cat Sanctuary":MAILTO: fluffyb@xplornet.com
END:VEVENT
BEGIN:VEVENT
DTSTART;TZID=America/Phoenix:20160625T110000
DTEND;TZID=America/Phoenix:20160625T170000
DTSTAMP:20260424T174458
CREATED:20160421T223909Z
LAST-MODIFIED:20160421T230711Z
UID:1747-1466852400-1466874000@motorcyclesafari.com
SUMMARY:3rd Annual Runninâ€™ With The Pups presented by Old Bastards Payson
DESCRIPTION:BENEFITS CENTRAL ARIZONA HUMANE SOCIETY \n$10 for Food and Band – age 10 and under FREE! \nBBQ\, Dunk Tank\, Vendors\, Auction\, Raffles\, 50/50 \nLIVE MUSIC \nGrand Prize Raffle 60″” LG TV \nSPUR BAR Â in Star Valley\, AZ June 25th 11 – 5
URL:https://motorcyclesafari.com/event/3rd-annual-runnin-with-the-pups-presented-by-old-bastards-payson/
LOCATION:Spur Bar\, 3964 Hwy 260\, Star Valley\, AZ\, 85541\, United States
CATEGORIES:Chairity Event
ATTACH;FMTTYPE=image/jpeg:https://motorcyclesafari.com/wp-content/uploads/2016/04/2016-runningwiththepups.jpg
END:VEVENT
BEGIN:VEVENT
DTSTART;TZID=America/Phoenix:20160514T090000
DTEND;TZID=America/Phoenix:20160514T140000
DTSTAMP:20260424T174458
CREATED:20160512T170838Z
LAST-MODIFIED:20160512T170838Z
UID:2380-1463216400-1463234400@motorcyclesafari.com
SUMMARY:21st Annual Jester Memorial Run
DESCRIPTION:Verde Valley District Proudly present 2016 Jester Memorial Run. \nThis years run is dedicated to Steve ‘Muskrat’ Musgrave who was a huge supporter of MMA and Motorcyclist Rights. \nAll Proceeds benefit Motorcycle Safety and Awareness including our Down Riders Fund.\nRegistration starts at 9 am at Auto Motion – 595 S 6th Street\, Cottonwood. \nKSU at 10:30. End Party starts at 1 pm at The Chaparral Bar with Live Music\, Raffles\, 50/50 and a fun Party! \n 
URL:https://motorcyclesafari.com/event/21st-annual-jester-memorial-run/
LOCATION:Auto Motion\, 595 S 6th Street\, Cottonwood\, AZ\, 86326\, United States
CATEGORIES:Chairity Event,Fund Raiser
ATTACH;FMTTYPE=image/jpeg:https://motorcyclesafari.com/wp-content/uploads/2016/05/2016-JesterRun.jpg
END:VEVENT
BEGIN:VEVENT
DTSTART;TZID=America/Phoenix:20160416T130000
DTEND;TZID=America/Phoenix:20160416T170000
DTSTAMP:20260424T174458
CREATED:20160410T010951Z
LAST-MODIFIED:20160410T010951Z
UID:1726-1460811600-1460826000@motorcyclesafari.com
SUMMARY:OB MC - Soldiers Best Friend
DESCRIPTION:Presented by Old Bastards Motorcycle Club – Salt River \nCome on out with the whole family to enjoy good music\, good food and a good time. 50/50 and a motorcycle is being raffled. \n 
URL:https://motorcyclesafari.com/event/ob-mc-soldiers-best-friend/
LOCATION:Raceway Bar & Grill\, 49237 W Papago Rd\, Ste 7\,  Maricopa\, AZ\, 85139\, United States
CATEGORIES:Chairity Event
ATTACH;FMTTYPE=image/jpeg:https://motorcyclesafari.com/wp-content/uploads/2016/04/ob-sr.jpg
END:VEVENT
BEGIN:VEVENT
DTSTART;TZID=America/Phoenix:20160319T073000
DTEND;TZID=America/Phoenix:20160319T093000
DTSTAMP:20260424T174458
CREATED:20160302T232928Z
LAST-MODIFIED:20160302T232928Z
UID:1713-1458372600-1458379800@motorcyclesafari.com
SUMMARY:Inaugural Dakotaâ€™s Run Poker Run
DESCRIPTION:Dakotaâ€™s Run benefiting Leukemia and Lymphoma Society will start at Arrowhead Harley-Davidson â€“ 16130 N. Arrowhead Fountains Center Dr\, Peoria\, AZ. Registration from 7:30 â€“ 9:30 A.M. \n Last bike out 10:00 A.M. \n Please join the Green Knights Chapter 28 for our Inaugural Dakotaâ€™s Run Poker Run. \n There will be music\, vendors\, food\, raffles\, 50/50 and a silent auction. \n Donations will also be accepted.
URL:https://motorcyclesafari.com/event/inaugural-dakotas-run-poker-run/
LOCATION:Arrowhead Harley-Davidson\, 16130 N. Arrowhead Fountains Center Dr.\, Peoria\, AZ\, 85382\, United States
CATEGORIES:Chairity Event
ATTACH;FMTTYPE=image/jpeg:https://motorcyclesafari.com/wp-content/uploads/2016/03/2016_03_19_dakota.jpg
END:VEVENT
BEGIN:VEVENT
DTSTART;TZID=America/Phoenix:20160220T090000
DTEND;TZID=America/Phoenix:20160220T170000
DTSTAMP:20260424T174458
CREATED:20160204T001927Z
LAST-MODIFIED:20160204T001927Z
UID:1291-1455958800-1455987600@motorcyclesafari.com
SUMMARY:Southern AZ Chapter ABATE of AZ Inaugural Poker Run
DESCRIPTION:Proceeds benefit the Arizona Fisher House\nFor more information contact Gizmo at (520) 343-5338
URL:https://motorcyclesafari.com/event/southern-az-chapter-abate-of-az-inaugural-poker-run/
LOCATION:Bashful Bandit\, 3686 E Speedway Blvd\,\, Tucson\, AZ\, 85716\, United States
CATEGORIES:Chairity Event
ATTACH;FMTTYPE=image/jpeg:https://motorcyclesafari.com/wp-content/uploads/2016/02/tuscon-poker-run.jpg
END:VEVENT
BEGIN:VEVENT
DTSTART;TZID=America/Phoenix:20151212T100000
DTEND;TZID=America/Phoenix:20151212T170000
DTSTAMP:20260424T174458
CREATED:20151114T214823Z
LAST-MODIFIED:20151207T222532Z
UID:1172-1449914400-1449939600@motorcyclesafari.com
SUMMARY:13th Annual Barbie Hensler Memorial Toy Run
DESCRIPTION:Presented By High Country Chapter ABATE of AZ \nHosted by Sidewinders Tavern & Grill\, Pine\, AZ \nMusic – Raffle Prizes – 50/50 – Silent Auction \nWE NEED TO FIND GIFTS FOR 92 CHILDREN AGED 2 YEARS TO 17 YEARS. PLEASE HELP! \nParty starts at 10 am and ends when the bar closes. \nToy collection run leaves promptly at 11 AM. \nCollection boxes can be found atÂ participating businesses thanks toÂ MMA Rim Country Chapter business partners and ABATE Business Members and the fine folks at many rim country locations. \nCollected gifts will be delivered by Moose Lodge #852 in Star Valley. \nListen to our KRIM 96.3 FM Radio AD: ABATE OF AZ TOY DRIVE 2015.mp3
URL:https://motorcyclesafari.com/event/13th-annual-barbie-hensler-meorial-toy-run/
LOCATION:Sidewinders Tavern & Grill\,  6114 Hardscrabble Mesa Rd.\, Pine\, AZ\, 85544\, United States
CATEGORIES:Chairity Event,Fund Raiser
ATTACH;FMTTYPE=image/png:https://motorcyclesafari.com/wp-content/uploads/2015/11/toy-run-flyer-final-image1.png
END:VEVENT
BEGIN:VEVENT
DTSTART;TZID=America/Phoenix:20151122T100000
DTEND;TZID=America/Phoenix:20151122T123000
DTSTAMP:20260424T174458
CREATED:20151120T183322Z
LAST-MODIFIED:20151120T183322Z
UID:1174-1448186400-1448195400@motorcyclesafari.com
SUMMARY:Birds on Bikes 2015
DESCRIPTION:Bikers helping to feed the homeless for the holidays. \nStrap a Turkey on your bike\, meet at a mstarting point (or designate one fo your own for your group) and ride to St. Vincent de Paul in Phoenix to arrive NO EARLIER than 11:30 AM. \nCash donations and non-perishables items always accepted. \n 
URL:https://motorcyclesafari.com/event/birds-on-bikes-2015/
LOCATION:St. Vincent de Paul\, 420 W. Watkins Road\, Phoenix\, AZ\, 85003\, United States
CATEGORIES:Chairity Event
ATTACH;FMTTYPE=image/jpeg:https://motorcyclesafari.com/wp-content/uploads/2015/11/mma-birds-on-bikes-phx.jpg
ORGANIZER;CN="Modified Motorcycle Association of Arizona":MAILTO:activities@mma-az.org
END:VEVENT
BEGIN:VEVENT
DTSTART;TZID=America/Phoenix:20151121T090000
DTEND;TZID=America/Phoenix:20151121T170000
DTSTAMP:20260424T174458
CREATED:20151114T181809Z
LAST-MODIFIED:20151114T181809Z
UID:1169-1448096400-1448125200@motorcyclesafari.com
SUMMARY:15th Annual Birds on Bikes - MMA of AZ Rim Country District
DESCRIPTION:Sponsored by Safeway Helping Needy Families \nKMOG Live Remote Broadcast! \nSafety Booth. \nRide leaves at 10 AM to deliver 20 Thanksgiving Dinners! \nBirds on Bikes will take place on Saturday\, November 21st\, starting in the Payson Safeway parking lot. There will be a safety booth and delivery of 20 Thanksgiving meals to families in the area. We meet promptly at 9:00 A.M. See you there.
URL:https://motorcyclesafari.com/event/15th-annual-birds-on-bikes-mma-of-az-rim-country-district/
LOCATION:Safeway\, 401 E. Hwy 260\, Payson\, AZ\, 85541\, United States
CATEGORIES:Chairity Event
ATTACH;FMTTYPE=image/png:https://motorcyclesafari.com/wp-content/uploads/2015/11/birdonbikes.png
END:VEVENT
BEGIN:VEVENT
DTSTART;TZID=America/Phoenix:20151107T090000
DTEND;TZID=America/Phoenix:20151107T150000
DTSTAMP:20260424T174458
CREATED:20150916T174426Z
LAST-MODIFIED:20150920T043021Z
UID:859-1446886800-1446908400@motorcyclesafari.com
SUMMARY:31st Annual Verde Valley Toy Run
DESCRIPTION:Single Riders $20 plus toy \n\n\n\n\n\n\n\n\n\n Passengers $10 plus toy\nCars $20 plus toy\nPassengers $10 plus toyRegistration starts at 9:00 amEnd Party hosted by Verde Valley Moose Lodge at 12:30 pm \nFor more information contact Cheri Marx (928) 301-4485 or Lizzy Dickens (928) 274-0413
URL:https://motorcyclesafari.com/event/31st-annual-verde-valley-toy-run/
LOCATION:Walmart Cottonwood\, 2003 E Rodeo Dr.\, Cottonwood\, AZ\, 86326\, United States
CATEGORIES:Chairity Event
ATTACH;FMTTYPE=image/jpeg:https://motorcyclesafari.com/wp-content/uploads/2015/09/11951739_444850328973328_187881339876757234_o.jpg
END:VEVENT
BEGIN:VEVENT
DTSTART;VALUE=DATE:20151106
DTEND;VALUE=DATE:20151107
DTSTAMP:20260424T174458
CREATED:20151107T001600Z
LAST-MODIFIED:20151107T001600Z
UID:1132-1446768000-1446854399@motorcyclesafari.com
SUMMARY:13th Annual BARBIE HENSLER MEMORIAL TOY RUN
DESCRIPTION:Come and join Santa as we make a Toy Collection Run around the Rim Country and party all day at Sidewinders Tavern & Grill in Pine Arizona. \nPlease bring a new toy or other donation for ages toddler to teenager. \nParty starts at 10 AM – Collection Run leaves at 11 AM – Party ends when the bar closes! \nWe will have Music\, Raffle Prizes\, 50/50 and a silent auction! \nAll gifts and monies collected will be distributed to Rim Country needy families by the Moose Lodge #852 in Star Valley \n 
URL:https://motorcyclesafari.com/event/13th-annual-barbie-hensler-memorial-toy-run/
LOCATION:Sidewinders Tavern & Grill\,  6114 Hardscrabble Mesa Rd.\, Pine\, AZ\, 85544\, United States
CATEGORIES:Chairity Event,Fund Raiser
ATTACH;FMTTYPE=image/png:https://motorcyclesafari.com/wp-content/uploads/2015/11/toy-run-flyer-final-image.png
END:VEVENT
BEGIN:VEVENT
DTSTART;TZID=America/Phoenix:20151031T180000
DTEND;TZID=America/Phoenix:20151031T210000
DTSTAMP:20260424T174458
CREATED:20151013T011108Z
LAST-MODIFIED:20151013T011108Z
UID:998-1446314400-1446325200@motorcyclesafari.com
SUMMARY:1st Annual Old Bastards Payson Halloween Bags & Trunks or Treat
DESCRIPTION:Motorcycle & Auto Show + Halloween Party! \nBENEFIT TO RAISE MONEY FOR PAYSON FAMILIES HOLIDAY MEALS \nNative Grill & Wings \n6 – 9 pm Halloween Night \nTrick or Treat’ers bring a Can of Food for Admission \n50/50 — Raffles — Give Aways \nJohn Scott Band will be performing \nMotorcycle & Vehicles RSV by Oct 21 – 928-468-2428
URL:https://motorcyclesafari.com/event/1st-annual-old-bastards-payson-halloween-bags-trunks-or-treat/
LOCATION:Native Grill & Wings\, 210 AZ-260\, Payson\, AZ\, 85541\, United States
CATEGORIES:Chairity Event,Fund Raiser
ATTACH;FMTTYPE=image/jpeg:https://motorcyclesafari.com/wp-content/uploads/2015/10/12141517_491079184386626_5729187597342037361_n.jpg
END:VEVENT
BEGIN:VEVENT
DTSTART;VALUE=DATE:20151018
DTEND;VALUE=DATE:20151019
DTSTAMP:20260424T174458
CREATED:20151010T001812Z
LAST-MODIFIED:20151010T001812Z
UID:993-1445126400-1445212799@motorcyclesafari.com
SUMMARY:Petaluma Elks Lodge 901 PURPLE PIG RUN
DESCRIPTION:This run has been annual but was skipped last year.Â All are welcome for the Run\, BBQ and Car Show.\n\n\n\nWhile the flyer states this benefits Eks children’s charities I have been told Petaluma Elks will host a Military Family Appreciation Picnic as a thanks to our Active Military and Veterans! \n\n\n\n\n\n\n\n\n\nPoker Run sign ups begins 0830 and KSU is approx 0930 hrs. Cars may be included in a 2nd group.\n\nThe route is 70 miles\, 2 hrs\, begins and ends at The Elks Lodge\, 2105 So McDowell in Petaluma. Stops anticipated at Spanckys\, in Occidental and at Washoe House. \n\n\n\n$ 25 RIDER (BBQ\, T-SHIRT) $ 15 PASSENGER (BBQ)\n$ 25 PASSENGER (BBQ\, T-SHIRT) $ 10 CAR SHOW ENTRY FEE\n$ 15 TRI-TIP (BBQ ONLY) $ 5 TASTING FEE $ 15 T-SHIRT
URL:https://motorcyclesafari.com/event/petaluma-elks-lodge-901-purple-pig-run/
LOCATION:PETALUMA ELKS LODGE\, 2105 SOUTH McDOWELL BLVD.\, Petaluma\, CA\, 94954\, United States
CATEGORIES:Chairity Event,Fund Raiser
ATTACH;FMTTYPE=image/png:https://motorcyclesafari.com/wp-content/uploads/2015/10/Screenshot-2015-10-09-17.07.01.png
ORGANIZER;CN="Petaluma Elks Lodge 901":MAILTO:info@elks901.org
END:VEVENT
BEGIN:VEVENT
DTSTART;TZID=America/Phoenix:20151003T090000
DTEND;TZID=America/Phoenix:20151003T170000
DTSTAMP:20260424T174458
CREATED:20150914T200026Z
LAST-MODIFIED:20150914T200026Z
UID:847-1443862800-1443891600@motorcyclesafari.com
SUMMARY:2015 C.U.F.F.S. Poker Run
DESCRIPTION:The ArizonaÂ Choir Boys Law Enforcement Motorcycle Club hosts the C.U.F.F.S. RunÂ to raise money for Peace Officers and their families who are seriously injuredÂ or killed in the line of duty. Â Come out and ride with the Choir BoysÂ – open to all bikes. Â Non-escorted ride so you can ride at your own pace. \nRegistration begins at Scottsdale Harley Davidson & your first card is drawn. Â Then threeÂ stops are made along a scenic 60Â mileÂ ride including a skilled shooting draw and a stop for lunch and cigars. Â The entire route is on well-maintainedÂ paved roads and highways & all stops have paved parkingÂ lots. Cages are welcome to drive the route. Â  See “Ride Information” tab above for stop details and map. \nSave $5 when you pre-register on-line.
URL:https://motorcyclesafari.com/event/2015-c-u-f-f-s-poker-run/
LOCATION:We-Ko-Pa Resort & Conference Center\, 10438 NORTH FORT MCDOWELL ROAD\, FOUNTAIN HILLS\, AZ\, 85264\, United States
CATEGORIES:Chairity Event
ATTACH;FMTTYPE=image/png:https://motorcyclesafari.com/wp-content/uploads/2015/09/2015-cuffs-run.pdf.png
END:VEVENT
BEGIN:VEVENT
DTSTART;VALUE=DATE:20150724
DTEND;VALUE=DATE:20150727
DTSTAMP:20260424T174458
CREATED:20150720T001433Z
LAST-MODIFIED:20150720T001433Z
UID:678-1437696000-1437955199@motorcyclesafari.com
SUMMARY:Not Forgotten Rally - Bradford Upon Avon RUFC
DESCRIPTION:Come and Join us at best chilled out Rally of the year. Great music\, Drink\, Food\, Trade Stalls\, Showers\, Toliets. \nContact For Tickets \nSteve Dix \nMC Patch Clubs By Prior Appointment \n 
URL:https://motorcyclesafari.com/event/not-forgotten-rally-bradford-upon-avon-rufc/
LOCATION:Bradford On Avon Rugby Football Club\, Bradford On Avon RFC Ashley Lane\, Bradford-on-Avon\, Wiltshire \, BA15 2HR\, United Kingdom
CATEGORIES:Chairity Event,Fund Raiser
ATTACH;FMTTYPE=image/jpeg:https://motorcyclesafari.com/wp-content/uploads/2015/07/NFR-2015.jpg
ORGANIZER;CN="All Arms Veterans Motorcycle Club":MAILTO:secretary@aavmcc.co.uk
END:VEVENT
BEGIN:VEVENT
DTSTART;TZID=America/Phoenix:20150627T100000
DTEND;TZID=America/Phoenix:20150627T150000
DTSTAMP:20260424T174458
CREATED:20150617T225132Z
LAST-MODIFIED:20150617T225132Z
UID:559-1435399200-1435417200@motorcyclesafari.com
SUMMARY:6th Annual Ride for Rescue Cats
DESCRIPTION:We are so pleased to be holding our 6th Annual Ride for Rescue Cats to be held on June 27th in memory of â€œLittle Jackâ€. \nIf you collect $50.00 in pledges from family and friends you can ride free \nFolks can register from 9 a.m. to 9:45 a.m. on ride day or can pre-register by contacting Big Al/Fran at 613-256-3726 or emailing fluffyb@xplornet.com if you need more info. \nWe welcome all riders\, bikes\, clubs to join us on our scenic rural roads for a fun day of safe riding and meeting new folks. \nTommy Levi of Levi Home Hardware in Almonte is once again supporting this ride by allowing us to set up in his parking lot. All proceeds from this ride will be donated to Country Cat Sanctuary a non profit\, registered charity. If you are not able to take part in the ride you can always drop off a donation on ride day\, adopt one of the felines\, sponsor one\, donate food or hold a fund raising event yourself such as a garage sale and donate the proceeds. \nThe ride will take you through some of the most scenic\, spectacular\, curved rural roads in the valley. The ride ends with a light lunch\, prizes and two hand carved awards for the two top pledge collectors. \n 
URL:https://motorcyclesafari.com/event/6th-annual-ride-for-rescue-cats/
LOCATION:Levi Home Hardware Building Centre\, 476 Ottawa Street\, R.R. #4\, Amonte\, ON\, K0A 1A0\, Canada
CATEGORIES:Chairity Event,Fund Raiser
ATTACH;FMTTYPE=image/jpeg:https://motorcyclesafari.com/wp-content/uploads/2015/06/ride-for-rescue-cats.jpg
ORGANIZER;CN="Country Cat Sanctuary":MAILTO: fluffyb@xplornet.com
END:VEVENT
BEGIN:VEVENT
DTSTART;TZID=America/Phoenix:20150613T110000
DTEND;TZID=America/Phoenix:20150613T170000
DTSTAMP:20260424T174458
CREATED:20150518T013526Z
LAST-MODIFIED:20150518T014023Z
UID:449-1434193200-1434214800@motorcyclesafari.com
SUMMARY:Runninâ€™ With The Pups
DESCRIPTION:Admission includes plate of food. \nProceeds benefit the Humane Society of Central Arizona \nEvents Include: \n“Dunk The President” dunk tank! \n50/50 \nBike Show presented by Rough Cut Motorsports \nAuctions \nRaffle for a CUSTOM EZ-GO Gas Powered Golf Cart \nTickest are $25 each\, you need not be present to win \nOnly 400 Tickets will be sold \nDrawing is Sat. June 13\, 2015 at 4 pm at the Club House. \n  \n 
URL:https://motorcyclesafari.com/event/runnin-with-the-pups/
LOCATION:Old Bastards MC Payson\, 109 W. Phoenix St.\, Payson\, AZ\, 85541\, United States
CATEGORIES:Chairity Event
ATTACH;FMTTYPE=image/jpeg:https://motorcyclesafari.com/wp-content/uploads/2015/05/run-with-the-pups.jpg
END:VEVENT
BEGIN:VEVENT
DTSTART;TZID=America/Phoenix:20150606T083000
DTEND;TZID=America/Phoenix:20150606T133000
DTSTAMP:20260424T174458
CREATED:20150529T004729Z
LAST-MODIFIED:20150529T004729Z
UID:522-1433579400-1433597400@motorcyclesafari.com
SUMMARY:American Legion Riders #111 6th Annual Fallen Warrior Memorial Ride â€“ Christopherâ€™s Ride
DESCRIPTION:6th Annual American Legion Riders #111 Memorial Ride\nReminder to All Riders and Groups $20 rider\, $10 passenger\, includes BBQ\nThe BBQ is Open to All\, just $10 \n\nShow your Support for a Gold Star Daughter who lost her dadÂ in Afghanistan. \n\nRegistration: 0830-0930\, Windsor Town Green\, Cafe Noto\, 630 McClelland Dr\, Windsor CA \n\nBBQ: Villa Chanticleer Picnic Grounds Healdsburg\, CA 12 noon \n\n\nGREAT Raffle Prizes donated to be handed out to the lucky winners!
URL:https://motorcyclesafari.com/event/american-legion-riders-111-6th-annual-fallen-warrior-memorial-ride-christophers-ride/
LOCATION:Villa Chanticleer Picnic Grounds\, 1248 N Fitch Mountain Rd.\, Healdsburg\, CA\, 95448\, United States
CATEGORIES:Chairity Event
ATTACH;FMTTYPE=image/png:https://motorcyclesafari.com/wp-content/uploads/2015/05/Christopers-Ride.png
ORGANIZER;CN="American Legion  Riders #111":MAILTO:madmitch55@gmail.com
END:VEVENT
BEGIN:VEVENT
DTSTART;VALUE=DATE:20150516
DTEND;VALUE=DATE:20150517
DTSTAMP:20260424T174458
CREATED:20150506T210612Z
LAST-MODIFIED:20150506T211205Z
UID:386-1431734400-1431820799@motorcyclesafari.com
SUMMARY:1st Annual 100 mile Ride (FNQ)
DESCRIPTION:100 Mile Ride (FNQ); 16 May. Entertainment until late. Free camping so bring your swag. Registration from 8.30 am – Â 9:45 am; Departing 10 am. Harbor City H-D\, Dawson Highway\, Gladstone. End of the road: Avondale Hotel. Sponsored by Bikers Against Child Abuse – Port City Chapter \nPre-registration welcome: bacanut@yahoo.com.au \nLive Music: Phil Emmanuel\, Pop Standen\, and Dave Hoffman will be performing live. \nBike Show\, Tattoo Show\, Raffles – Hot Food and Cold Drinks available at hotel. \n 
URL:https://motorcyclesafari.com/event/1st-annual-100-mile-ride-fnq/
LOCATION:Harbour City Harley Davidson\, 85 Hanson Road\, Gladstone\, QLD\, 4680\, Australia
CATEGORIES:Chairity Event
ATTACH;FMTTYPE=image/jpeg:https://motorcyclesafari.com/wp-content/uploads/2015/05/baca.jpg
ORGANIZER;CN="B.A.C.A. Port City Chapter Inc.":MAILTO: portcity@bacaaust.com
END:VEVENT
END:VCALENDAR