BEGIN:VCALENDAR
VERSION:2.0
PRODID:-//Motorcycle Safari - ECPv6.13.1//NONSGML v1.0//EN
CALSCALE:GREGORIAN
METHOD:PUBLISH
X-WR-CALNAME:Motorcycle Safari
X-ORIGINAL-URL:https://motorcyclesafari.com
X-WR-CALDESC:Events for Motorcycle Safari
REFRESH-INTERVAL;VALUE=DURATION:PT1H
X-Robots-Tag:noindex
X-PUBLISHED-TTL:PT1H
BEGIN:VTIMEZONE
TZID:America/Phoenix
BEGIN:STANDARD
TZOFFSETFROM:-0700
TZOFFSETTO:-0700
TZNAME:MST
DTSTART:20200101T000000
END:STANDARD
END:VTIMEZONE
BEGIN:VEVENT
DTSTART;TZID=America/Phoenix:20201017T173000
DTEND;TZID=America/Phoenix:20201017T213000
DTSTAMP:20260424T141321
CREATED:20191115T004208Z
LAST-MODIFIED:20200317T192829Z
UID:4741-1602955800-1602970200@motorcyclesafari.com
SUMMARY:Riding For The Long Haul - 2020
DESCRIPTION:Arizona Motorcycle Safety and Awareness Foundations (AMSAF) 6th annual Riding For The Long Haul benefit takes a different turn in 2020. The dinner event\, held at Rustler’s Rooste\, will kick off Arizona’s motorcycle safety month with the theme of sharing the road with all drivers and riders. This community event will provide the rare opportunity to bring together local government\, law enforcement\, first responders\, trauma organizations\, hospitals\, and all community representatives who are concerned about highway safety and want to make a difference! \nWhile enjoying entertainment\, cash bar\, barbecue dinner and engaging speakers\, there will be raffles as well as live and silent auctions.  Please join AMSAF on May 2nd\, 2020 from 5:30pm to 9:30pm to raise awareness and funds to promote highway and motorcycle safety throughout Arizona. Additional details and sign up information can be found below. \nWhat: Charity dinner to promote motorcycle and highway safety\nWhere: Rustler’s Rooste\, 8383 South 48th Street\, Phoenix\, AZ 85044\nWhen: May 2nd from 5:30pm to 9:30pm \nPurchase tickets: www.AMSAF.org/RFTLH \nEvent Sponsorship is still available\, please email mick@amsaf.org for addition details.  All sponsorship levels include packages for dinner\, drinks and raffle tickets. \n\n$10\,000 Title Sponsor – Title Sponsors receive unsurpassed visibility\, exposure and recognition.\n$5\,000 Supporting Sponsor\n$2\,500 Platinum Sponsorship\n\nMick Degn\nExecutive Director\nArizona Motorcycle Safety and Awareness Foundation (AMSAF)\nwww.amsaf.org\nhttps://www.facebook.com/AMSAF.ORG/\nmick@amsaf.org\n602-312-4554
URL:https://motorcyclesafari.com/event/riding-for-the-long-haul-2020/
LOCATION:Rustler’s Rooste\, 8383 South 48th Street\, Phoenix\, AZ\, 85044\, United States
CATEGORIES:AMSAF,Fund Raiser,Open To Public
END:VEVENT
BEGIN:VEVENT
DTSTART;TZID=America/Phoenix:20200223T090000
DTEND;TZID=America/Phoenix:20200223T170000
DTSTAMP:20260424T141321
CREATED:20200116T214147Z
LAST-MODIFIED:20200116T214334Z
UID:4809-1582448400-1582477200@motorcyclesafari.com
SUMMARY:A Crash Course for the Motorcyclist
DESCRIPTION:Learn what to do in the first 5-30 minutes after a crash until professional help arrives. Helmet removal\, jaw thrust\, and moving the injured are all addressed & practiced.  6.0 CEs issued\n\nInstructor Led ASM Basic 100 series class.\n\nLead Instructor: Kristin Hinson.\n\nLocation: Legends Harley Davidson.\n\n Hosted by: The Law Offices of Samuel P. Moeller\, PLLC.\n\nThis class is OPEN to the general public.\n\nCost: $25.00/student due to sponsorship from The Law Offices of Samuel P. Moeller\, PLLC. Cost includes all course materials\, a patch\, a certificate\, and lunch!\n\nFor more information\, please contact Michelle at michelle@roadguardians.org or 262-706-3278.
URL:https://motorcyclesafari.com/event/a-crash-course-for-the-motorcyclist/
LOCATION:Legends Harley-Davidson\, 10434 S AZ-69\, Mayer\, AZ\, 86333\, United States
CATEGORIES:AMSAF,Motorcycle Safety,Open To Public
END:VEVENT
END:VCALENDAR